{"text_format":"1","workbook":"xlsx","n_sheets":8,"sheets":["ファイルの説明","入力シート","チェックリスト","様式第21（提出用）","別紙（提出用）","日本標準産業分類","中小企業者（判定用）","作業シート"],"not_rendered":{"charts":0,"images":0,"macros":1,"external_links":0,"defined_names":8,"comments":0,"pivot_tables":0},"unopened":[],"bounds":{"document_bytes":16777216,"sheet_cells":100000,"rows_first":2000,"rows_last":500,"rows_between":2000,"halvings":0,"cell_chars":16384,"cell_head_chars":4096},"cells_cut":0,"cells_raw":0,"read":"whole","date_system":"1900"}

{"sheet":"ファイルの説明","index":0,"n_rows":41,"n_cols":9,"rows_kept":41,"cut":false,"hidden":false,"merged":[[1,1,1,5],[1,8,1,10],[41,6,41,10],[35,1,35,10],[37,1,37,3],[39,1,39,3],[4,1,6,10],[9,1,11,10],[28,1,28,10],[30,1,30,10],[14,1,23,10]]}
[]
[null,"このファイルを利用者される方へ",null,null,null,null,null,null,"Ver.1.1"]
[]
[null,"１　対象となる申請"]
[null,"■このファイルは、中小企業者における経営の承継の円滑化に関する法律施行規則第17条第1項に規定のある、特例承継計画（「会社」の事業承継が対象）の作成のためのファイルです。"]
[]
[]
[]
[null,"２　このファイルで出来ること"]
[null,"■このファイルでは、入力シートに必要事項を順に入力することで、次の書類を作成出来ます。\n　①熊本県知事に提出する様式第21号と別紙の作成\n　②提出時のチェックリストの作成"]
[]
[]
[]
[null,"３　提出書類"]
[null,"■特例承継計画の申請には、次の書類等の提出が必要です。\n　 ①～③はこのファイルで作成することができます。\n　①チェックリスト\n　　　・書類不備や入力漏れがないか、チェックリストにより確認のうえ、提出してください。\n　②様式第21\n　③別紙\n　④履歴事項全部証明書（登記事項証明書）\n　　　・確認申請日の前3月以内に発行されたものに限ります。\n　　　・特例代表者（株式の贈与者又は被相続人）が既に代表者でない場合は、特例代表者が\n　　　　代表者であった旨の記載のある登記事項証明書（又は閉鎖事項証明書）を併せて提出\n　　　　してください。\n　⑤レターパック（返信用）"]
[]
[]
[]
[]
[]
[]
[]
[]
[]
[]
[null,"４　記載例やマニュアルについて"]
[null,"■様式の記載例やマニュアルは、中小企業庁ホームページ（リンク先参照）を確認してください。"]
[null,"　①法人版事業承継税制（特例措置）の概要・マニュアル"]
[null,{"$f":"HYPERLINK(\"https://www.chusho.meti.go.jp/zaimu/shoukei/shoukei_enkatsu_zouyo_souzoku.htm\")","v":"https://www.chusho.meti.go.jp/zaimu/shoukei/shoukei_enkatsu_zouyo_souzoku.htm"}]
[null,"　②特例承継計画の記載例"]
[null,{"$f":"HYPERLINK(\"https://www.chusho.meti.go.jp/zaimu/shoukei/shoukei_enkatsu_tokurei_yoshiki.htm\")","v":"https://www.chusho.meti.go.jp/zaimu/shoukei/shoukei_enkatsu_tokurei_yoshiki.htm"}]
[]
[null,"５　書類の送付先"]
[null,"■業種別に次の宛先まで提出してください。"]
[null,"　　〒８６２－８５７０"]
[null,"熊本市中央区水前寺六丁目１８番１号"]
[]
[null,"【製造業の場合】",null,null,"熊本県 商工労働部 産業振興局 産業支援課"]
[null,null,null,"（問合せ）","０９６－３３３－２３１９"]
[null,"【製造業以外の場合】",null,null,"熊本県 商工労働部 商工雇用創生局 商工振興金融課"]
[null,null,null,"（問合せ）","０９６－３３３－２３１６"]

{"sheet":"入力シート","index":1,"n_rows":76,"n_cols":45,"rows_kept":76,"cut":false,"hidden":false,"merged":[[46,33,46,53],[28,3,28,18],[29,3,29,18],[27,3,27,18],[14,3,14,18],[40,3,40,18],[41,3,41,18],[44,3,44,18],[14,33,14,53],[15,3,15,18],[15,19,15,32],[16,3,16,18],[16,19,16,32],[17,3,17,18],[17,19,17,32],[44,33,44,53],[24,33,24,53],[75,3,75,18],[75,19,75,32],[75,33,75,53],[22,19,22,32],[24,19,24,32],[23,19,23,32],[67,3,67,18],[68,3,68,18],[62,3,62,18],[62,19,62,32],[62,33,62,53],[51,19,51,43],[52,19,52,43],[53,19,53,43],[54,19,54,43],[55,19,55,43],[51,3,51,18],[52,3,52,18],[53,3,53,18],[54,3,54,18],[55,3,55,18],[39,33,41,53],[47,19,47,43],[48,19,48,43],[59,1,59,18],[1,1,1,18],[72,1,72,18],[68,19,68,43],[68,44,68,53],[66,19,66,32],[66,33,66,53],[67,19,67,32],[67,33,67,53],[63,19,63,32],[63,33,63,53],[64,19,64,32],[64,33,64,53],[65,19,65,32],[65,33,65,53],[63,3,63,18],[64,3,64,18],[65,3,65,18],[66,3,66,18],[18,3,18,18],[18,19,18,32],[15,33,18,53],[47,3,47,18],[48,3,48,18],[51,44,55,53],[38,33,38,53],[44,19,44,32],[45,19,45,32],[11,33,11,53],[34,19,34,32],[35,19,35,32],[33,33,33,53],[34,33,34,53],[35,33,35,53],[28,33,28,53],[29,33,29,53],[27,33,27,53],[27,19,27,32],[38,19,38,32],[39,19,39,32],[40,19,40,32],[41,19,41,32],[14,19,14,32],[25,19,25,32],[26,19,26,32],[29,28,29,32],[46,19,46,32],[45,33,45,53],[9,33,9,53],[10,33,10,53],[33,19,33,32],[4,3,4,18],[5,3,5,18],[6,3,6,18],[7,3,7,18],[8,3,8,18],[9,3,9,18],[10,3,10,18],[11,3,11,18],[5,19,5,32],[33,3,33,18],[8,19,8,32],[9,19,9,32],[10,19,10,32],[11,19,11,32],[6,19,6,32],[7,19,7,32],[4,19,4,32],[28,19,28,27],[29,19,29,27],[8,33,8,53],[6,33,7,53],[47,44,48,53],[45,3,45,18],[46,3,46,18],[4,33,4,53],[34,3,34,18],[35,3,35,18],[38,3,38,18],[39,3,39,18],[30,3,30,18],[30,19,30,32],[21,33,21,53],[25,33,25,53],[26,33,26,53],[30,33,30,53],[22,4,22,18],[23,4,23,18],[24,4,24,18],[21,3,21,18],[25,3,25,18],[26,3,26,18],[21,19,21,32],[5,33,5,53],[28,28,28,32],[22,33,23,53]]}
[]
[null,"申請者（会社）の入力項目"]
[]
[null,null,"会社について入力してください"]
[null,null,null,"項目",null,null,null,null,null,null,null,null,null,null,null,null,null,null,null,"入力欄",null,null,null,null,null,null,null,null,null,null,null,null,null,"備考・注意点"]
[null,null,null,"郵便番号",null,null,null,null,null,null,null,null,null,null,null,null,null,null,null,null,null,null,null,null,null,null,null,null,null,null,null,null,null,"法人所在地の郵便番号を入力してください"]
[null,null,null,"会社所在地",null,null,null,null,null,null,null,null,null,null,null,null,null,null,null,null,null,null,null,null,null,null,null,null,null,null,null,null,null,"履歴事項全部証明書から所在地、会社名を転記してください"]
[null,null,null,"会社名"]
[null,null,null,"電話番号",null,null,null,null,null,null,null,null,null,null,null,null,null,null,null,null,null,null,null,null,null,null,null,null,null,null,null,null,null,"法人の電話番号を入力してください。"]
[null,null,null,"代表者の氏名①"]
[null,null,null,"代表者の氏名②",null,null,null,null,null,null,null,null,null,null,null,null,null,null,null,null,null,null,null,null,null,null,null,null,null,null,null,null,null,"代表者が2人以上いる場合のみ入力してください"]
[null,null,null,"代表者の氏名③",null,null,null,null,null,null,null,null,null,null,null,null,null,null,null,null,null,null,null,null,null,null,null,null,null,null,null,null,null,"代表者が3人いる場合のみ入力してください"]
[]
[null,null,"申請担当者について入力してください"]
[null,null,null,"項目",null,null,null,null,null,null,null,null,null,null,null,null,null,null,null,"入力欄",null,null,null,null,null,null,null,null,null,null,null,null,null,"備考・注意点"]
[null,null,null,"所属名",null,null,null,null,null,null,null,null,null,null,null,null,null,null,null,null,null,null,null,null,null,null,null,null,null,null,null,null,null,"今回の特例承継計画書の提出に関する担当者について入力してください（担当税理士でも大丈夫です）\n常に連絡が取れる電話番号を記入してください\n書類確認の際に不明点等ありましたら、こちらに連絡させていただきます"]
[null,null,null,"担当者名"]
[null,null,null,"担当者メールアドレス"]
[null,null,null,"電話番号"]
[]
[null,null,"会社の情報について入力してください"]
[null,null,null,"主たる事業内容は何ですか？",null,null,null,null,null,null,null,null,null,null,null,null,null,null,null,{"$f":"日本標準産業分類!O2","v":"管理，補助的経済活動を行う事業所（01農業）"},null,null,null,null,null,null,null,null,null,null,null,null,null,"日本標準産業分類シート(右のボタンから移動）から、選択してください（該当する事業分類に「○」）を入力）\nただし、次の①～③に該当する場合は入力不要です"]
[null,null,null,"①","主たる事業内容が、製造業のうちゴム製品製造業（自動車又は航空機用タイヤ及びチューブ製造業並びに工業用ベルト製造業を除く）に該当しますか？",null,null,null,null,null,null,null,null,null,null,null,null,null,null,null,null,null,null,null,null,null,null,null,null,null,null,null,null,"主たる事業内容が、①～③に該当する場合のみ入力してください。\n該当しない場合は入力不要です。\n①～③のいずれかに該当する場合、一つのみ「○」を入力してください。"]
[null,null,null,"②","主たる事業内容が、サービス業のうちソフトウェア業又は情報処理サービス業に該当しますか？"]
[null,null,null,"③","主たる事業内容が、サービス業のうち旅館業に該当しますか？",null,null,null,null,null,null,null,null,null,null,null,null,null,null,null,null,null,null,null,null,null,null,null,null,null,null,null,null,{"$f":"IF(COUNTA(T23:AG25)>1,\"複数の選択はできません\",\"\")","v":""}]
[null,null,null,"資本金額又は出資の総額はいくらですか？",null,null,null,null,null,null,null,null,null,null,null,null,null,null,null,null,null,null,null,null,null,null,null,null,null,null,null,null,null,"履歴事項全部証明書から転記してください"]
[null,null,null,"常時使用する従業員の数は何人ですか？",null,null,null,null,null,null,null,null,null,null,null,null,null,null,null,null,null,null,null,null,null,null,null,null,null,null,null,null,null,"申請書提出時の従業員数（役員を除く）を入力してください"]
[null,null,null,"事業の分類",null,null,null,null,null,null,null,null,null,null,null,null,null,null,null,{"$f":"IF(T23=\"○\",作業シート!R2,IF(入力シート!T24=\"○\",作業シート!R3,IF(入力シート!T25=\"○\",作業シート!R4,日本標準産業分類!Q2)))","v":"製造業その他"},null,null,null,null,null,null,null,null,null,null,null,null,null,"自動判定"]
[null,null,null,"資本金又は出資の総額の上限",null,null,null,null,null,null,null,null,null,null,null,null,null,null,null,{"$f":"'中小企業者（判定用）'!F11","v":300000000},null,null,null,null,null,null,null,null,{"$f":"IF(T26=\"\",\"\",IF(T26>T29,\"対象外\",\"対象\"))","v":""},null,null,null,null,"自動判定"]
[null,null,null,"従業員数の上限",null,null,null,null,null,null,null,null,null,null,null,null,null,null,null,{"$f":"'中小企業者（判定用）'!G11","v":300},null,null,null,null,null,null,null,null,{"$f":"IF(T27=\"\",\"\",IF(T27>T30,\"対象外\",\"対象\"))","v":""},null,null,null,null,"自動判定"]
[null,null,null,"中小企業者の判定",null,null,null,null,null,null,null,null,null,null,null,null,null,null,null,{"$f":"IF(OR(AC29=\"対象\",AC30=\"対象\"),\"対象となる中小企業者\",\"対象外企業\")","v":"対象外企業"},null,null,null,null,null,null,null,null,null,null,null,null,null,"自動判定"]
[]
[null,null,"特例代表者について入力してください"]
[null,null,null,"特例代表者の氏名を入力してください",null,null,null,null,null,null,null,null,null,null,null,null,null,null,null,null,null,null,null,null,null,null,null,null,null,null,null,null,null,"株式の贈与者又は被相続者を入力してください"]
[null,null,null,"特例代表者に代表権はありますか？",null,null,null,null,null,null,null,null,null,null,null,null,null,null,null,null,null,null,null,null,null,null,null,null,null,null,null,null,null,"特例代表者が代表者（代表取締役等）をすでに退任している場合は「無」を選択してください"]
[null,null,null,{"$f":"IF(T35=\"有\",\"入力不要です\",\"（代表権がない場合）退任日はいつですか？\")","v":"（代表権がない場合）退任日はいつですか？"},null,null,null,null,null,null,null,null,null,null,null,null,null,null,null,"令和　　年　　月　　日",null,null,null,null,null,null,null,null,null,null,null,null,null,"相続の場合は相続日（特例代表者の死亡日）を入力してください。登記の日付と一致させてください。"]
[]
[null,null,"特例後継者について入力してください。"]
[null,null,null,"特例後継者は何人ですか？",null,null,null,null,null,null,null,null,null,null,null,null,null,null,null,"1人",null,null,null,null,null,null,null,null,null,null,null,null,null,"特例後継者は3人まで指定できます"]
[null,null,null,"1人目の特例後継者の氏名を入力してください。"]
[null,null,null,{"$f":"IF(T39=\"1人\",\"入力不要\",\"2人目の特例後継者の氏名を入力してください。\")","v":"入力不要"}]
[null,null,null,{"$f":"(IF(T39=\"\",\"3人目の特例後継者の氏名を入力してください。\",IF(T39=\"3人\",\"3人目の特例後継者の氏名を入力してください。\",\"入力不要\")))","v":"入力不要"}]
[]
[null,null,"事業承継について入力してください"]
[null,null,null,"特例後継者が既に株式を承継（取得）していますか？"]
[null,null,null,"今回の株式の承継は贈与と相続のどちらによるものですか？"]
[null,null,null,"株式を承継する時期（予定）について入力してください。",null,null,null,null,null,null,null,null,null,null,null,null,null,null,null,null,null,null,null,null,null,null,null,null,null,null,null,null,null,"贈与の場合は予定で可（例：令和3年7月～令和5年1月）\n既に譲渡している場合は贈与日又は相続日（代表者の死亡日）"]
[null,null,null,{"$f":"IF(T45=\"はい\",\"入力不要\",\"株式を承継する時期（予定）までの経営上の課題について入力してください。\")","v":"株式を承継する時期（予定）までの経営上の課題について入力してください。"},null,null,null,null,null,null,null,null,null,null,null,null,null,null,null,"●●●\n　～\n●●●",null,null,null,null,null,null,null,null,null,null,null,null,null,null,null,null,null,null,null,null,null,null,null,null,"既に株式の譲渡を行っている場合は記載不要です。\n改行は「Alt」キー＋「Enter」キーでしてください"]
[null,null,null,{"$f":"IF(T45=\"はい\",\"入力不要\",\"上記経営上の課題への対応について入力してください。\")","v":"上記経営上の課題への対応について入力してください。"},null,null,null,null,null,null,null,null,null,null,null,null,null,null,null,"●●●\n　～\n●●●"]
[]
[null,null,"特例後継者が株式等を承継した後5年間の経営計画について入力してください"]
[null,null,null,"1年目の具体的な計画",null,null,null,null,null,null,null,null,null,null,null,null,null,null,null,"●●●\n　～\n●●●",null,null,null,null,null,null,null,null,null,null,null,null,null,null,null,null,null,null,null,null,null,null,null,null,"具体的な計画の内容を入力してください\n改行は「Alt」キー＋「Enter」キーでしてください"]
[null,null,null,"2年目の具体的な計画",null,null,null,null,null,null,null,null,null,null,null,null,null,null,null,"●●●\n　～\n●●●"]
[null,null,null,"3年目の具体的な計画",null,null,null,null,null,null,null,null,null,null,null,null,null,null,null,"●●●\n　～\n●●●"]
[null,null,null,"4年目の具体的な計画",null,null,null,null,null,null,null,null,null,null,null,null,null,null,null,"●●●\n　～\n●●●"]
[null,null,null,"5年目の具体的な計画",null,null,null,null,null,null,null,null,null,null,null,null,null,null,null,"●●●\n　～\n●●●"]
[]
[]
[]
[null,"認定経営革新等支援機関の入力項目"]
[]
[null,null,"認定経営革新等支援機関（認定支援機関）について入力してください"]
[null,null,null,"認定支援機関のID番号を入力してください。",null,null,null,null,null,null,null,null,null,null,null,null,null,null,null,null,null,null,null,null,null,null,null,null,null,null,null,null,null,"経済産業省が公表するID番号を入力してください"]
[null,null,null,"認定支援機関は個人と法人のどちらですか？"]
[null,null,null,"認定支援機関の名称を入力してください。",null,null,null,null,null,null,null,null,null,null,null,null,null,null,null,null,null,null,null,null,null,null,null,null,null,null,null,null,null,"個人名で認定を受けている場合は、必ず個人名を入力してください【×「熊本太郎税理士事務所」→○「熊本太郎」】"]
[null,null,null,{"$f":"IF(T64=\"個人\",\"入力不要です\",\"（認定支援機関が法人の場合のみ）代表者の氏名を入力してください。\")","v":"（認定支援機関が法人の場合のみ）代表者の氏名を入力してください。"},null,null,null,null,null,null,null,null,null,null,null,null,null,null,null,null,null,null,null,null,null,null,null,null,null,null,null,null,null,"個人の場合は入力不要です"]
[null,null,null,"認定支援機関の住所又は所在地を入力してください。"]
[null,null,null,"認定支援機関が申請者に指導・助言を行ったのはいつですか？"]
[null,null,null,"認定支援機関が指導・助言した内容を入力してください。",null,null,null,null,null,null,null,null,null,null,null,null,null,null,null,"●●●\n　～\n●●●",null,null,null,null,null,null,null,null,null,null,null,null,null,null,null,null,null,null,null,null,null,null,null,null,"指導を行った内容を具体的に記入してください\n改行は「Alt」キー＋「Enter」キーでしてください"]
[]
[]
[]
[null,"提出時の確認事項"]
[]
[null,null,"提出時期の確認"]
[null,null,null,"書類の提出日を入力してください\n（提出期限：令和5年3月31日まで）",null,null,null,null,null,null,null,null,null,null,null,null,null,null,null,"令和　　年　　月　　日"]

{"sheet":"チェックリスト","index":2,"n_rows":54,"n_cols":35,"rows_kept":54,"cut":false,"hidden":false,"merged":[[33,29,34,33],[33,34,34,38],[35,29,36,33],[35,34,36,38],[53,2,53,38],[26,34,26,38],[50,24,50,28],[51,24,51,28],[50,11,50,23],[51,11,51,23],[40,29,40,33],[29,24,29,28],[27,2,28,17],[29,2,30,17],[27,18,27,23],[28,18,28,23],[29,18,29,23],[30,18,30,23],[27,24,27,28],[30,24,30,28],[35,24,35,28],[28,24,28,28],[34,2,34,28],[36,2,36,28],[4,34,4,38],[5,34,5,38],[6,34,7,38],[26,29,26,33],[4,29,4,33],[5,29,5,33],[3,2,3,23],[3,29,3,33],[3,24,3,28],[4,24,4,28],[5,24,5,28],[4,2,4,23],[5,2,5,23],[13,24,13,28],[14,24,14,28],[12,2,12,17],[12,18,12,23],[6,29,7,33],[15,29,18,33],[15,34,18,38],[1,2,1,38],[22,2,25,17],[22,18,22,23],[23,18,23,23],[24,18,24,23],[25,18,25,23],[22,34,25,38],[22,29,25,33],[23,24,23,28],[24,24,24,28],[25,24,25,28],[6,2,6,23],[6,24,6,28],[22,24,22,28],[2,2,2,38],[12,34,14,38],[12,29,14,33],[12,24,12,28],[7,2,7,28],[8,29,11,33],[8,34,11,38],[8,2,8,23],[15,2,15,23],[3,34,3,38],[50,29,50,38],[51,29,51,38],[49,2,49,38],[38,2,38,38],[47,2,47,38],[39,29,39,33],[39,34,39,38],[41,29,41,33],[41,34,41,38],[42,29,42,33],[42,34,42,38],[43,29,43,33],[43,34,43,38],[44,29,44,33],[44,34,44,38],[50,2,50,10],[39,2,39,13],[39,14,39,28],[51,2,51,10],[40,2,40,13],[42,14,42,28],[27,34,30,38],[40,14,40,28],[26,2,26,23],[26,24,26,28],[13,2,13,17],[13,18,13,23],[8,24,8,28],[15,24,15,28],[19,24,19,28],[18,3,18,28],[17,3,17,28],[16,2,16,28],[9,2,9,28],[10,3,10,28],[11,3,11,28],[19,18,19,23],[14,2,14,23],[19,2,21,17],[20,18,20,23],[21,18,21,23],[33,24,33,28],[33,2,33,23],[35,2,35,23],[31,2,31,23],[31,24,31,28],[45,2,45,28],[46,3,46,28],[45,29,45,33],[45,34,45,38],[46,29,46,33],[46,34,46,38],[20,24,20,28],[21,24,21,28],[19,29,21,33],[19,34,21,38],[32,2,32,28],[27,29,28,33],[29,29,30,33],[31,29,32,33],[31,34,32,38],[40,34,40,38],[43,2,43,13],[43,14,43,28],[44,2,44,13],[44,14,44,28],[41,2,41,13],[41,14,41,28],[42,2,42,13]]}
[]
[null,null,{"$f":"\"法人名：\"&入力シート!T8","v":"法人名："}]
[null,null,"１．入力内容の確認"]
[null,null,"チェック項目",null,null,null,null,null,null,null,null,null,null,null,null,null,null,null,null,null,null,null,null,null,"入力内容",null,null,null,null,"申請者\nチェック欄",null,null,null,null,"県\n確認欄"]
[null,null,"書類の日付は提出日になっていますか？\nまた、書類の提出は提出期限内（令和5年3月31日まで）ですか？",null,null,null,null,null,null,null,null,null,null,null,null,null,null,null,null,null,null,null,null,null,{"$f":"入力シート!T76","v":"令和　　年　　月　　日"},null,null,null,null,"□",null,null,null,null,"□"]
[null,null,"書類の内容に記入漏れや誤りはないですか？",null,null,null,null,null,null,null,null,null,null,null,null,null,null,null,null,null,null,null,null,null,"-",null,null,null,null,"□",null,null,null,null,"□"]
[null,null,"今回対象となる中小企業者は会社ですか？",null,null,null,null,null,null,null,null,null,null,null,null,null,null,null,null,null,null,null,null,null,"-",null,null,null,null,"□",null,null,null,null,"□"]
[null,null,"【根拠規定】施行規則　第16条第1号\n　イ　当該中小企業者が会社であること"]
[null,null,"当該中小企業者に、次の【根拠規定】に合致する特例代表者がいますか？",null,null,null,null,null,null,null,null,null,null,null,null,null,null,null,null,null,null,null,null,null,null,null,null,null,null,"□",null,null,null,null,"□"]
[null,null,"【根拠規定】施行規則　第16条第1号\nハ　当該中小企業者に、次に掲げるいずれかの者（以下「特例代表者」という。）がいること。 "]
[null,null,null,"（１）　当該中小企業者の代表者（ロ（１）の代表者又は（２）の他の代表者に限り、代表権を制限されている者を除く。以下この号において同じ。） "]
[null,null,null,"（２）　当該中小企業者の代表者であった者 "]
[null,null,"特例代表者に誤りはないですか？",null,null,null,null,null,null,null,null,null,null,null,null,null,null,null,"特例代表者",null,null,null,null,null,{"$f":"入力シート!T34","v":0},null,null,null,null,"□",null,null,null,null,"□"]
[null,null,"代表権の有無、（退任している場合は退任日）は正しいですか？",null,null,null,null,null,null,null,null,null,null,null,null,null,null,null,"代表権の有無",null,null,null,null,null,{"$f":"IF(入力シート!T35=\"無\",\"無\"&'様式第21（提出用）'!X30,\"有\")","v":"有"}]
[null,null,"特例代表者は登記事項証明書の内容と合致していますか？"]
[null,null,"当該中小企業者に、次の【根拠規定】に合致する特例後継者がいますか？",null,null,null,null,null,null,null,null,null,null,null,null,null,null,null,null,null,null,null,null,null,null,null,null,null,null,"□",null,null,null,null,"□"]
[null,null,"【根拠規定】施行規則　第16条第1号\nロ　当該中小企業者に、次に掲げるいずれかの者（その者が二人又は三人以上ある場合には、当該中小企業者が定めた二人又は三人までに限る。以下「特例後継者」という。）がいること。"]
[null,null,null,"（１）　当該中小企業者の代表者（代表者であった者を含む。）が死亡又は退任した場合における新たな代表者の候補者であって、当該代表者から相続若しくは遺贈又は贈与により当該代表者が有する当該中小企業者の株式等を取得することが見込まれるもの "]
[null,null,null,"（２）　当該中小企業者の代表者であって、当該中小企業者の他の代表者（代表者であった者を含む。）から相続若しくは遺贈又は贈与により当該中小企業者の株式等を取得することが見込まれるもの "]
[null,null,"特例後継者に誤りはないですか？",null,null,null,null,null,null,null,null,null,null,null,null,null,null,null,"特例後継者①",null,null,null,null,null,{"$f":"入力シート!T40","v":0},null,null,null,null,"□",null,null,null,null,"□"]
[null,null,null,null,null,null,null,null,null,null,null,null,null,null,null,null,null,null,"特例後継者②",null,null,null,null,null,{"$f":"IF(入力シート!T41=\"\",\"\",入力シート!T41)","v":""}]
[null,null,null,null,null,null,null,null,null,null,null,null,null,null,null,null,null,null,"特例後継者③",null,null,null,null,null,{"$f":"IF(入力シート!T42=\"\",\"\",入力シート!T42)","v":""}]
[null,null,"主たる事業内容は日本標準産業分類での分類になっていますか？",null,null,null,null,null,null,null,null,null,null,null,null,null,null,null,"（大分類）",null,null,null,null,null,{"$f":"日本標準産業分類!M2","v":"農業，林業"},null,null,null,null,"□",null,null,null,null,"□"]
[null,null,null,null,null,null,null,null,null,null,null,null,null,null,null,null,null,null,"（中分類）",null,null,null,null,null,{"$f":"日本標準産業分類!N2","v":"農業"}]
[null,null,null,null,null,null,null,null,null,null,null,null,null,null,null,null,null,null,"（小分類）",null,null,null,null,null,{"$f":"日本標準産業分類!O2","v":"管理，補助的経済活動を行う事業所（01農業）"}]
[null,null,null,null,null,null,null,null,null,null,null,null,null,null,null,null,null,null,"（細分類）",null,null,null,null,null,{"$f":"日本標準産業分類!P2","v":"主として管理事務を行う本社等"}]
[null,null,"業種目",null,null,null,null,null,null,null,null,null,null,null,null,null,null,null,null,null,null,null,null,null,{"$f":"入力シート!T28","v":"製造業その他"},null,null,null,null,"□",null,null,null,null,"□"]
[null,null,"資本金又は出資の総額に誤りはないですか？",null,null,null,null,null,null,null,null,null,null,null,null,null,null,null,"資本金又は出資総額",null,null,null,null,null,{"$f":"入力シート!T26","v":0},null,null,null,null,"□",null,null,null,null,"□\n（どちらかが対象であれば可）"]
[null,null,null,null,null,null,null,null,null,null,null,null,null,null,null,null,null,null,"上限額",null,null,null,null,null,{"$f":"入力シート!T29","v":300000000}]
[null,null,"常時使用する従業員の数（役員を除く）は申請時点のものですか？\n従業員の数に誤りはないですか？",null,null,null,null,null,null,null,null,null,null,null,null,null,null,null,"従業員の数",null,null,null,null,null,{"$f":"入力シート!T27","v":0},null,null,null,null,"□"]
[null,null,null,null,null,null,null,null,null,null,null,null,null,null,null,null,null,null,"上限額",null,null,null,null,null,{"$f":"入力シート!T30","v":300}]
[null,null,"提出する「特例承継計画」は、認定経営革新等支援機関の指導及び助言を受けていますか？",null,null,null,null,null,null,null,null,null,null,null,null,null,null,null,null,null,null,null,null,null,"「様式第21 別紙」参照",null,null,null,null,"□",null,null,null,null,"□"]
[null,null,"【根拠規定】施行規則　第16条\n一　当該中小企業者の経営を確実に承継するための具体的な計画（「特例承継計画」という。第二十条において同じ。）について、認定経営革新等支援機関の指導及び助言を受けた中小企業者であって、（～以下、省略～）"]
[null,null,"次の【根拠規定】に合致する、株式を取得するまでの具体的な計画を記載していますか？",null,null,null,null,null,null,null,null,null,null,null,null,null,null,null,null,null,null,null,null,null,"「様式第21　4」参照",null,null,null,null,"□",null,null,null,null,"□"]
[null,null,"【根拠規定】施行規則　第16条第1号\nニ　特例代表者が有する当該中小企業者の株式等を特例後継者が取得するまでの期間における経営に関する具体的な計画を有していること。"]
[null,null,"次の【根拠規定】に合致する、株式等を承継した後の5年間の具体的な計画を記載していますか？",null,null,null,null,null,null,null,null,null,null,null,null,null,null,null,null,null,null,null,null,null,"「様式第21　5」参照",null,null,null,null,"□",null,null,null,null,"□"]
[null,null,"【根拠規定】施行規則　第16条第1号\nホ　当該中小企業者の特例後継者が当該中小企業者の特例代表者から株式等を承継した後五年間の経営に関する具体的な計画を有していること。 "]
[]
[null,null,"２．提出書類の確認"]
[null,null,"提出書類等",null,null,null,null,null,null,null,null,null,null,null,"説明",null,null,null,null,null,null,null,null,null,null,null,null,null,null,"申請者\nチェック欄",null,null,null,null,"県\n確認欄"]
[null,null,"チェックシート",null,null,null,null,null,null,null,null,null,null,null,"このチェックシートを提出してください。",null,null,null,null,null,null,null,null,null,null,null,null,null,null,"□",null,null,null,null,"□"]
[null,null,"確認申請書（特例承継計画）　2部\n（様式第21及び別紙）",null,null,null,null,null,null,null,null,null,null,null,"原本と副本を一部ずつ提出してください\n副本には「写」等のハンコは押さないでください",null,null,null,null,null,null,null,null,null,null,null,null,null,null,"□",null,null,null,null,"□"]
[null,null,"履歴事項全部証明書",null,null,null,null,null,null,null,null,null,null,null,"確認申請日（書類提出日）の前3か月以内に取得したもの",null,null,null,null,null,null,null,null,null,null,null,null,null,null,"□",null,null,null,null,"□"]
[null,null,"登記事項証明書\n（閉鎖事項証明書）",null,null,null,null,null,null,null,null,null,null,null,"特例代表者がすでに代表者を退任している場合で、「過去に代表者であった旨の記載」が履歴事項全部証明書にない場合のみ添付してください。",null,null,null,null,null,null,null,null,null,null,null,null,null,null,"□",null,null,null,null,"□"]
[null,null,"返信用封筒",null,null,null,null,null,null,null,null,null,null,null,"レターパック、又は\n返信用封筒（角２型、簡易書留分の切手を貼付してください）",null,null,null,null,null,null,null,null,null,null,null,null,null,null,"□",null,null,null,null,"□"]
[null,null,"【根拠規定】施行規則　第17条\n２　前項の確認（前項第一号の事由に係るものに限る。）を受けようとする中小企業者は、平成三十五年三月三十一日までに、様式第二十一による申請書に、当該申請書の写し一通及び次に掲げる書類を添付して、都道府県知事に提出するものとする。"]
[null,null,null,"一　登記事項証明書（確認申請日（前項の確認を申請をする日をいう。以下同じ。）の前三月以内に作成されたものに限り、特例代表者が確認申請日において当該中小企業者の代表者でない場合にあっては当該特例代表者が代表者であった旨の記載のある登記事項証明書を含む。） \n二　前号に掲げるもののほか、前項の確認の参考となる書類"]
[null,null,"※確認の判断ができない場合、参考となる書類を別途ご提出いただくことがあります。"]
[]
[null,null,"３．申請者連絡先（この申請についての質問に回答できる担当者を記入してください。担当税理士でも可）"]
[null,null,"所属名",null,null,null,null,null,null,null,null,{"$f":"入力シート!T16","v":0},null,null,null,null,null,null,null,null,null,null,null,null,"電話番号",null,null,null,null,{"$f":"入力シート!T19","v":0}]
[null,null,"担当者名",null,null,null,null,null,null,null,null,{"$f":"入力シート!T17","v":0},null,null,null,null,null,null,null,null,null,null,null,null,"担当者メールアドレス",null,null,null,null,{"$f":"入力シート!T18","v":0}]
[]
[null,null,{"$f":"\"法人名：\"&入力シート!T8","v":"法人名："}]

{"sheet":"様式第21（提出用）","index":3,"n_rows":73,"n_cols":25,"rows_kept":73,"cut":false,"hidden":false,"merged":[[68,2,69,33],[70,2,71,33],[72,2,73,33],[29,17,29,22],[29,23,29,33],[54,6,56,33],[57,6,59,33],[44,6,44,33],[44,1,44,5],[45,1,47,5],[48,1,50,5],[51,1,53,5],[54,1,56,5],[40,17,40,33],[41,17,41,33],[39,1,39,16],[40,1,40,16],[41,1,41,16],[33,1,33,16],[33,17,33,33],[34,1,34,16],[34,17,34,33],[39,17,39,33],[32,1,32,16],[3,1,3,33],[4,1,4,33],[10,16,10,21],[11,16,11,21],[12,16,12,21],[13,16,13,21],[14,16,14,21],[10,22,10,33],[11,22,11,33],[12,22,12,33],[13,22,13,33],[14,22,14,33],[32,17,32,33],[15,22,15,33],[16,22,16,33],[6,24,6,33],[57,1,59,5],[45,6,47,33],[48,6,50,33],[51,6,53,33],[17,1,18,33],[20,1,20,33],[23,1,23,16],[24,1,24,16],[25,1,25,16],[23,17,23,33],[24,17,24,33],[25,17,25,33],[28,1,28,16],[29,1,29,16],[28,17,28,33]]}
[]
[null,"様式第21"]
[]
[null,"施行規則第17条第2項の規定による確認申請書"]
[null,"（特例承継計画）"]
[]
[null,null,null,null,null,null,null,null,null,null,null,null,null,null,null,null,null,null,null,null,null,null,null,null,{"$f":"IF(入力シート!T76=\"\",\"年　　月　　日\",入力シート!T76)","v":"令和　　年　　月　　日"}]
[null,"熊本県知事　殿"]
[]
[]
[null,null,null,null,null,null,null,null,null,null,null,null,null,null,null,null,"郵 便 番 号",null,null,null,null,null,{"$f":"入力シート!T6","v":0}]
[null,null,null,null,null,null,null,null,null,null,null,null,null,null,null,null,"会社所在地",null,null,null,null,null,{"$f":"入力シート!T7","v":0}]
[null,null,null,null,null,null,null,null,null,null,null,null,null,null,null,null,"会社名",null,null,null,null,null,{"$f":"入力シート!T8","v":0}]
[null,null,null,null,null,null,null,null,null,null,null,null,null,null,null,null,"電 話 番 号",null,null,null,null,null,{"$f":"入力シート!T9","v":0}]
[null,null,null,null,null,null,null,null,null,null,null,null,null,null,null,null,"代表者の氏名",null,null,null,null,null,{"$f":"入力シート!T10","v":0}]
[null,null,null,null,null,null,null,null,null,null,null,null,null,null,null,null,null,null,null,null,null,null,{"$f":"IF(入力シート!T11=\"\",\"\",入力シート!T11)","v":""}]
[null,null,null,null,null,null,null,null,null,null,null,null,null,null,null,null,null,null,null,null,null,null,{"$f":"IF(入力シート!T12=\"\",\"\",入力シート!T12)","v":""}]
[null,"　中小企業における経営の承継の円滑化に関する法律施行規則第17条第1項第1号の確認を受けたいので、下記のとおり申請します。"]
[]
[]
[null,"記"]
[]
[null,"１　会社について"]
[null,"主たる事業内容",null,null,null,null,null,null,null,null,null,null,null,null,null,null,null,{"$f":"IF(入力シート!T23=\"○\",作業シート!R2,IF(入力シート!T24=\"○\",作業シート!R3,IF(入力シート!T25=\"○\",作業シート!R4,入力シート!T22)))","v":"管理，補助的経済活動を行う事業所（01農業）"}]
[null,"資本金額又は出資の総額","円",null,null,null,null,null,null,null,null,null,null,null,null,null,null,{"$f":"IF(入力シート!T26=\"\",\"円\",入力シート!T26)","v":"円"}]
[null,"常時使用する従業員の数","人",null,null,null,null,null,null,null,null,null,null,null,null,null,null,{"$f":"IF(入力シート!T27=\"\",\"人\",入力シート!T27)","v":"人"}]
[]
[null,"2　特例代表者について"]
[null,"特例代表者の氏名",null,null,null,null,null,null,null,null,null,null,null,null,null,null,null,{"$f":"入力シート!T34","v":0}]
[null,"代表権の有無",null,null,null,null,null,null,null,null,null,null,null,null,null,null,null,{"$f":"IF(入力シート!T35=\"有\",\"■有　□無\",\"□有　■無\")","v":"□有　■無"},null,null,null,null,null,{"$f":"IF(入力シート!T35=\"無\",\"（退任日 \"&入力シート!T36&\"）\",\"（退任日　　年　　月　　日）\")","v":"（退任日　　年　　月　　日）"}]
[]
[null,"3　特例後継者について"]
[null,"特例後継者の氏名（1）",null,null,null,null,null,null,null,null,null,null,null,null,null,null,null,{"$f":"入力シート!T40","v":0}]
[null,"特例後継者の氏名（2）",null,null,null,null,null,null,null,null,null,null,null,null,null,null,null,{"$f":"IF(入力シート!T41=\"\",\"\",入力シート!T41)","v":""}]
[null,"特例後継者の氏名（3）",null,null,null,null,null,null,null,null,null,null,null,null,null,null,null,{"$f":"IF(入力シート!T42=\"\",\"\",入力シート!T42)","v":""}]
[]
[]
[]
[null,"4　特例代表者が有する株式等を特例後継者が取得するまでの期間における経営の計画について"]
[null,"株式を承継する時期（予定）",null,null,null,null,null,null,null,null,null,null,null,null,null,null,null,{"$f":"IF(AND(入力シート!T45=\"はい\",入力シート!T46=\"贈与\"),入力シート!T47&入力シート!T46,IF(AND(入力シート!T45=\"はい\",入力シート!T46=\"相続\"),入力シート!T47&\"相続\",IF(入力シート!T47=\"\",\"年　月　～　　年　月\",入力シート!T47)))","v":"年　月　～　　年　月"}]
[null,"当該時期までの経営上の課題",null,null,null,null,null,null,null,null,null,null,null,null,null,null,null,{"$f":"IF(入力シート!T45=\"はい\",\"（既に株式を特例後継者が取得しているため、記載を省略）\",入力シート!T48)","v":"●●●\n　～\n●●●"}]
[null,"当該課題への対応",null,null,null,null,null,null,null,null,null,null,null,null,null,null,null,{"$f":"IF(入力シート!T45=\"はい\",\"（既に株式を特例後継者が取得しているため、記載を省略）\",入力シート!T49)","v":"●●●\n　～\n●●●"}]
[]
[null,"5　特例後継者が株式等を承継した後５年間の経営計画 "]
[null,"実施時期",null,null,null,null,"具体的な実施内容"]
[null,"1年目",null,null,null,null,{"$f":"入力シート!T52","v":"●●●\n　～\n●●●"}]
[]
[]
[null,"2年目",null,null,null,null,{"$f":"入力シート!T53","v":"●●●\n　～\n●●●"}]
[]
[]
[null,"3年目",null,null,null,null,{"$f":"入力シート!T54","v":"●●●\n　～\n●●●"}]
[]
[]
[null,"4年目",null,null,null,null,{"$f":"入力シート!T55","v":"●●●\n　～\n●●●"}]
[]
[]
[null,"5年目",null,null,null,null,{"$f":"入力シート!T56","v":"●●●\n　～\n●●●"}]
[]
[]
[]
[null,"（備考）"]
[null,"①     用紙の大きさは、日本産業規格A4とする。"]
[null,"③     申請書の写し（別紙を含む）及び施行規則第17条第2項各号に掲げる書類を添付する。"]
[null,"④     別紙については、中小企業等経営強化法に規定する認定経営革新等支援機関が記載する。"]
[null,"⑤     認定経営革新等支援機関名については、中小企業庁ホームぺージ等で公表する場合がある。"]
[]
[null,"（記載要領）"]
[null,"①","「2　特例代表者」については、本申請を行う時における申請者の代表者（代表者であった者を含む。）を記載する。"]
[]
[null,"② ","「3　特例後継者」については、該当するものが一人又は二人の場合、後継者の氏名（2）の欄又は（3）の欄は空欄とする。"]
[]
[null,"③","「4　特例代表者が有する株式等を特例後継者が取得するまでの期間における経営の計画」については、株式等を特例後継者が取得した後に本申請を行う場合には、記載を省略することができる。"]

{"sheet":"別紙（提出用）","index":4,"n_rows":16,"n_cols":17,"rows_kept":16,"cut":false,"hidden":false,"merged":[[8,16,8,30],[9,16,9,30],[15,1,49,30],[12,4,12,18],[3,1,3,30],[6,1,6,15],[7,1,7,15],[8,1,8,15],[9,1,9,15],[6,16,6,30],[7,16,7,30]]}
[]
[null,"（別紙）"]
[]
[null,"認定経営革新等支援機関による所見等"]
[]
[null,"1　認定経営革新等支援機関の名称等"]
[null,"認定経営革新等支援機関ＩＤ番号",null,null,null,null,null,null,null,null,null,null,null,null,null,null,{"$f":"IF(入力シート!T63=\"\",\"\",入力シート!T63)","v":""}]
[null,"認定経営革新等支援機関の名称",null,null,null,null,null,null,null,null,null,null,null,null,null,null,{"$f":"IF(入力シート!T65=\"\",\"\",入力シート!T65)","v":""}]
[null,"（機関が法人の場合）代表者の氏名",null,null,null,null,null,null,null,null,null,null,null,null,null,null,{"$f":"IF(入力シート!T64=\"法人\",入力シート!T66,\"\")","v":""}]
[null,"住所又は所在地",null,null,null,null,null,null,null,null,null,null,null,null,null,null,{"$f":"IF(入力シート!T67=\"\",\"\",入力シート!T67)","v":""}]
[]
[null,"2　指導・助言を行った年月日"]
[null,null,null,null,{"$f":"IF(入力シート!T68=\"\",\"　　年　　月　　日\",入力シート!T68)","v":"　　年　　月　　日"}]
[]
[null,"3　認定経営革新等支援機関による指導・助言の内容"]
[null,{"$f":"IF(入力シート!T69=\"\",\"\",入力シート!T69)","v":"●●●\n　～\n●●●"}]

{"sheet":"日本標準産業分類","index":5,"n_rows":1461,"n_cols":20,"rows_kept":1461,"cut":false,"hidden":true,"merged":[[15,19,18,21]]}
["該当\n（該当する\n分類に○）","大分類\nコード","大分類","中分類\nコード","中分類","小分類\nコード","小分類","細分類\nコード","細分類","コード結合","判定用の分類"]
["○","A",{"$f":"VLOOKUP(日本標準産業分類!B2,作業シート!$C$2:$D$21,2)","v":"農業，林業"},1,{"$f":"VLOOKUP(D2,作業シート!$F$2:$G$100,2)","v":"農業"},10,{"$f":"VLOOKUP(F2,作業シート!$I$2:$J$531,2)","v":"管理，補助的経済活動を行う事業所（01農業）"},100,"主として管理事務を行う本社等",{"$f":"CONCATENATE(B2,\"-\",D2,\"-\",F2,\"-\",H2)","v":"A-1-10-100"},"製造業その他",null,{"$f":"VLOOKUP(\"○\",$A$2:$K$1461,3)","v":"農業，林業"},{"$f":"VLOOKUP(\"○\",$A$2:$K$1461,5)","v":"農業"},{"$f":"VLOOKUP(\"○\",$A$2:$K$1461,7)","v":"管理，補助的経済活動を行う事業所（01農業）"},{"$f":"VLOOKUP(\"○\",$A$2:$K$1461,9)","v":"主として管理事務を行う本社等"},{"$f":"VLOOKUP(\"○\",$A$2:$K$1461,11)","v":"製造業その他"},null,null,{"$f":"CONCATENATE(\"（\",C1,\"）\",M2)","v":"（大分類）農業，林業"}]
[null,"A",{"$f":"VLOOKUP(日本標準産業分類!B3,作業シート!$C$2:$D$21,2)","v":"農業，林業"},1,{"$f":"VLOOKUP(D3,作業シート!$F$2:$G$100,2)","v":"農業"},10,{"$f":"VLOOKUP(F3,作業シート!$I$2:$J$531,2)","v":"管理，補助的経済活動を行う事業所（01農業）"},109,"その他の管理，補助的経済活動を行う事業所","A-1-10-109","製造業その他",null,{"$f":"IF(COUNTA(A2:A1461)>1,\"複数の分類が選択されています\",\"\")","v":""},null,null,null,null,null,null,{"$f":"CONCATENATE(\"（\",E1,\"）\",N2)","v":"（中分類）農業"}]
[null,"A",{"$f":"VLOOKUP(日本標準産業分類!B4,作業シート!$C$2:$D$21,2)","v":"農業，林業"},1,{"$f":"VLOOKUP(D4,作業シート!$F$2:$G$100,2)","v":"農業"},11,{"$f":"VLOOKUP(F4,作業シート!$I$2:$J$531,2)","v":"耕種農業"},111,"米作農業","A-1-11-111","製造業その他",null,null,null,null,null,null,null,null,{"$f":"CONCATENATE(\"（\",G1,\"）\",O2)","v":"（小分類）管理，補助的経済活動を行う事業所（01農業）"}]
[null,"A",{"$f":"VLOOKUP(日本標準産業分類!B5,作業シート!$C$2:$D$21,2)","v":"農業，林業"},1,{"$f":"VLOOKUP(D5,作業シート!$F$2:$G$100,2)","v":"農業"},11,{"$f":"VLOOKUP(F5,作業シート!$I$2:$J$531,2)","v":"耕種農業"},112,"米作以外の穀作農業","A-1-11-112","製造業その他",null,null,null,null,null,null,null,null,{"$f":"CONCATENATE(\"（\",I1,\"）\",P2)","v":"（細分類）主として管理事務を行う本社等"}]
[null,"A",{"$f":"VLOOKUP(日本標準産業分類!B6,作業シート!$C$2:$D$21,2)","v":"農業，林業"},1,{"$f":"VLOOKUP(D6,作業シート!$F$2:$G$100,2)","v":"農業"},11,{"$f":"VLOOKUP(F6,作業シート!$I$2:$J$531,2)","v":"耕種農業"},113,"野菜作農業（きのこ類の栽培を含む）","A-1-11-113","製造業その他",null,null,null,null,null,null,null,null,{"$f":"CONCATENATE(\"（\",K1,\"）\",Q2)","v":"（判定用の分類）製造業その他"}]
[null,"A",{"$f":"VLOOKUP(日本標準産業分類!B7,作業シート!$C$2:$D$21,2)","v":"農業，林業"},1,{"$f":"VLOOKUP(D7,作業シート!$F$2:$G$100,2)","v":"農業"},11,{"$f":"VLOOKUP(F7,作業シート!$I$2:$J$531,2)","v":"耕種農業"},114,"果樹作農業","A-1-11-114","製造業その他"]
[null,"A",{"$f":"VLOOKUP(日本標準産業分類!B8,作業シート!$C$2:$D$21,2)","v":"農業，林業"},1,{"$f":"VLOOKUP(D8,作業シート!$F$2:$G$100,2)","v":"農業"},11,{"$f":"VLOOKUP(F8,作業シート!$I$2:$J$531,2)","v":"耕種農業"},115,"花き作農業","A-1-11-115","製造業その他"]
[null,"A",{"$f":"VLOOKUP(日本標準産業分類!B9,作業シート!$C$2:$D$21,2)","v":"農業，林業"},1,{"$f":"VLOOKUP(D9,作業シート!$F$2:$G$100,2)","v":"農業"},11,{"$f":"VLOOKUP(F9,作業シート!$I$2:$J$531,2)","v":"耕種農業"},116,"工芸農作物農業","A-1-11-116","製造業その他"]
[null,"A",{"$f":"VLOOKUP(日本標準産業分類!B10,作業シート!$C$2:$D$21,2)","v":"農業，林業"},1,{"$f":"VLOOKUP(D10,作業シート!$F$2:$G$100,2)","v":"農業"},11,{"$f":"VLOOKUP(F10,作業シート!$I$2:$J$531,2)","v":"耕種農業"},117,"ばれいしょ・かんしょ作農業","A-1-11-117","製造業その他"]
[null,"A",{"$f":"VLOOKUP(日本標準産業分類!B11,作業シート!$C$2:$D$21,2)","v":"農業，林業"},1,{"$f":"VLOOKUP(D11,作業シート!$F$2:$G$100,2)","v":"農業"},11,{"$f":"VLOOKUP(F11,作業シート!$I$2:$J$531,2)","v":"耕種農業"},119,"その他の耕種農業","A-1-11-119","製造業その他"]
[null,"A",{"$f":"VLOOKUP(日本標準産業分類!B12,作業シート!$C$2:$D$21,2)","v":"農業，林業"},1,{"$f":"VLOOKUP(D12,作業シート!$F$2:$G$100,2)","v":"農業"},12,{"$f":"VLOOKUP(F12,作業シート!$I$2:$J$531,2)","v":"畜産農業"},121,"酪農業","A-1-12-121","製造業その他"]
[null,"A",{"$f":"VLOOKUP(日本標準産業分類!B13,作業シート!$C$2:$D$21,2)","v":"農業，林業"},1,{"$f":"VLOOKUP(D13,作業シート!$F$2:$G$100,2)","v":"農業"},12,{"$f":"VLOOKUP(F13,作業シート!$I$2:$J$531,2)","v":"畜産農業"},122,"肉用牛生産業","A-1-12-122","製造業その他"]
[null,"A",{"$f":"VLOOKUP(日本標準産業分類!B14,作業シート!$C$2:$D$21,2)","v":"農業，林業"},1,{"$f":"VLOOKUP(D14,作業シート!$F$2:$G$100,2)","v":"農業"},12,{"$f":"VLOOKUP(F14,作業シート!$I$2:$J$531,2)","v":"畜産農業"},123,"養豚業","A-1-12-123","製造業その他"]
[null,"A",{"$f":"VLOOKUP(日本標準産業分類!B15,作業シート!$C$2:$D$21,2)","v":"農業，林業"},1,{"$f":"VLOOKUP(D15,作業シート!$F$2:$G$100,2)","v":"農業"},12,{"$f":"VLOOKUP(F15,作業シート!$I$2:$J$531,2)","v":"畜産農業"},124,"養鶏業","A-1-12-124","製造業その他"]
[null,"A",{"$f":"VLOOKUP(日本標準産業分類!B16,作業シート!$C$2:$D$21,2)","v":"農業，林業"},1,{"$f":"VLOOKUP(D16,作業シート!$F$2:$G$100,2)","v":"農業"},12,{"$f":"VLOOKUP(F16,作業シート!$I$2:$J$531,2)","v":"畜産農業"},125,"畜産類似業","A-1-12-125","製造業その他",null,null,null,null,null,null,null,null,"該当する分類に「○」を入力したのち、\n上の「判定」ボタンをクリックしてください。"]
[null,"A",{"$f":"VLOOKUP(日本標準産業分類!B17,作業シート!$C$2:$D$21,2)","v":"農業，林業"},1,{"$f":"VLOOKUP(D17,作業シート!$F$2:$G$100,2)","v":"農業"},12,{"$f":"VLOOKUP(F17,作業シート!$I$2:$J$531,2)","v":"畜産農業"},126,"養蚕農業","A-1-12-126","製造業その他"]
[null,"A",{"$f":"VLOOKUP(日本標準産業分類!B18,作業シート!$C$2:$D$21,2)","v":"農業，林業"},1,{"$f":"VLOOKUP(D18,作業シート!$F$2:$G$100,2)","v":"農業"},12,{"$f":"VLOOKUP(F18,作業シート!$I$2:$J$531,2)","v":"畜産農業"},129,"その他の畜産農業","A-1-12-129","製造業その他"]
[null,"A",{"$f":"VLOOKUP(日本標準産業分類!B19,作業シート!$C$2:$D$21,2)","v":"農業，林業"},1,{"$f":"VLOOKUP(D19,作業シート!$F$2:$G$100,2)","v":"農業"},13,{"$f":"VLOOKUP(F19,作業シート!$I$2:$J$531,2)","v":"農業サービス業（園芸サービス業を除く）"},131,"穀作サービス業","A-1-13-131","製造業その他"]
[null,"A",{"$f":"VLOOKUP(日本標準産業分類!B20,作業シート!$C$2:$D$21,2)","v":"農業，林業"},1,{"$f":"VLOOKUP(D20,作業シート!$F$2:$G$100,2)","v":"農業"},13,{"$f":"VLOOKUP(F20,作業シート!$I$2:$J$531,2)","v":"農業サービス業（園芸サービス業を除く）"},132,"野菜作・果樹作サービス業","A-1-13-132","製造業その他"]
[null,"A",{"$f":"VLOOKUP(日本標準産業分類!B21,作業シート!$C$2:$D$21,2)","v":"農業，林業"},1,{"$f":"VLOOKUP(D21,作業シート!$F$2:$G$100,2)","v":"農業"},13,{"$f":"VLOOKUP(F21,作業シート!$I$2:$J$531,2)","v":"農業サービス業（園芸サービス業を除く）"},133,"穀作，野菜作・果樹作以外の耕種サービス業","A-1-13-133","製造業その他"]
[null,"A",{"$f":"VLOOKUP(日本標準産業分類!B22,作業シート!$C$2:$D$21,2)","v":"農業，林業"},1,{"$f":"VLOOKUP(D22,作業シート!$F$2:$G$100,2)","v":"農業"},13,{"$f":"VLOOKUP(F22,作業シート!$I$2:$J$531,2)","v":"農業サービス業（園芸サービス業を除く）"},134,"畜産サービス業（獣医業を除く）","A-1-13-134","製造業その他"]
[null,"A",{"$f":"VLOOKUP(日本標準産業分類!B23,作業シート!$C$2:$D$21,2)","v":"農業，林業"},1,{"$f":"VLOOKUP(D23,作業シート!$F$2:$G$100,2)","v":"農業"},14,{"$f":"VLOOKUP(F23,作業シート!$I$2:$J$531,2)","v":"園芸サービス業"},141,"園芸サービス業","A-1-14-141","製造業その他"]
[null,"A",{"$f":"VLOOKUP(日本標準産業分類!B24,作業シート!$C$2:$D$21,2)","v":"農業，林業"},2,{"$f":"VLOOKUP(D24,作業シート!$F$2:$G$100,2)","v":"林業"},20,{"$f":"VLOOKUP(F24,作業シート!$I$2:$J$531,2)","v":"管理，補助的経済活動を行う事業所（02林業）"},200,"主として管理事務を行う本社等","A-2-20-200","製造業その他"]
[null,"A",{"$f":"VLOOKUP(日本標準産業分類!B25,作業シート!$C$2:$D$21,2)","v":"農業，林業"},2,{"$f":"VLOOKUP(D25,作業シート!$F$2:$G$100,2)","v":"林業"},20,{"$f":"VLOOKUP(F25,作業シート!$I$2:$J$531,2)","v":"管理，補助的経済活動を行う事業所（02林業）"},209,"その他の管理，補助的経済活動を行う事業所","A-2-20-209","製造業その他"]
[null,"A",{"$f":"VLOOKUP(日本標準産業分類!B26,作業シート!$C$2:$D$21,2)","v":"農業，林業"},2,{"$f":"VLOOKUP(D26,作業シート!$F$2:$G$100,2)","v":"林業"},21,{"$f":"VLOOKUP(F26,作業シート!$I$2:$J$531,2)","v":"育林業"},211,"育林業","A-2-21-211","製造業その他"]
[null,"A",{"$f":"VLOOKUP(日本標準産業分類!B27,作業シート!$C$2:$D$21,2)","v":"農業，林業"},2,{"$f":"VLOOKUP(D27,作業シート!$F$2:$G$100,2)","v":"林業"},22,{"$f":"VLOOKUP(F27,作業シート!$I$2:$J$531,2)","v":"素材生産業"},221,"素材生産業","A-2-22-221","製造業その他"]
[null,"A",{"$f":"VLOOKUP(日本標準産業分類!B28,作業シート!$C$2:$D$21,2)","v":"農業，林業"},2,{"$f":"VLOOKUP(D28,作業シート!$F$2:$G$100,2)","v":"林業"},23,{"$f":"VLOOKUP(F28,作業シート!$I$2:$J$531,2)","v":"特用林産物生産業（きのこ類の栽培を除く）"},231,"製薪炭業","A-2-23-231","製造業その他"]
[null,"A",{"$f":"VLOOKUP(日本標準産業分類!B29,作業シート!$C$2:$D$21,2)","v":"農業，林業"},2,{"$f":"VLOOKUP(D29,作業シート!$F$2:$G$100,2)","v":"林業"},23,{"$f":"VLOOKUP(F29,作業シート!$I$2:$J$531,2)","v":"特用林産物生産業（きのこ類の栽培を除く）"},239,"その他の特用林産物生産業（きのこ類の栽培を除く）","A-2-23-239","製造業その他"]
[null,"A",{"$f":"VLOOKUP(日本標準産業分類!B30,作業シート!$C$2:$D$21,2)","v":"農業，林業"},2,{"$f":"VLOOKUP(D30,作業シート!$F$2:$G$100,2)","v":"林業"},24,{"$f":"VLOOKUP(F30,作業シート!$I$2:$J$531,2)","v":"林業サービス業"},241,"育林サービス業","A-2-24-241","製造業その他"]
[null,"A",{"$f":"VLOOKUP(日本標準産業分類!B31,作業シート!$C$2:$D$21,2)","v":"農業，林業"},2,{"$f":"VLOOKUP(D31,作業シート!$F$2:$G$100,2)","v":"林業"},24,{"$f":"VLOOKUP(F31,作業シート!$I$2:$J$531,2)","v":"林業サービス業"},242,"素材生産サービス業","A-2-24-242","製造業その他"]
[null,"A",{"$f":"VLOOKUP(日本標準産業分類!B32,作業シート!$C$2:$D$21,2)","v":"農業，林業"},2,{"$f":"VLOOKUP(D32,作業シート!$F$2:$G$100,2)","v":"林業"},24,{"$f":"VLOOKUP(F32,作業シート!$I$2:$J$531,2)","v":"林業サービス業"},243,"山林種苗生産サービス業","A-2-24-243","製造業その他"]
[null,"A",{"$f":"VLOOKUP(日本標準産業分類!B33,作業シート!$C$2:$D$21,2)","v":"農業，林業"},2,{"$f":"VLOOKUP(D33,作業シート!$F$2:$G$100,2)","v":"林業"},24,{"$f":"VLOOKUP(F33,作業シート!$I$2:$J$531,2)","v":"林業サービス業"},249,"その他の林業サービス業","A-2-24-249","製造業その他"]
[null,"A",{"$f":"VLOOKUP(日本標準産業分類!B34,作業シート!$C$2:$D$21,2)","v":"農業，林業"},2,{"$f":"VLOOKUP(D34,作業シート!$F$2:$G$100,2)","v":"林業"},29,{"$f":"VLOOKUP(F34,作業シート!$I$2:$J$531,2)","v":"その他の林業"},299,"その他の林業","A-2-29-299","製造業その他"]
[null,"B",{"$f":"VLOOKUP(日本標準産業分類!B35,作業シート!$C$2:$D$21,2)","v":"漁業"},3,{"$f":"VLOOKUP(D35,作業シート!$F$2:$G$100,2)","v":"漁業（水産養殖業を除く）"},30,{"$f":"VLOOKUP(F35,作業シート!$I$2:$J$531,2)","v":"管理，補助的経済活動を行う事業所（03漁業）"},300,"主として管理事務を行う本社等","B-3-30-300","製造業その他"]
[null,"B",{"$f":"VLOOKUP(日本標準産業分類!B36,作業シート!$C$2:$D$21,2)","v":"漁業"},3,{"$f":"VLOOKUP(D36,作業シート!$F$2:$G$100,2)","v":"漁業（水産養殖業を除く）"},30,{"$f":"VLOOKUP(F36,作業シート!$I$2:$J$531,2)","v":"管理，補助的経済活動を行う事業所（03漁業）"},309,"その他の管理，補助的経済活動を行う事業所","B-3-30-309","製造業その他"]
[null,"B",{"$f":"VLOOKUP(日本標準産業分類!B37,作業シート!$C$2:$D$21,2)","v":"漁業"},3,{"$f":"VLOOKUP(D37,作業シート!$F$2:$G$100,2)","v":"漁業（水産養殖業を除く）"},31,{"$f":"VLOOKUP(F37,作業シート!$I$2:$J$531,2)","v":"海面漁業"},311,"底びき網漁業","B-3-31-311","製造業その他"]
[null,"B",{"$f":"VLOOKUP(日本標準産業分類!B38,作業シート!$C$2:$D$21,2)","v":"漁業"},3,{"$f":"VLOOKUP(D38,作業シート!$F$2:$G$100,2)","v":"漁業（水産養殖業を除く）"},31,{"$f":"VLOOKUP(F38,作業シート!$I$2:$J$531,2)","v":"海面漁業"},312,"まき網漁業","B-3-31-312","製造業その他"]
[null,"B",{"$f":"VLOOKUP(日本標準産業分類!B39,作業シート!$C$2:$D$21,2)","v":"漁業"},3,{"$f":"VLOOKUP(D39,作業シート!$F$2:$G$100,2)","v":"漁業（水産養殖業を除く）"},31,{"$f":"VLOOKUP(F39,作業シート!$I$2:$J$531,2)","v":"海面漁業"},313,"刺網漁業","B-3-31-313","製造業その他"]
[null,"B",{"$f":"VLOOKUP(日本標準産業分類!B40,作業シート!$C$2:$D$21,2)","v":"漁業"},3,{"$f":"VLOOKUP(D40,作業シート!$F$2:$G$100,2)","v":"漁業（水産養殖業を除く）"},31,{"$f":"VLOOKUP(F40,作業シート!$I$2:$J$531,2)","v":"海面漁業"},314,"釣・はえ縄漁業","B-3-31-314","製造業その他"]
[null,"B",{"$f":"VLOOKUP(日本標準産業分類!B41,作業シート!$C$2:$D$21,2)","v":"漁業"},3,{"$f":"VLOOKUP(D41,作業シート!$F$2:$G$100,2)","v":"漁業（水産養殖業を除く）"},31,{"$f":"VLOOKUP(F41,作業シート!$I$2:$J$531,2)","v":"海面漁業"},315,"定置網漁業","B-3-31-315","製造業その他"]
[null,"B",{"$f":"VLOOKUP(日本標準産業分類!B42,作業シート!$C$2:$D$21,2)","v":"漁業"},3,{"$f":"VLOOKUP(D42,作業シート!$F$2:$G$100,2)","v":"漁業（水産養殖業を除く）"},31,{"$f":"VLOOKUP(F42,作業シート!$I$2:$J$531,2)","v":"海面漁業"},316,"地びき網・船びき網漁業","B-3-31-316","製造業その他"]
[null,"B",{"$f":"VLOOKUP(日本標準産業分類!B43,作業シート!$C$2:$D$21,2)","v":"漁業"},3,{"$f":"VLOOKUP(D43,作業シート!$F$2:$G$100,2)","v":"漁業（水産養殖業を除く）"},31,{"$f":"VLOOKUP(F43,作業シート!$I$2:$J$531,2)","v":"海面漁業"},317,"採貝・採藻業","B-3-31-317","製造業その他"]
[null,"B",{"$f":"VLOOKUP(日本標準産業分類!B44,作業シート!$C$2:$D$21,2)","v":"漁業"},3,{"$f":"VLOOKUP(D44,作業シート!$F$2:$G$100,2)","v":"漁業（水産養殖業を除く）"},31,{"$f":"VLOOKUP(F44,作業シート!$I$2:$J$531,2)","v":"海面漁業"},318,"捕鯨業","B-3-31-318","製造業その他"]
[null,"B",{"$f":"VLOOKUP(日本標準産業分類!B45,作業シート!$C$2:$D$21,2)","v":"漁業"},3,{"$f":"VLOOKUP(D45,作業シート!$F$2:$G$100,2)","v":"漁業（水産養殖業を除く）"},31,{"$f":"VLOOKUP(F45,作業シート!$I$2:$J$531,2)","v":"海面漁業"},319,"その他の海面漁業","B-3-31-319","製造業その他"]
[null,"B",{"$f":"VLOOKUP(日本標準産業分類!B46,作業シート!$C$2:$D$21,2)","v":"漁業"},3,{"$f":"VLOOKUP(D46,作業シート!$F$2:$G$100,2)","v":"漁業（水産養殖業を除く）"},32,{"$f":"VLOOKUP(F46,作業シート!$I$2:$J$531,2)","v":"内水面漁業"},321,"内水面漁業","B-3-32-321","製造業その他"]
[null,"B",{"$f":"VLOOKUP(日本標準産業分類!B47,作業シート!$C$2:$D$21,2)","v":"漁業"},4,{"$f":"VLOOKUP(D47,作業シート!$F$2:$G$100,2)","v":"水産養殖業"},40,{"$f":"VLOOKUP(F47,作業シート!$I$2:$J$531,2)","v":"管理，補助的経済活動を行う事業所（04水産養殖業）"},400,"主として管理事務を行う本社等",{"$f":"CONCATENATE(B47,\"-\",D47,\"-\",F47,\"-\",H47)","v":"B-4-40-400"},"製造業その他"]
[null,"B",{"$f":"VLOOKUP(日本標準産業分類!B48,作業シート!$C$2:$D$21,2)","v":"漁業"},4,{"$f":"VLOOKUP(D48,作業シート!$F$2:$G$100,2)","v":"水産養殖業"},40,{"$f":"VLOOKUP(F48,作業シート!$I$2:$J$531,2)","v":"管理，補助的経済活動を行う事業所（04水産養殖業）"},409,"その他の管理，補助的経済活動を行う事業所","B-4-40-409","製造業その他"]
[null,"B",{"$f":"VLOOKUP(日本標準産業分類!B49,作業シート!$C$2:$D$21,2)","v":"漁業"},4,{"$f":"VLOOKUP(D49,作業シート!$F$2:$G$100,2)","v":"水産養殖業"},41,{"$f":"VLOOKUP(F49,作業シート!$I$2:$J$531,2)","v":"海面養殖業"},411,"魚類養殖業","B-4-41-411","製造業その他"]
[null,"B",{"$f":"VLOOKUP(日本標準産業分類!B50,作業シート!$C$2:$D$21,2)","v":"漁業"},4,{"$f":"VLOOKUP(D50,作業シート!$F$2:$G$100,2)","v":"水産養殖業"},41,{"$f":"VLOOKUP(F50,作業シート!$I$2:$J$531,2)","v":"海面養殖業"},412,"貝類養殖業","B-4-41-412","製造業その他"]
[null,"B",{"$f":"VLOOKUP(日本標準産業分類!B51,作業シート!$C$2:$D$21,2)","v":"漁業"},4,{"$f":"VLOOKUP(D51,作業シート!$F$2:$G$100,2)","v":"水産養殖業"},41,{"$f":"VLOOKUP(F51,作業シート!$I$2:$J$531,2)","v":"海面養殖業"},413,"藻類養殖業","B-4-41-413","製造業その他"]
[null,"B",{"$f":"VLOOKUP(日本標準産業分類!B52,作業シート!$C$2:$D$21,2)","v":"漁業"},4,{"$f":"VLOOKUP(D52,作業シート!$F$2:$G$100,2)","v":"水産養殖業"},41,{"$f":"VLOOKUP(F52,作業シート!$I$2:$J$531,2)","v":"海面養殖業"},414,"真珠養殖業","B-4-41-414","製造業その他"]
[null,"B",{"$f":"VLOOKUP(日本標準産業分類!B53,作業シート!$C$2:$D$21,2)","v":"漁業"},4,{"$f":"VLOOKUP(D53,作業シート!$F$2:$G$100,2)","v":"水産養殖業"},41,{"$f":"VLOOKUP(F53,作業シート!$I$2:$J$531,2)","v":"海面養殖業"},415,"種苗養殖業","B-4-41-415","製造業その他"]
[null,"B",{"$f":"VLOOKUP(日本標準産業分類!B54,作業シート!$C$2:$D$21,2)","v":"漁業"},4,{"$f":"VLOOKUP(D54,作業シート!$F$2:$G$100,2)","v":"水産養殖業"},41,{"$f":"VLOOKUP(F54,作業シート!$I$2:$J$531,2)","v":"海面養殖業"},419,"その他の海面養殖業","B-4-41-419","製造業その他"]
[null,"B",{"$f":"VLOOKUP(日本標準産業分類!B55,作業シート!$C$2:$D$21,2)","v":"漁業"},4,{"$f":"VLOOKUP(D55,作業シート!$F$2:$G$100,2)","v":"水産養殖業"},42,{"$f":"VLOOKUP(F55,作業シート!$I$2:$J$531,2)","v":"内水面養殖業"},421,"内水面養殖業","B-4-42-421","製造業その他"]
[null,"C",{"$f":"VLOOKUP(日本標準産業分類!B56,作業シート!$C$2:$D$21,2)","v":"鉱業，採石業，砂利採取業"},5,{"$f":"VLOOKUP(D56,作業シート!$F$2:$G$100,2)","v":"鉱業，採石業，砂利採取業"},50,{"$f":"VLOOKUP(F56,作業シート!$I$2:$J$531,2)","v":"管理，補助的経済活動を行う事業所（05鉱業，採石業，砂利採取業）"},500,"主として管理事務を行う本社等","C-5-50-500","製造業その他"]
[null,"C",{"$f":"VLOOKUP(日本標準産業分類!B57,作業シート!$C$2:$D$21,2)","v":"鉱業，採石業，砂利採取業"},5,{"$f":"VLOOKUP(D57,作業シート!$F$2:$G$100,2)","v":"鉱業，採石業，砂利採取業"},50,{"$f":"VLOOKUP(F57,作業シート!$I$2:$J$531,2)","v":"管理，補助的経済活動を行う事業所（05鉱業，採石業，砂利採取業）"},509,"その他の管理，補助的経済活動を行う事業所","C-5-50-509","製造業その他"]
[null,"C",{"$f":"VLOOKUP(日本標準産業分類!B58,作業シート!$C$2:$D$21,2)","v":"鉱業，採石業，砂利採取業"},5,{"$f":"VLOOKUP(D58,作業シート!$F$2:$G$100,2)","v":"鉱業，採石業，砂利採取業"},51,{"$f":"VLOOKUP(F58,作業シート!$I$2:$J$531,2)","v":"金属鉱業"},511,"金・銀鉱業","C-5-51-511","製造業その他"]
[null,"C",{"$f":"VLOOKUP(日本標準産業分類!B59,作業シート!$C$2:$D$21,2)","v":"鉱業，採石業，砂利採取業"},5,{"$f":"VLOOKUP(D59,作業シート!$F$2:$G$100,2)","v":"鉱業，採石業，砂利採取業"},51,{"$f":"VLOOKUP(F59,作業シート!$I$2:$J$531,2)","v":"金属鉱業"},512,"鉛・亜鉛鉱業","C-5-51-512","製造業その他"]
[null,"C",{"$f":"VLOOKUP(日本標準産業分類!B60,作業シート!$C$2:$D$21,2)","v":"鉱業，採石業，砂利採取業"},5,{"$f":"VLOOKUP(D60,作業シート!$F$2:$G$100,2)","v":"鉱業，採石業，砂利採取業"},51,{"$f":"VLOOKUP(F60,作業シート!$I$2:$J$531,2)","v":"金属鉱業"},513,"鉄鉱業","C-5-51-513","製造業その他"]
[null,"C",{"$f":"VLOOKUP(日本標準産業分類!B61,作業シート!$C$2:$D$21,2)","v":"鉱業，採石業，砂利採取業"},5,{"$f":"VLOOKUP(D61,作業シート!$F$2:$G$100,2)","v":"鉱業，採石業，砂利採取業"},51,{"$f":"VLOOKUP(F61,作業シート!$I$2:$J$531,2)","v":"金属鉱業"},519,"その他の金属鉱業","C-5-51-519","製造業その他"]
[null,"C",{"$f":"VLOOKUP(日本標準産業分類!B62,作業シート!$C$2:$D$21,2)","v":"鉱業，採石業，砂利採取業"},5,{"$f":"VLOOKUP(D62,作業シート!$F$2:$G$100,2)","v":"鉱業，採石業，砂利採取業"},52,{"$f":"VLOOKUP(F62,作業シート!$I$2:$J$531,2)","v":"石炭・亜炭鉱業"},521,"石炭鉱業（石炭選別業を含む）","C-5-52-521","製造業その他"]
[null,"C",{"$f":"VLOOKUP(日本標準産業分類!B63,作業シート!$C$2:$D$21,2)","v":"鉱業，採石業，砂利採取業"},5,{"$f":"VLOOKUP(D63,作業シート!$F$2:$G$100,2)","v":"鉱業，採石業，砂利採取業"},52,{"$f":"VLOOKUP(F63,作業シート!$I$2:$J$531,2)","v":"石炭・亜炭鉱業"},522,"亜炭鉱業","C-5-52-522","製造業その他"]
[null,"C",{"$f":"VLOOKUP(日本標準産業分類!B64,作業シート!$C$2:$D$21,2)","v":"鉱業，採石業，砂利採取業"},5,{"$f":"VLOOKUP(D64,作業シート!$F$2:$G$100,2)","v":"鉱業，採石業，砂利採取業"},53,{"$f":"VLOOKUP(F64,作業シート!$I$2:$J$531,2)","v":"原油・天然ガス鉱業"},531,"原油鉱業","C-5-53-531","製造業その他"]
[null,"C",{"$f":"VLOOKUP(日本標準産業分類!B65,作業シート!$C$2:$D$21,2)","v":"鉱業，採石業，砂利採取業"},5,{"$f":"VLOOKUP(D65,作業シート!$F$2:$G$100,2)","v":"鉱業，採石業，砂利採取業"},53,{"$f":"VLOOKUP(F65,作業シート!$I$2:$J$531,2)","v":"原油・天然ガス鉱業"},532,"天然ガス鉱業","C-5-53-532","製造業その他"]
[null,"C",{"$f":"VLOOKUP(日本標準産業分類!B66,作業シート!$C$2:$D$21,2)","v":"鉱業，採石業，砂利採取業"},5,{"$f":"VLOOKUP(D66,作業シート!$F$2:$G$100,2)","v":"鉱業，採石業，砂利採取業"},54,{"$f":"VLOOKUP(F66,作業シート!$I$2:$J$531,2)","v":"採石業，砂・砂利・玉石採取業"},541,"花こう岩・同類似岩石採石業","C-5-54-541","製造業その他"]
[null,"C",{"$f":"VLOOKUP(日本標準産業分類!B67,作業シート!$C$2:$D$21,2)","v":"鉱業，採石業，砂利採取業"},5,{"$f":"VLOOKUP(D67,作業シート!$F$2:$G$100,2)","v":"鉱業，採石業，砂利採取業"},54,{"$f":"VLOOKUP(F67,作業シート!$I$2:$J$531,2)","v":"採石業，砂・砂利・玉石採取業"},542,"石英粗面岩・同類似岩石採石業","C-5-54-542","製造業その他"]
[null,"C",{"$f":"VLOOKUP(日本標準産業分類!B68,作業シート!$C$2:$D$21,2)","v":"鉱業，採石業，砂利採取業"},5,{"$f":"VLOOKUP(D68,作業シート!$F$2:$G$100,2)","v":"鉱業，採石業，砂利採取業"},54,{"$f":"VLOOKUP(F68,作業シート!$I$2:$J$531,2)","v":"採石業，砂・砂利・玉石採取業"},543,"安山岩・同類似岩石採石業","C-5-54-543","製造業その他"]
[null,"C",{"$f":"VLOOKUP(日本標準産業分類!B69,作業シート!$C$2:$D$21,2)","v":"鉱業，採石業，砂利採取業"},5,{"$f":"VLOOKUP(D69,作業シート!$F$2:$G$100,2)","v":"鉱業，採石業，砂利採取業"},54,{"$f":"VLOOKUP(F69,作業シート!$I$2:$J$531,2)","v":"採石業，砂・砂利・玉石採取業"},544,"大理石採石業","C-5-54-544","製造業その他"]
[null,"C",{"$f":"VLOOKUP(日本標準産業分類!B70,作業シート!$C$2:$D$21,2)","v":"鉱業，採石業，砂利採取業"},5,{"$f":"VLOOKUP(D70,作業シート!$F$2:$G$100,2)","v":"鉱業，採石業，砂利採取業"},54,{"$f":"VLOOKUP(F70,作業シート!$I$2:$J$531,2)","v":"採石業，砂・砂利・玉石採取業"},545,"ぎょう灰岩採石業","C-5-54-545","製造業その他"]
[null,"C",{"$f":"VLOOKUP(日本標準産業分類!B71,作業シート!$C$2:$D$21,2)","v":"鉱業，採石業，砂利採取業"},5,{"$f":"VLOOKUP(D71,作業シート!$F$2:$G$100,2)","v":"鉱業，採石業，砂利採取業"},54,{"$f":"VLOOKUP(F71,作業シート!$I$2:$J$531,2)","v":"採石業，砂・砂利・玉石採取業"},546,"砂岩採石業","C-5-54-546","製造業その他"]
[null,"C",{"$f":"VLOOKUP(日本標準産業分類!B72,作業シート!$C$2:$D$21,2)","v":"鉱業，採石業，砂利採取業"},5,{"$f":"VLOOKUP(D72,作業シート!$F$2:$G$100,2)","v":"鉱業，採石業，砂利採取業"},54,{"$f":"VLOOKUP(F72,作業シート!$I$2:$J$531,2)","v":"採石業，砂・砂利・玉石採取業"},547,"粘板岩採石業","C-5-54-547","製造業その他"]
[null,"C",{"$f":"VLOOKUP(日本標準産業分類!B73,作業シート!$C$2:$D$21,2)","v":"鉱業，採石業，砂利採取業"},5,{"$f":"VLOOKUP(D73,作業シート!$F$2:$G$100,2)","v":"鉱業，採石業，砂利採取業"},54,{"$f":"VLOOKUP(F73,作業シート!$I$2:$J$531,2)","v":"採石業，砂・砂利・玉石採取業"},548,"砂・砂利・玉石採取業","C-5-54-548","製造業その他"]
[null,"C",{"$f":"VLOOKUP(日本標準産業分類!B74,作業シート!$C$2:$D$21,2)","v":"鉱業，採石業，砂利採取業"},5,{"$f":"VLOOKUP(D74,作業シート!$F$2:$G$100,2)","v":"鉱業，採石業，砂利採取業"},54,{"$f":"VLOOKUP(F74,作業シート!$I$2:$J$531,2)","v":"採石業，砂・砂利・玉石採取業"},549,"その他の採石業，砂・砂利・玉石採取業","C-5-54-549","製造業その他"]
[null,"C",{"$f":"VLOOKUP(日本標準産業分類!B75,作業シート!$C$2:$D$21,2)","v":"鉱業，採石業，砂利採取業"},5,{"$f":"VLOOKUP(D75,作業シート!$F$2:$G$100,2)","v":"鉱業，採石業，砂利採取業"},55,{"$f":"VLOOKUP(F75,作業シート!$I$2:$J$531,2)","v":"窯業原料用鉱物鉱業（耐火物・陶磁器・ガラス・セメント原料用に限る）"},551,"耐火粘土鉱業","C-5-55-551","製造業その他"]
[null,"C",{"$f":"VLOOKUP(日本標準産業分類!B76,作業シート!$C$2:$D$21,2)","v":"鉱業，採石業，砂利採取業"},5,{"$f":"VLOOKUP(D76,作業シート!$F$2:$G$100,2)","v":"鉱業，採石業，砂利採取業"},55,{"$f":"VLOOKUP(F76,作業シート!$I$2:$J$531,2)","v":"窯業原料用鉱物鉱業（耐火物・陶磁器・ガラス・セメント原料用に限る）"},552,"ろう石鉱業","C-5-55-552","製造業その他"]
[null,"C",{"$f":"VLOOKUP(日本標準産業分類!B77,作業シート!$C$2:$D$21,2)","v":"鉱業，採石業，砂利採取業"},5,{"$f":"VLOOKUP(D77,作業シート!$F$2:$G$100,2)","v":"鉱業，採石業，砂利採取業"},55,{"$f":"VLOOKUP(F77,作業シート!$I$2:$J$531,2)","v":"窯業原料用鉱物鉱業（耐火物・陶磁器・ガラス・セメント原料用に限る）"},553,"ドロマイト鉱業","C-5-55-553","製造業その他"]
[null,"C",{"$f":"VLOOKUP(日本標準産業分類!B78,作業シート!$C$2:$D$21,2)","v":"鉱業，採石業，砂利採取業"},5,{"$f":"VLOOKUP(D78,作業シート!$F$2:$G$100,2)","v":"鉱業，採石業，砂利採取業"},55,{"$f":"VLOOKUP(F78,作業シート!$I$2:$J$531,2)","v":"窯業原料用鉱物鉱業（耐火物・陶磁器・ガラス・セメント原料用に限る）"},554,"長石鉱業","C-5-55-554","製造業その他"]
[null,"C",{"$f":"VLOOKUP(日本標準産業分類!B79,作業シート!$C$2:$D$21,2)","v":"鉱業，採石業，砂利採取業"},5,{"$f":"VLOOKUP(D79,作業シート!$F$2:$G$100,2)","v":"鉱業，採石業，砂利採取業"},55,{"$f":"VLOOKUP(F79,作業シート!$I$2:$J$531,2)","v":"窯業原料用鉱物鉱業（耐火物・陶磁器・ガラス・セメント原料用に限る）"},555,"けい石鉱業","C-5-55-555","製造業その他"]
[null,"C",{"$f":"VLOOKUP(日本標準産業分類!B80,作業シート!$C$2:$D$21,2)","v":"鉱業，採石業，砂利採取業"},5,{"$f":"VLOOKUP(D80,作業シート!$F$2:$G$100,2)","v":"鉱業，採石業，砂利採取業"},55,{"$f":"VLOOKUP(F80,作業シート!$I$2:$J$531,2)","v":"窯業原料用鉱物鉱業（耐火物・陶磁器・ガラス・セメント原料用に限る）"},556,"天然けい砂鉱業","C-5-55-556","製造業その他"]
[null,"C",{"$f":"VLOOKUP(日本標準産業分類!B81,作業シート!$C$2:$D$21,2)","v":"鉱業，採石業，砂利採取業"},5,{"$f":"VLOOKUP(D81,作業シート!$F$2:$G$100,2)","v":"鉱業，採石業，砂利採取業"},55,{"$f":"VLOOKUP(F81,作業シート!$I$2:$J$531,2)","v":"窯業原料用鉱物鉱業（耐火物・陶磁器・ガラス・セメント原料用に限る）"},557,"石灰石鉱業","C-5-55-557","製造業その他"]
[null,"C",{"$f":"VLOOKUP(日本標準産業分類!B82,作業シート!$C$2:$D$21,2)","v":"鉱業，採石業，砂利採取業"},5,{"$f":"VLOOKUP(D82,作業シート!$F$2:$G$100,2)","v":"鉱業，採石業，砂利採取業"},55,{"$f":"VLOOKUP(F82,作業シート!$I$2:$J$531,2)","v":"窯業原料用鉱物鉱業（耐火物・陶磁器・ガラス・セメント原料用に限る）"},559,"その他の窯業原料用鉱物鉱業","C-5-55-559","製造業その他"]
[null,"C",{"$f":"VLOOKUP(日本標準産業分類!B83,作業シート!$C$2:$D$21,2)","v":"鉱業，採石業，砂利採取業"},5,{"$f":"VLOOKUP(D83,作業シート!$F$2:$G$100,2)","v":"鉱業，採石業，砂利採取業"},59,{"$f":"VLOOKUP(F83,作業シート!$I$2:$J$531,2)","v":"その他の鉱業"},591,"酸性白土鉱業","C-5-59-591","製造業その他"]
[null,"C",{"$f":"VLOOKUP(日本標準産業分類!B84,作業シート!$C$2:$D$21,2)","v":"鉱業，採石業，砂利採取業"},5,{"$f":"VLOOKUP(D84,作業シート!$F$2:$G$100,2)","v":"鉱業，採石業，砂利採取業"},59,{"$f":"VLOOKUP(F84,作業シート!$I$2:$J$531,2)","v":"その他の鉱業"},592,"ベントナイト鉱業","C-5-59-592","製造業その他"]
[null,"C",{"$f":"VLOOKUP(日本標準産業分類!B85,作業シート!$C$2:$D$21,2)","v":"鉱業，採石業，砂利採取業"},5,{"$f":"VLOOKUP(D85,作業シート!$F$2:$G$100,2)","v":"鉱業，採石業，砂利採取業"},59,{"$f":"VLOOKUP(F85,作業シート!$I$2:$J$531,2)","v":"その他の鉱業"},593,"けいそう土鉱業","C-5-59-593","製造業その他"]
[null,"C",{"$f":"VLOOKUP(日本標準産業分類!B86,作業シート!$C$2:$D$21,2)","v":"鉱業，採石業，砂利採取業"},5,{"$f":"VLOOKUP(D86,作業シート!$F$2:$G$100,2)","v":"鉱業，採石業，砂利採取業"},59,{"$f":"VLOOKUP(F86,作業シート!$I$2:$J$531,2)","v":"その他の鉱業"},594,"滑石鉱業","C-5-59-594","製造業その他"]
[null,"C",{"$f":"VLOOKUP(日本標準産業分類!B87,作業シート!$C$2:$D$21,2)","v":"鉱業，採石業，砂利採取業"},5,{"$f":"VLOOKUP(D87,作業シート!$F$2:$G$100,2)","v":"鉱業，採石業，砂利採取業"},59,{"$f":"VLOOKUP(F87,作業シート!$I$2:$J$531,2)","v":"その他の鉱業"},599,"他に分類されない鉱業","C-5-59-599","製造業その他"]
[null,"D",{"$f":"VLOOKUP(日本標準産業分類!B88,作業シート!$C$2:$D$21,2)","v":"建設業"},6,{"$f":"VLOOKUP(D88,作業シート!$F$2:$G$100,2)","v":"総合工事業"},60,{"$f":"VLOOKUP(F88,作業シート!$I$2:$J$531,2)","v":"管理，補助的経済活動を行う事業所（06総合工事業）"},600,"主として管理事務を行う本社等","D-6-60-600","製造業その他"]
[null,"D",{"$f":"VLOOKUP(日本標準産業分類!B89,作業シート!$C$2:$D$21,2)","v":"建設業"},6,{"$f":"VLOOKUP(D89,作業シート!$F$2:$G$100,2)","v":"総合工事業"},60,{"$f":"VLOOKUP(F89,作業シート!$I$2:$J$531,2)","v":"管理，補助的経済活動を行う事業所（06総合工事業）"},609,"その他の管理，補助的経済活動を行う事業所","D-6-60-609","製造業その他"]
[null,"D",{"$f":"VLOOKUP(日本標準産業分類!B90,作業シート!$C$2:$D$21,2)","v":"建設業"},6,{"$f":"VLOOKUP(D90,作業シート!$F$2:$G$100,2)","v":"総合工事業"},61,{"$f":"VLOOKUP(F90,作業シート!$I$2:$J$531,2)","v":"一般土木建築工事業"},611,"一般土木建築工事業","D-6-61-611","製造業その他"]
[null,"D",{"$f":"VLOOKUP(日本標準産業分類!B91,作業シート!$C$2:$D$21,2)","v":"建設業"},6,{"$f":"VLOOKUP(D91,作業シート!$F$2:$G$100,2)","v":"総合工事業"},62,{"$f":"VLOOKUP(F91,作業シート!$I$2:$J$531,2)","v":"土木工事業（舗装工事業を除く）"},621,"土木工事業(別掲を除く)","D-6-62-621","製造業その他"]
[null,"D",{"$f":"VLOOKUP(日本標準産業分類!B92,作業シート!$C$2:$D$21,2)","v":"建設業"},6,{"$f":"VLOOKUP(D92,作業シート!$F$2:$G$100,2)","v":"総合工事業"},62,{"$f":"VLOOKUP(F92,作業シート!$I$2:$J$531,2)","v":"土木工事業（舗装工事業を除く）"},622,"造園工事業","D-6-62-622","製造業その他"]
[null,"D",{"$f":"VLOOKUP(日本標準産業分類!B93,作業シート!$C$2:$D$21,2)","v":"建設業"},6,{"$f":"VLOOKUP(D93,作業シート!$F$2:$G$100,2)","v":"総合工事業"},62,{"$f":"VLOOKUP(F93,作業シート!$I$2:$J$531,2)","v":"土木工事業（舗装工事業を除く）"},623,"しゅんせつ工事業","D-6-62-623","製造業その他"]
[null,"D",{"$f":"VLOOKUP(日本標準産業分類!B94,作業シート!$C$2:$D$21,2)","v":"建設業"},6,{"$f":"VLOOKUP(D94,作業シート!$F$2:$G$100,2)","v":"総合工事業"},63,{"$f":"VLOOKUP(F94,作業シート!$I$2:$J$531,2)","v":"舗装工事業"},631,"舗装工事業",{"$f":"CONCATENATE(B94,\"-\",D94,\"-\",F94,\"-\",H94)","v":"D-6-63-631"},"製造業その他"]
[null,"D",{"$f":"VLOOKUP(日本標準産業分類!B95,作業シート!$C$2:$D$21,2)","v":"建設業"},6,{"$f":"VLOOKUP(D95,作業シート!$F$2:$G$100,2)","v":"総合工事業"},64,{"$f":"VLOOKUP(F95,作業シート!$I$2:$J$531,2)","v":"建築工事業(木造建築工事業を除く)"},641,"建築工事業(木造建築工事業を除く)","D-6-64-641","製造業その他"]
[null,"D",{"$f":"VLOOKUP(日本標準産業分類!B96,作業シート!$C$2:$D$21,2)","v":"建設業"},6,{"$f":"VLOOKUP(D96,作業シート!$F$2:$G$100,2)","v":"総合工事業"},65,{"$f":"VLOOKUP(F96,作業シート!$I$2:$J$531,2)","v":"木造建築工事業"},651,"木造建築工事業","D-6-65-651","製造業その他"]
[null,"D",{"$f":"VLOOKUP(日本標準産業分類!B97,作業シート!$C$2:$D$21,2)","v":"建設業"},6,{"$f":"VLOOKUP(D97,作業シート!$F$2:$G$100,2)","v":"総合工事業"},66,{"$f":"VLOOKUP(F97,作業シート!$I$2:$J$531,2)","v":"建築リフォーム工事業"},661,"建築リフォーム工事業","D-6-66-661","製造業その他"]
[null,"D",{"$f":"VLOOKUP(日本標準産業分類!B98,作業シート!$C$2:$D$21,2)","v":"建設業"},7,{"$f":"VLOOKUP(D98,作業シート!$F$2:$G$100,2)","v":"職別工事業(設備工事業を除く)"},70,{"$f":"VLOOKUP(F98,作業シート!$I$2:$J$531,2)","v":"管理，補助的経済活動を行う事業所（07職別工事業）"},700,"主として管理事務を行う本社等","D-7-70-700","製造業その他"]
[null,"D",{"$f":"VLOOKUP(日本標準産業分類!B99,作業シート!$C$2:$D$21,2)","v":"建設業"},7,{"$f":"VLOOKUP(D99,作業シート!$F$2:$G$100,2)","v":"職別工事業(設備工事業を除く)"},70,{"$f":"VLOOKUP(F99,作業シート!$I$2:$J$531,2)","v":"管理，補助的経済活動を行う事業所（07職別工事業）"},709,"その他の管理，補助的経済活動を行う事業所","D-7-70-709","製造業その他"]
[null,"D",{"$f":"VLOOKUP(日本標準産業分類!B100,作業シート!$C$2:$D$21,2)","v":"建設業"},7,{"$f":"VLOOKUP(D100,作業シート!$F$2:$G$100,2)","v":"職別工事業(設備工事業を除く)"},71,{"$f":"VLOOKUP(F100,作業シート!$I$2:$J$531,2)","v":"大工工事業"},711,"大工工事業(型枠大工工事業を除く)","D-7-71-711","製造業その他"]
[null,"D",{"$f":"VLOOKUP(日本標準産業分類!B101,作業シート!$C$2:$D$21,2)","v":"建設業"},7,{"$f":"VLOOKUP(D101,作業シート!$F$2:$G$100,2)","v":"職別工事業(設備工事業を除く)"},71,{"$f":"VLOOKUP(F101,作業シート!$I$2:$J$531,2)","v":"大工工事業"},712,"型枠大工工事業","D-7-71-712","製造業その他"]
[null,"D",{"$f":"VLOOKUP(日本標準産業分類!B102,作業シート!$C$2:$D$21,2)","v":"建設業"},7,{"$f":"VLOOKUP(D102,作業シート!$F$2:$G$100,2)","v":"職別工事業(設備工事業を除く)"},72,{"$f":"VLOOKUP(F102,作業シート!$I$2:$J$531,2)","v":"とび・土工・コンクリート工事業"},721,"とび工事業","D-7-72-721","製造業その他"]
[null,"D",{"$f":"VLOOKUP(日本標準産業分類!B103,作業シート!$C$2:$D$21,2)","v":"建設業"},7,{"$f":"VLOOKUP(D103,作業シート!$F$2:$G$100,2)","v":"職別工事業(設備工事業を除く)"},72,{"$f":"VLOOKUP(F103,作業シート!$I$2:$J$531,2)","v":"とび・土工・コンクリート工事業"},722,"土工・コンクリート工事業","D-7-72-722","製造業その他"]
[null,"D",{"$f":"VLOOKUP(日本標準産業分類!B104,作業シート!$C$2:$D$21,2)","v":"建設業"},7,{"$f":"VLOOKUP(D104,作業シート!$F$2:$G$100,2)","v":"職別工事業(設備工事業を除く)"},72,{"$f":"VLOOKUP(F104,作業シート!$I$2:$J$531,2)","v":"とび・土工・コンクリート工事業"},723,"特殊コンクリート工事業","D-7-72-723","製造業その他"]
[null,"D",{"$f":"VLOOKUP(日本標準産業分類!B105,作業シート!$C$2:$D$21,2)","v":"建設業"},7,{"$f":"VLOOKUP(D105,作業シート!$F$2:$G$100,2)","v":"職別工事業(設備工事業を除く)"},73,{"$f":"VLOOKUP(F105,作業シート!$I$2:$J$531,2)","v":"鉄骨・鉄筋工事業"},731,"鉄骨工事業","D-7-73-731","製造業その他"]
[null,"D",{"$f":"VLOOKUP(日本標準産業分類!B106,作業シート!$C$2:$D$21,2)","v":"建設業"},7,{"$f":"VLOOKUP(D106,作業シート!$F$2:$G$100,2)","v":"職別工事業(設備工事業を除く)"},73,{"$f":"VLOOKUP(F106,作業シート!$I$2:$J$531,2)","v":"鉄骨・鉄筋工事業"},732,"鉄筋工事業","D-7-73-732","製造業その他"]
[null,"D",{"$f":"VLOOKUP(日本標準産業分類!B107,作業シート!$C$2:$D$21,2)","v":"建設業"},7,{"$f":"VLOOKUP(D107,作業シート!$F$2:$G$100,2)","v":"職別工事業(設備工事業を除く)"},74,{"$f":"VLOOKUP(F107,作業シート!$I$2:$J$531,2)","v":"石工・れんが・タイル・ブロック工事業"},741,"石工工事業","D-7-74-741","製造業その他"]
[null,"D",{"$f":"VLOOKUP(日本標準産業分類!B108,作業シート!$C$2:$D$21,2)","v":"建設業"},7,{"$f":"VLOOKUP(D108,作業シート!$F$2:$G$100,2)","v":"職別工事業(設備工事業を除く)"},74,{"$f":"VLOOKUP(F108,作業シート!$I$2:$J$531,2)","v":"石工・れんが・タイル・ブロック工事業"},742,"れんが工事業","D-7-74-742","製造業その他"]
[null,"D",{"$f":"VLOOKUP(日本標準産業分類!B109,作業シート!$C$2:$D$21,2)","v":"建設業"},7,{"$f":"VLOOKUP(D109,作業シート!$F$2:$G$100,2)","v":"職別工事業(設備工事業を除く)"},74,{"$f":"VLOOKUP(F109,作業シート!$I$2:$J$531,2)","v":"石工・れんが・タイル・ブロック工事業"},743,"タイル工事業","D-7-74-743","製造業その他"]
[null,"D",{"$f":"VLOOKUP(日本標準産業分類!B110,作業シート!$C$2:$D$21,2)","v":"建設業"},7,{"$f":"VLOOKUP(D110,作業シート!$F$2:$G$100,2)","v":"職別工事業(設備工事業を除く)"},74,{"$f":"VLOOKUP(F110,作業シート!$I$2:$J$531,2)","v":"石工・れんが・タイル・ブロック工事業"},744,"コンクリートブロック工事業","D-7-74-744","製造業その他"]
[null,"D",{"$f":"VLOOKUP(日本標準産業分類!B111,作業シート!$C$2:$D$21,2)","v":"建設業"},7,{"$f":"VLOOKUP(D111,作業シート!$F$2:$G$100,2)","v":"職別工事業(設備工事業を除く)"},75,{"$f":"VLOOKUP(F111,作業シート!$I$2:$J$531,2)","v":"左官工事業"},751,"左官工事業","D-7-75-751","製造業その他"]
[null,"D",{"$f":"VLOOKUP(日本標準産業分類!B112,作業シート!$C$2:$D$21,2)","v":"建設業"},7,{"$f":"VLOOKUP(D112,作業シート!$F$2:$G$100,2)","v":"職別工事業(設備工事業を除く)"},76,{"$f":"VLOOKUP(F112,作業シート!$I$2:$J$531,2)","v":"板金・金物工事業"},761,"金属製屋根工事業","D-7-76-761","製造業その他"]
[null,"D",{"$f":"VLOOKUP(日本標準産業分類!B113,作業シート!$C$2:$D$21,2)","v":"建設業"},7,{"$f":"VLOOKUP(D113,作業シート!$F$2:$G$100,2)","v":"職別工事業(設備工事業を除く)"},76,{"$f":"VLOOKUP(F113,作業シート!$I$2:$J$531,2)","v":"板金・金物工事業"},762,"板金工事業","D-7-76-762","製造業その他"]
[null,"D",{"$f":"VLOOKUP(日本標準産業分類!B114,作業シート!$C$2:$D$21,2)","v":"建設業"},7,{"$f":"VLOOKUP(D114,作業シート!$F$2:$G$100,2)","v":"職別工事業(設備工事業を除く)"},76,{"$f":"VLOOKUP(F114,作業シート!$I$2:$J$531,2)","v":"板金・金物工事業"},763,"建築金物工事業","D-7-76-763","製造業その他"]
[null,"D",{"$f":"VLOOKUP(日本標準産業分類!B115,作業シート!$C$2:$D$21,2)","v":"建設業"},7,{"$f":"VLOOKUP(D115,作業シート!$F$2:$G$100,2)","v":"職別工事業(設備工事業を除く)"},77,{"$f":"VLOOKUP(F115,作業シート!$I$2:$J$531,2)","v":"塗装工事業"},771,"塗装工事業（道路標示・区画線工事業を除く）","D-7-77-771","製造業その他"]
[null,"D",{"$f":"VLOOKUP(日本標準産業分類!B116,作業シート!$C$2:$D$21,2)","v":"建設業"},7,{"$f":"VLOOKUP(D116,作業シート!$F$2:$G$100,2)","v":"職別工事業(設備工事業を除く)"},77,{"$f":"VLOOKUP(F116,作業シート!$I$2:$J$531,2)","v":"塗装工事業"},772,"道路標示・区画線工事業","D-7-77-772","製造業その他"]
[null,"D",{"$f":"VLOOKUP(日本標準産業分類!B117,作業シート!$C$2:$D$21,2)","v":"建設業"},7,{"$f":"VLOOKUP(D117,作業シート!$F$2:$G$100,2)","v":"職別工事業(設備工事業を除く)"},78,{"$f":"VLOOKUP(F117,作業シート!$I$2:$J$531,2)","v":"床・内装工事業"},781,"床工事業","D-7-78-781","製造業その他"]
[null,"D",{"$f":"VLOOKUP(日本標準産業分類!B118,作業シート!$C$2:$D$21,2)","v":"建設業"},7,{"$f":"VLOOKUP(D118,作業シート!$F$2:$G$100,2)","v":"職別工事業(設備工事業を除く)"},78,{"$f":"VLOOKUP(F118,作業シート!$I$2:$J$531,2)","v":"床・内装工事業"},782,"内装工事業","D-7-78-782","製造業その他"]
[null,"D",{"$f":"VLOOKUP(日本標準産業分類!B119,作業シート!$C$2:$D$21,2)","v":"建設業"},7,{"$f":"VLOOKUP(D119,作業シート!$F$2:$G$100,2)","v":"職別工事業(設備工事業を除く)"},79,{"$f":"VLOOKUP(F119,作業シート!$I$2:$J$531,2)","v":"その他の職別工事業"},791,"ガラス工事業","D-7-79-791","製造業その他"]
[null,"D",{"$f":"VLOOKUP(日本標準産業分類!B120,作業シート!$C$2:$D$21,2)","v":"建設業"},7,{"$f":"VLOOKUP(D120,作業シート!$F$2:$G$100,2)","v":"職別工事業(設備工事業を除く)"},79,{"$f":"VLOOKUP(F120,作業シート!$I$2:$J$531,2)","v":"その他の職別工事業"},792,"金属製建具工事業","D-7-79-792","製造業その他"]
[null,"D",{"$f":"VLOOKUP(日本標準産業分類!B121,作業シート!$C$2:$D$21,2)","v":"建設業"},7,{"$f":"VLOOKUP(D121,作業シート!$F$2:$G$100,2)","v":"職別工事業(設備工事業を除く)"},79,{"$f":"VLOOKUP(F121,作業シート!$I$2:$J$531,2)","v":"その他の職別工事業"},793,"木製建具工事業","D-7-79-793","製造業その他"]
[null,"D",{"$f":"VLOOKUP(日本標準産業分類!B122,作業シート!$C$2:$D$21,2)","v":"建設業"},7,{"$f":"VLOOKUP(D122,作業シート!$F$2:$G$100,2)","v":"職別工事業(設備工事業を除く)"},79,{"$f":"VLOOKUP(F122,作業シート!$I$2:$J$531,2)","v":"その他の職別工事業"},794,"屋根工事業（金属製屋根工事業を除く）","D-7-79-794","製造業その他"]
[null,"D",{"$f":"VLOOKUP(日本標準産業分類!B123,作業シート!$C$2:$D$21,2)","v":"建設業"},7,{"$f":"VLOOKUP(D123,作業シート!$F$2:$G$100,2)","v":"職別工事業(設備工事業を除く)"},79,{"$f":"VLOOKUP(F123,作業シート!$I$2:$J$531,2)","v":"その他の職別工事業"},795,"防水工事業","D-7-79-795","製造業その他"]
[null,"D",{"$f":"VLOOKUP(日本標準産業分類!B124,作業シート!$C$2:$D$21,2)","v":"建設業"},7,{"$f":"VLOOKUP(D124,作業シート!$F$2:$G$100,2)","v":"職別工事業(設備工事業を除く)"},79,{"$f":"VLOOKUP(F124,作業シート!$I$2:$J$531,2)","v":"その他の職別工事業"},796,"はつり・解体工事業","D-7-79-796","製造業その他"]
[null,"D",{"$f":"VLOOKUP(日本標準産業分類!B125,作業シート!$C$2:$D$21,2)","v":"建設業"},7,{"$f":"VLOOKUP(D125,作業シート!$F$2:$G$100,2)","v":"職別工事業(設備工事業を除く)"},79,{"$f":"VLOOKUP(F125,作業シート!$I$2:$J$531,2)","v":"その他の職別工事業"},799,"他に分類されない職別工事業","D-7-79-799","製造業その他"]
[null,"D",{"$f":"VLOOKUP(日本標準産業分類!B126,作業シート!$C$2:$D$21,2)","v":"建設業"},8,{"$f":"VLOOKUP(D126,作業シート!$F$2:$G$100,2)","v":"設備工事業"},80,{"$f":"VLOOKUP(F126,作業シート!$I$2:$J$531,2)","v":"管理，補助的経済活動を行う事業所（08設備工事業）"},800,"主として管理事務を行う本社等","D-8-80-800","製造業その他"]
[null,"D",{"$f":"VLOOKUP(日本標準産業分類!B127,作業シート!$C$2:$D$21,2)","v":"建設業"},8,{"$f":"VLOOKUP(D127,作業シート!$F$2:$G$100,2)","v":"設備工事業"},80,{"$f":"VLOOKUP(F127,作業シート!$I$2:$J$531,2)","v":"管理，補助的経済活動を行う事業所（08設備工事業）"},809,"その他の管理，補助的経済活動を行う事業所","D-8-80-809","製造業その他"]
[null,"D",{"$f":"VLOOKUP(日本標準産業分類!B128,作業シート!$C$2:$D$21,2)","v":"建設業"},8,{"$f":"VLOOKUP(D128,作業シート!$F$2:$G$100,2)","v":"設備工事業"},81,{"$f":"VLOOKUP(F128,作業シート!$I$2:$J$531,2)","v":"電気工事業"},811,"一般電気工事業","D-8-81-811","製造業その他"]
[null,"D",{"$f":"VLOOKUP(日本標準産業分類!B129,作業シート!$C$2:$D$21,2)","v":"建設業"},8,{"$f":"VLOOKUP(D129,作業シート!$F$2:$G$100,2)","v":"設備工事業"},81,{"$f":"VLOOKUP(F129,作業シート!$I$2:$J$531,2)","v":"電気工事業"},812,"電気配線工事業","D-8-81-812","製造業その他"]
[null,"D",{"$f":"VLOOKUP(日本標準産業分類!B130,作業シート!$C$2:$D$21,2)","v":"建設業"},8,{"$f":"VLOOKUP(D130,作業シート!$F$2:$G$100,2)","v":"設備工事業"},82,{"$f":"VLOOKUP(F130,作業シート!$I$2:$J$531,2)","v":"電気通信・信号装置工事業"},821,"電気通信工事業（有線テレビジョン放送設備設置工事業を除く）","D-8-82-821","製造業その他"]
[null,"D",{"$f":"VLOOKUP(日本標準産業分類!B131,作業シート!$C$2:$D$21,2)","v":"建設業"},8,{"$f":"VLOOKUP(D131,作業シート!$F$2:$G$100,2)","v":"設備工事業"},82,{"$f":"VLOOKUP(F131,作業シート!$I$2:$J$531,2)","v":"電気通信・信号装置工事業"},822,"有線テレビジョン放送設備設置工事業","D-8-82-822","製造業その他"]
[null,"D",{"$f":"VLOOKUP(日本標準産業分類!B132,作業シート!$C$2:$D$21,2)","v":"建設業"},8,{"$f":"VLOOKUP(D132,作業シート!$F$2:$G$100,2)","v":"設備工事業"},82,{"$f":"VLOOKUP(F132,作業シート!$I$2:$J$531,2)","v":"電気通信・信号装置工事業"},823,"信号装置工事業","D-8-82-823","製造業その他"]
[null,"D",{"$f":"VLOOKUP(日本標準産業分類!B133,作業シート!$C$2:$D$21,2)","v":"建設業"},8,{"$f":"VLOOKUP(D133,作業シート!$F$2:$G$100,2)","v":"設備工事業"},83,{"$f":"VLOOKUP(F133,作業シート!$I$2:$J$531,2)","v":"管工事業（さく井工事業を除く）"},831,"一般管工事業","D-8-83-831","製造業その他"]
[null,"D",{"$f":"VLOOKUP(日本標準産業分類!B134,作業シート!$C$2:$D$21,2)","v":"建設業"},8,{"$f":"VLOOKUP(D134,作業シート!$F$2:$G$100,2)","v":"設備工事業"},83,{"$f":"VLOOKUP(F134,作業シート!$I$2:$J$531,2)","v":"管工事業（さく井工事業を除く）"},832,"冷暖房設備工事業","D-8-83-832","製造業その他"]
[null,"D",{"$f":"VLOOKUP(日本標準産業分類!B135,作業シート!$C$2:$D$21,2)","v":"建設業"},8,{"$f":"VLOOKUP(D135,作業シート!$F$2:$G$100,2)","v":"設備工事業"},83,{"$f":"VLOOKUP(F135,作業シート!$I$2:$J$531,2)","v":"管工事業（さく井工事業を除く）"},833,"給排水・衛生設備工事業","D-8-83-833","製造業その他"]
[null,"D",{"$f":"VLOOKUP(日本標準産業分類!B136,作業シート!$C$2:$D$21,2)","v":"建設業"},8,{"$f":"VLOOKUP(D136,作業シート!$F$2:$G$100,2)","v":"設備工事業"},83,{"$f":"VLOOKUP(F136,作業シート!$I$2:$J$531,2)","v":"管工事業（さく井工事業を除く）"},839,"その他の管工事業","D-8-83-839","製造業その他"]
[null,"D",{"$f":"VLOOKUP(日本標準産業分類!B137,作業シート!$C$2:$D$21,2)","v":"建設業"},8,{"$f":"VLOOKUP(D137,作業シート!$F$2:$G$100,2)","v":"設備工事業"},84,{"$f":"VLOOKUP(F137,作業シート!$I$2:$J$531,2)","v":"機械器具設置工事業"},841,"機械器具設置工事業（昇降設備工事業を除く）",{"$f":"CONCATENATE(B137,\"-\",D137,\"-\",F137,\"-\",H137)","v":"D-8-84-841"},"製造業その他"]
[null,"D",{"$f":"VLOOKUP(日本標準産業分類!B138,作業シート!$C$2:$D$21,2)","v":"建設業"},8,{"$f":"VLOOKUP(D138,作業シート!$F$2:$G$100,2)","v":"設備工事業"},84,{"$f":"VLOOKUP(F138,作業シート!$I$2:$J$531,2)","v":"機械器具設置工事業"},842,"昇降設備工事業","D-8-84-842","製造業その他"]
[null,"D",{"$f":"VLOOKUP(日本標準産業分類!B139,作業シート!$C$2:$D$21,2)","v":"建設業"},8,{"$f":"VLOOKUP(D139,作業シート!$F$2:$G$100,2)","v":"設備工事業"},89,{"$f":"VLOOKUP(F139,作業シート!$I$2:$J$531,2)","v":"その他の設備工事業"},891,"築炉工事業","D-8-89-891","製造業その他"]
[null,"D",{"$f":"VLOOKUP(日本標準産業分類!B140,作業シート!$C$2:$D$21,2)","v":"建設業"},8,{"$f":"VLOOKUP(D140,作業シート!$F$2:$G$100,2)","v":"設備工事業"},89,{"$f":"VLOOKUP(F140,作業シート!$I$2:$J$531,2)","v":"その他の設備工事業"},892,"熱絶縁工事業","D-8-89-892","製造業その他"]
[null,"D",{"$f":"VLOOKUP(日本標準産業分類!B141,作業シート!$C$2:$D$21,2)","v":"建設業"},8,{"$f":"VLOOKUP(D141,作業シート!$F$2:$G$100,2)","v":"設備工事業"},89,{"$f":"VLOOKUP(F141,作業シート!$I$2:$J$531,2)","v":"その他の設備工事業"},893,"道路標識設置工事業","D-8-89-893","製造業その他"]
[null,"D",{"$f":"VLOOKUP(日本標準産業分類!B142,作業シート!$C$2:$D$21,2)","v":"建設業"},8,{"$f":"VLOOKUP(D142,作業シート!$F$2:$G$100,2)","v":"設備工事業"},89,{"$f":"VLOOKUP(F142,作業シート!$I$2:$J$531,2)","v":"その他の設備工事業"},894,"さく井工事業","D-8-89-894","製造業その他"]
[null,"E",{"$f":"VLOOKUP(日本標準産業分類!B143,作業シート!$C$2:$D$21,2)","v":"製造業"},9,{"$f":"VLOOKUP(D143,作業シート!$F$2:$G$100,2)","v":"食料品製造業"},90,{"$f":"VLOOKUP(F143,作業シート!$I$2:$J$531,2)","v":"管理，補助的経済活動を行う事業所（09食料品製造業）"},900,"主として管理事務を行う本社等","E-9-90-900","製造業その他"]
[null,"E",{"$f":"VLOOKUP(日本標準産業分類!B144,作業シート!$C$2:$D$21,2)","v":"製造業"},9,{"$f":"VLOOKUP(D144,作業シート!$F$2:$G$100,2)","v":"食料品製造業"},90,{"$f":"VLOOKUP(F144,作業シート!$I$2:$J$531,2)","v":"管理，補助的経済活動を行う事業所（09食料品製造業）"},909,"その他の管理，補助的経済活動を行う事業所","E-9-90-909","製造業その他"]
[null,"E",{"$f":"VLOOKUP(日本標準産業分類!B145,作業シート!$C$2:$D$21,2)","v":"製造業"},9,{"$f":"VLOOKUP(D145,作業シート!$F$2:$G$100,2)","v":"食料品製造業"},91,{"$f":"VLOOKUP(F145,作業シート!$I$2:$J$531,2)","v":"畜産食料品製造業"},911,"部分肉・冷凍肉製造業","E-9-91-911","製造業その他"]
[null,"E",{"$f":"VLOOKUP(日本標準産業分類!B146,作業シート!$C$2:$D$21,2)","v":"製造業"},9,{"$f":"VLOOKUP(D146,作業シート!$F$2:$G$100,2)","v":"食料品製造業"},91,{"$f":"VLOOKUP(F146,作業シート!$I$2:$J$531,2)","v":"畜産食料品製造業"},912,"肉加工品製造業","E-9-91-912","製造業その他"]
[null,"E",{"$f":"VLOOKUP(日本標準産業分類!B147,作業シート!$C$2:$D$21,2)","v":"製造業"},9,{"$f":"VLOOKUP(D147,作業シート!$F$2:$G$100,2)","v":"食料品製造業"},91,{"$f":"VLOOKUP(F147,作業シート!$I$2:$J$531,2)","v":"畜産食料品製造業"},913,"処理牛乳・乳飲料製造業","E-9-91-913","製造業その他"]
[null,"E",{"$f":"VLOOKUP(日本標準産業分類!B148,作業シート!$C$2:$D$21,2)","v":"製造業"},9,{"$f":"VLOOKUP(D148,作業シート!$F$2:$G$100,2)","v":"食料品製造業"},91,{"$f":"VLOOKUP(F148,作業シート!$I$2:$J$531,2)","v":"畜産食料品製造業"},914,"乳製品製造業（処理牛乳，乳飲料を除く）","E-9-91-914","製造業その他"]
[null,"E",{"$f":"VLOOKUP(日本標準産業分類!B149,作業シート!$C$2:$D$21,2)","v":"製造業"},9,{"$f":"VLOOKUP(D149,作業シート!$F$2:$G$100,2)","v":"食料品製造業"},91,{"$f":"VLOOKUP(F149,作業シート!$I$2:$J$531,2)","v":"畜産食料品製造業"},919,"その他の畜産食料品製造業","E-9-91-919","製造業その他"]
[null,"E",{"$f":"VLOOKUP(日本標準産業分類!B150,作業シート!$C$2:$D$21,2)","v":"製造業"},9,{"$f":"VLOOKUP(D150,作業シート!$F$2:$G$100,2)","v":"食料品製造業"},92,{"$f":"VLOOKUP(F150,作業シート!$I$2:$J$531,2)","v":"水産食料品製造業"},921,"水産缶詰・瓶詰製造業","E-9-92-921","製造業その他"]
[null,"E",{"$f":"VLOOKUP(日本標準産業分類!B151,作業シート!$C$2:$D$21,2)","v":"製造業"},9,{"$f":"VLOOKUP(D151,作業シート!$F$2:$G$100,2)","v":"食料品製造業"},92,{"$f":"VLOOKUP(F151,作業シート!$I$2:$J$531,2)","v":"水産食料品製造業"},922,"海藻加工業","E-9-92-922","製造業その他"]
[null,"E",{"$f":"VLOOKUP(日本標準産業分類!B152,作業シート!$C$2:$D$21,2)","v":"製造業"},9,{"$f":"VLOOKUP(D152,作業シート!$F$2:$G$100,2)","v":"食料品製造業"},92,{"$f":"VLOOKUP(F152,作業シート!$I$2:$J$531,2)","v":"水産食料品製造業"},923,"水産練製品製造業","E-9-92-923","製造業その他"]
[null,"E",{"$f":"VLOOKUP(日本標準産業分類!B153,作業シート!$C$2:$D$21,2)","v":"製造業"},9,{"$f":"VLOOKUP(D153,作業シート!$F$2:$G$100,2)","v":"食料品製造業"},92,{"$f":"VLOOKUP(F153,作業シート!$I$2:$J$531,2)","v":"水産食料品製造業"},924,"塩干・塩蔵品製造業","E-9-92-924","製造業その他"]
[null,"E",{"$f":"VLOOKUP(日本標準産業分類!B154,作業シート!$C$2:$D$21,2)","v":"製造業"},9,{"$f":"VLOOKUP(D154,作業シート!$F$2:$G$100,2)","v":"食料品製造業"},92,{"$f":"VLOOKUP(F154,作業シート!$I$2:$J$531,2)","v":"水産食料品製造業"},925,"冷凍水産物製造業","E-9-92-925","製造業その他"]
[null,"E",{"$f":"VLOOKUP(日本標準産業分類!B155,作業シート!$C$2:$D$21,2)","v":"製造業"},9,{"$f":"VLOOKUP(D155,作業シート!$F$2:$G$100,2)","v":"食料品製造業"},92,{"$f":"VLOOKUP(F155,作業シート!$I$2:$J$531,2)","v":"水産食料品製造業"},926,"冷凍水産食品製造業","E-9-92-926","製造業その他"]
[null,"E",{"$f":"VLOOKUP(日本標準産業分類!B156,作業シート!$C$2:$D$21,2)","v":"製造業"},9,{"$f":"VLOOKUP(D156,作業シート!$F$2:$G$100,2)","v":"食料品製造業"},92,{"$f":"VLOOKUP(F156,作業シート!$I$2:$J$531,2)","v":"水産食料品製造業"},929,"その他の水産食料品製造業","E-9-92-929","製造業その他"]
[null,"E",{"$f":"VLOOKUP(日本標準産業分類!B157,作業シート!$C$2:$D$21,2)","v":"製造業"},9,{"$f":"VLOOKUP(D157,作業シート!$F$2:$G$100,2)","v":"食料品製造業"},93,{"$f":"VLOOKUP(F157,作業シート!$I$2:$J$531,2)","v":"野菜缶詰・果実缶詰・農産保存食料品製造業"},931,"野菜缶詰・果実缶詰・農産保存食料品製造業（野菜漬物を除く）","E-9-93-931","製造業その他"]
[null,"E",{"$f":"VLOOKUP(日本標準産業分類!B158,作業シート!$C$2:$D$21,2)","v":"製造業"},9,{"$f":"VLOOKUP(D158,作業シート!$F$2:$G$100,2)","v":"食料品製造業"},93,{"$f":"VLOOKUP(F158,作業シート!$I$2:$J$531,2)","v":"野菜缶詰・果実缶詰・農産保存食料品製造業"},932,"野菜漬物製造業（缶詰，瓶詰，つぼ詰を除く）","E-9-93-932","製造業その他"]
[null,"E",{"$f":"VLOOKUP(日本標準産業分類!B159,作業シート!$C$2:$D$21,2)","v":"製造業"},9,{"$f":"VLOOKUP(D159,作業シート!$F$2:$G$100,2)","v":"食料品製造業"},94,{"$f":"VLOOKUP(F159,作業シート!$I$2:$J$531,2)","v":"調味料製造業"},941,"味そ製造業","E-9-94-941","製造業その他"]
[null,"E",{"$f":"VLOOKUP(日本標準産業分類!B160,作業シート!$C$2:$D$21,2)","v":"製造業"},9,{"$f":"VLOOKUP(D160,作業シート!$F$2:$G$100,2)","v":"食料品製造業"},94,{"$f":"VLOOKUP(F160,作業シート!$I$2:$J$531,2)","v":"調味料製造業"},942,"しょう油・食用アミノ酸製造業","E-9-94-942","製造業その他"]
[null,"E",{"$f":"VLOOKUP(日本標準産業分類!B161,作業シート!$C$2:$D$21,2)","v":"製造業"},9,{"$f":"VLOOKUP(D161,作業シート!$F$2:$G$100,2)","v":"食料品製造業"},94,{"$f":"VLOOKUP(F161,作業シート!$I$2:$J$531,2)","v":"調味料製造業"},943,"ソース製造業","E-9-94-943","製造業その他"]
[null,"E",{"$f":"VLOOKUP(日本標準産業分類!B162,作業シート!$C$2:$D$21,2)","v":"製造業"},9,{"$f":"VLOOKUP(D162,作業シート!$F$2:$G$100,2)","v":"食料品製造業"},94,{"$f":"VLOOKUP(F162,作業シート!$I$2:$J$531,2)","v":"調味料製造業"},944,"食酢製造業","E-9-94-944","製造業その他"]
[null,"E",{"$f":"VLOOKUP(日本標準産業分類!B163,作業シート!$C$2:$D$21,2)","v":"製造業"},9,{"$f":"VLOOKUP(D163,作業シート!$F$2:$G$100,2)","v":"食料品製造業"},94,{"$f":"VLOOKUP(F163,作業シート!$I$2:$J$531,2)","v":"調味料製造業"},949,"その他の調味料製造業","E-9-94-949","製造業その他"]
[null,"E",{"$f":"VLOOKUP(日本標準産業分類!B164,作業シート!$C$2:$D$21,2)","v":"製造業"},9,{"$f":"VLOOKUP(D164,作業シート!$F$2:$G$100,2)","v":"食料品製造業"},95,{"$f":"VLOOKUP(F164,作業シート!$I$2:$J$531,2)","v":"糖類製造業"},951,"砂糖製造業（砂糖精製業を除く）","E-9-95-951","製造業その他"]
[null,"E",{"$f":"VLOOKUP(日本標準産業分類!B165,作業シート!$C$2:$D$21,2)","v":"製造業"},9,{"$f":"VLOOKUP(D165,作業シート!$F$2:$G$100,2)","v":"食料品製造業"},95,{"$f":"VLOOKUP(F165,作業シート!$I$2:$J$531,2)","v":"糖類製造業"},952,"砂糖精製業","E-9-95-952","製造業その他"]
[null,"E",{"$f":"VLOOKUP(日本標準産業分類!B166,作業シート!$C$2:$D$21,2)","v":"製造業"},9,{"$f":"VLOOKUP(D166,作業シート!$F$2:$G$100,2)","v":"食料品製造業"},95,{"$f":"VLOOKUP(F166,作業シート!$I$2:$J$531,2)","v":"糖類製造業"},953,"ぶどう糖・水あめ・異性化糖製造業","E-9-95-953","製造業その他"]
[null,"E",{"$f":"VLOOKUP(日本標準産業分類!B167,作業シート!$C$2:$D$21,2)","v":"製造業"},9,{"$f":"VLOOKUP(D167,作業シート!$F$2:$G$100,2)","v":"食料品製造業"},96,{"$f":"VLOOKUP(F167,作業シート!$I$2:$J$531,2)","v":"精穀・製粉業"},961,"精米・精麦業","E-9-96-961","製造業その他"]
[null,"E",{"$f":"VLOOKUP(日本標準産業分類!B168,作業シート!$C$2:$D$21,2)","v":"製造業"},9,{"$f":"VLOOKUP(D168,作業シート!$F$2:$G$100,2)","v":"食料品製造業"},96,{"$f":"VLOOKUP(F168,作業シート!$I$2:$J$531,2)","v":"精穀・製粉業"},962,"小麦粉製造業","E-9-96-962","製造業その他"]
[null,"E",{"$f":"VLOOKUP(日本標準産業分類!B169,作業シート!$C$2:$D$21,2)","v":"製造業"},9,{"$f":"VLOOKUP(D169,作業シート!$F$2:$G$100,2)","v":"食料品製造業"},96,{"$f":"VLOOKUP(F169,作業シート!$I$2:$J$531,2)","v":"精穀・製粉業"},969,"その他の精穀・製粉業","E-9-96-969","製造業その他"]
[null,"E",{"$f":"VLOOKUP(日本標準産業分類!B170,作業シート!$C$2:$D$21,2)","v":"製造業"},9,{"$f":"VLOOKUP(D170,作業シート!$F$2:$G$100,2)","v":"食料品製造業"},97,{"$f":"VLOOKUP(F170,作業シート!$I$2:$J$531,2)","v":"パン・菓子製造業"},971,"パン製造業","E-9-97-971","製造業その他"]
[null,"E",{"$f":"VLOOKUP(日本標準産業分類!B171,作業シート!$C$2:$D$21,2)","v":"製造業"},9,{"$f":"VLOOKUP(D171,作業シート!$F$2:$G$100,2)","v":"食料品製造業"},97,{"$f":"VLOOKUP(F171,作業シート!$I$2:$J$531,2)","v":"パン・菓子製造業"},972,"生菓子製造業","E-9-97-972","製造業その他"]
[null,"E",{"$f":"VLOOKUP(日本標準産業分類!B172,作業シート!$C$2:$D$21,2)","v":"製造業"},9,{"$f":"VLOOKUP(D172,作業シート!$F$2:$G$100,2)","v":"食料品製造業"},97,{"$f":"VLOOKUP(F172,作業シート!$I$2:$J$531,2)","v":"パン・菓子製造業"},973,"ビスケット類・干菓子製造業","E-9-97-973","製造業その他"]
[null,"E",{"$f":"VLOOKUP(日本標準産業分類!B173,作業シート!$C$2:$D$21,2)","v":"製造業"},9,{"$f":"VLOOKUP(D173,作業シート!$F$2:$G$100,2)","v":"食料品製造業"},97,{"$f":"VLOOKUP(F173,作業シート!$I$2:$J$531,2)","v":"パン・菓子製造業"},974,"米菓製造業","E-9-97-974","製造業その他"]
[null,"E",{"$f":"VLOOKUP(日本標準産業分類!B174,作業シート!$C$2:$D$21,2)","v":"製造業"},9,{"$f":"VLOOKUP(D174,作業シート!$F$2:$G$100,2)","v":"食料品製造業"},97,{"$f":"VLOOKUP(F174,作業シート!$I$2:$J$531,2)","v":"パン・菓子製造業"},979,"その他のパン・菓子製造業","E-9-97-979","製造業その他"]
[null,"E",{"$f":"VLOOKUP(日本標準産業分類!B175,作業シート!$C$2:$D$21,2)","v":"製造業"},9,{"$f":"VLOOKUP(D175,作業シート!$F$2:$G$100,2)","v":"食料品製造業"},98,{"$f":"VLOOKUP(F175,作業シート!$I$2:$J$531,2)","v":"動植物油脂製造業"},981,"動植物油脂製造業（食用油脂加工業を除く）","E-9-98-981","製造業その他"]
[null,"E",{"$f":"VLOOKUP(日本標準産業分類!B176,作業シート!$C$2:$D$21,2)","v":"製造業"},9,{"$f":"VLOOKUP(D176,作業シート!$F$2:$G$100,2)","v":"食料品製造業"},98,{"$f":"VLOOKUP(F176,作業シート!$I$2:$J$531,2)","v":"動植物油脂製造業"},982,"食用油脂加工業","E-9-98-982","製造業その他"]
[null,"E",{"$f":"VLOOKUP(日本標準産業分類!B177,作業シート!$C$2:$D$21,2)","v":"製造業"},9,{"$f":"VLOOKUP(D177,作業シート!$F$2:$G$100,2)","v":"食料品製造業"},99,{"$f":"VLOOKUP(F177,作業シート!$I$2:$J$531,2)","v":"その他の食料品製造業"},991,"でんぷん製造業","E-9-99-991","製造業その他"]
[null,"E",{"$f":"VLOOKUP(日本標準産業分類!B178,作業シート!$C$2:$D$21,2)","v":"製造業"},9,{"$f":"VLOOKUP(D178,作業シート!$F$2:$G$100,2)","v":"食料品製造業"},99,{"$f":"VLOOKUP(F178,作業シート!$I$2:$J$531,2)","v":"その他の食料品製造業"},992,"めん類製造業","E-9-99-992","製造業その他"]
[null,"E",{"$f":"VLOOKUP(日本標準産業分類!B179,作業シート!$C$2:$D$21,2)","v":"製造業"},9,{"$f":"VLOOKUP(D179,作業シート!$F$2:$G$100,2)","v":"食料品製造業"},99,{"$f":"VLOOKUP(F179,作業シート!$I$2:$J$531,2)","v":"その他の食料品製造業"},993,"豆腐・油揚製造業","E-9-99-993","製造業その他"]
[null,"E",{"$f":"VLOOKUP(日本標準産業分類!B180,作業シート!$C$2:$D$21,2)","v":"製造業"},9,{"$f":"VLOOKUP(D180,作業シート!$F$2:$G$100,2)","v":"食料品製造業"},99,{"$f":"VLOOKUP(F180,作業シート!$I$2:$J$531,2)","v":"その他の食料品製造業"},994,"あん類製造業","E-9-99-994","製造業その他"]
[null,"E",{"$f":"VLOOKUP(日本標準産業分類!B181,作業シート!$C$2:$D$21,2)","v":"製造業"},9,{"$f":"VLOOKUP(D181,作業シート!$F$2:$G$100,2)","v":"食料品製造業"},99,{"$f":"VLOOKUP(F181,作業シート!$I$2:$J$531,2)","v":"その他の食料品製造業"},995,"冷凍調理食品製造業","E-9-99-995","製造業その他"]
[null,"E",{"$f":"VLOOKUP(日本標準産業分類!B182,作業シート!$C$2:$D$21,2)","v":"製造業"},9,{"$f":"VLOOKUP(D182,作業シート!$F$2:$G$100,2)","v":"食料品製造業"},99,{"$f":"VLOOKUP(F182,作業シート!$I$2:$J$531,2)","v":"その他の食料品製造業"},996,"そう（惣）菜製造業","E-9-99-996","製造業その他"]
[null,"E",{"$f":"VLOOKUP(日本標準産業分類!B183,作業シート!$C$2:$D$21,2)","v":"製造業"},9,{"$f":"VLOOKUP(D183,作業シート!$F$2:$G$100,2)","v":"食料品製造業"},99,{"$f":"VLOOKUP(F183,作業シート!$I$2:$J$531,2)","v":"その他の食料品製造業"},997,"すし・弁当・調理パン製造業","E-9-99-997","製造業その他"]
[null,"E",{"$f":"VLOOKUP(日本標準産業分類!B184,作業シート!$C$2:$D$21,2)","v":"製造業"},9,{"$f":"VLOOKUP(D184,作業シート!$F$2:$G$100,2)","v":"食料品製造業"},99,{"$f":"VLOOKUP(F184,作業シート!$I$2:$J$531,2)","v":"その他の食料品製造業"},998,"レトルト食品製造業","E-9-99-998","製造業その他"]
[null,"E",{"$f":"VLOOKUP(日本標準産業分類!B185,作業シート!$C$2:$D$21,2)","v":"製造業"},9,{"$f":"VLOOKUP(D185,作業シート!$F$2:$G$100,2)","v":"食料品製造業"},99,{"$f":"VLOOKUP(F185,作業シート!$I$2:$J$531,2)","v":"その他の食料品製造業"},999,"他に分類されない食料品製造業","E-9-99-999","製造業その他"]
[null,"E",{"$f":"VLOOKUP(日本標準産業分類!B186,作業シート!$C$2:$D$21,2)","v":"製造業"},10,{"$f":"VLOOKUP(D186,作業シート!$F$2:$G$100,2)","v":"飲料・たばこ・飼料製造業"},100,{"$f":"VLOOKUP(F186,作業シート!$I$2:$J$531,2)","v":"管理，補助的経済活動を行う事業所（10飲料・たばこ・飼料製造業）"},1000,"主として管理事務を行う本社等",{"$f":"CONCATENATE(B186,\"-\",D186,\"-\",F186,\"-\",H186)","v":"E-10-100-1000"},"製造業その他"]
[null,"E",{"$f":"VLOOKUP(日本標準産業分類!B187,作業シート!$C$2:$D$21,2)","v":"製造業"},10,{"$f":"VLOOKUP(D187,作業シート!$F$2:$G$100,2)","v":"飲料・たばこ・飼料製造業"},100,{"$f":"VLOOKUP(F187,作業シート!$I$2:$J$531,2)","v":"管理，補助的経済活動を行う事業所（10飲料・たばこ・飼料製造業）"},1009,"その他の管理，補助的経済活動を行う事業所","E-10-100-1009","製造業その他"]
[null,"E",{"$f":"VLOOKUP(日本標準産業分類!B188,作業シート!$C$2:$D$21,2)","v":"製造業"},10,{"$f":"VLOOKUP(D188,作業シート!$F$2:$G$100,2)","v":"飲料・たばこ・飼料製造業"},101,{"$f":"VLOOKUP(F188,作業シート!$I$2:$J$531,2)","v":"清涼飲料製造業"},1011,"清涼飲料製造業","E-10-101-1011","製造業その他"]
[null,"E",{"$f":"VLOOKUP(日本標準産業分類!B189,作業シート!$C$2:$D$21,2)","v":"製造業"},10,{"$f":"VLOOKUP(D189,作業シート!$F$2:$G$100,2)","v":"飲料・たばこ・飼料製造業"},102,{"$f":"VLOOKUP(F189,作業シート!$I$2:$J$531,2)","v":"酒類製造業"},1021,"果実酒製造業","E-10-102-1021","製造業その他"]
[null,"E",{"$f":"VLOOKUP(日本標準産業分類!B190,作業シート!$C$2:$D$21,2)","v":"製造業"},10,{"$f":"VLOOKUP(D190,作業シート!$F$2:$G$100,2)","v":"飲料・たばこ・飼料製造業"},102,{"$f":"VLOOKUP(F190,作業シート!$I$2:$J$531,2)","v":"酒類製造業"},1022,"ビール類製造業","E-10-102-1022","製造業その他"]
[null,"E",{"$f":"VLOOKUP(日本標準産業分類!B191,作業シート!$C$2:$D$21,2)","v":"製造業"},10,{"$f":"VLOOKUP(D191,作業シート!$F$2:$G$100,2)","v":"飲料・たばこ・飼料製造業"},102,{"$f":"VLOOKUP(F191,作業シート!$I$2:$J$531,2)","v":"酒類製造業"},1023,"清酒製造業","E-10-102-1023","製造業その他"]
[null,"E",{"$f":"VLOOKUP(日本標準産業分類!B192,作業シート!$C$2:$D$21,2)","v":"製造業"},10,{"$f":"VLOOKUP(D192,作業シート!$F$2:$G$100,2)","v":"飲料・たばこ・飼料製造業"},102,{"$f":"VLOOKUP(F192,作業シート!$I$2:$J$531,2)","v":"酒類製造業"},1024,"蒸留酒・混成酒製造業","E-10-102-1024","製造業その他"]
[null,"E",{"$f":"VLOOKUP(日本標準産業分類!B193,作業シート!$C$2:$D$21,2)","v":"製造業"},10,{"$f":"VLOOKUP(D193,作業シート!$F$2:$G$100,2)","v":"飲料・たばこ・飼料製造業"},103,{"$f":"VLOOKUP(F193,作業シート!$I$2:$J$531,2)","v":"茶・コーヒー製造業（清涼飲料を除く）"},1031,"製茶業","E-10-103-1031","製造業その他"]
[null,"E",{"$f":"VLOOKUP(日本標準産業分類!B194,作業シート!$C$2:$D$21,2)","v":"製造業"},10,{"$f":"VLOOKUP(D194,作業シート!$F$2:$G$100,2)","v":"飲料・たばこ・飼料製造業"},103,{"$f":"VLOOKUP(F194,作業シート!$I$2:$J$531,2)","v":"茶・コーヒー製造業（清涼飲料を除く）"},1032,"コーヒー製造業","E-10-103-1032","製造業その他"]
[null,"E",{"$f":"VLOOKUP(日本標準産業分類!B195,作業シート!$C$2:$D$21,2)","v":"製造業"},10,{"$f":"VLOOKUP(D195,作業シート!$F$2:$G$100,2)","v":"飲料・たばこ・飼料製造業"},104,{"$f":"VLOOKUP(F195,作業シート!$I$2:$J$531,2)","v":"製氷業"},1041,"製氷業","E-10-104-1041","製造業その他"]
[null,"E",{"$f":"VLOOKUP(日本標準産業分類!B196,作業シート!$C$2:$D$21,2)","v":"製造業"},10,{"$f":"VLOOKUP(D196,作業シート!$F$2:$G$100,2)","v":"飲料・たばこ・飼料製造業"},105,{"$f":"VLOOKUP(F196,作業シート!$I$2:$J$531,2)","v":"たばこ製造業"},1051,"たばこ製造業（葉たばこ処理業を除く)","E-10-105-1051","製造業その他"]
[null,"E",{"$f":"VLOOKUP(日本標準産業分類!B197,作業シート!$C$2:$D$21,2)","v":"製造業"},10,{"$f":"VLOOKUP(D197,作業シート!$F$2:$G$100,2)","v":"飲料・たばこ・飼料製造業"},105,{"$f":"VLOOKUP(F197,作業シート!$I$2:$J$531,2)","v":"たばこ製造業"},1052,"葉たばこ処理業","E-10-105-1052","製造業その他"]
[null,"E",{"$f":"VLOOKUP(日本標準産業分類!B198,作業シート!$C$2:$D$21,2)","v":"製造業"},10,{"$f":"VLOOKUP(D198,作業シート!$F$2:$G$100,2)","v":"飲料・たばこ・飼料製造業"},106,{"$f":"VLOOKUP(F198,作業シート!$I$2:$J$531,2)","v":"飼料・有機質肥料製造業"},1061,"配合飼料製造業","E-10-106-1061","製造業その他"]
[null,"E",{"$f":"VLOOKUP(日本標準産業分類!B199,作業シート!$C$2:$D$21,2)","v":"製造業"},10,{"$f":"VLOOKUP(D199,作業シート!$F$2:$G$100,2)","v":"飲料・たばこ・飼料製造業"},106,{"$f":"VLOOKUP(F199,作業シート!$I$2:$J$531,2)","v":"飼料・有機質肥料製造業"},1062,"単体飼料製造業","E-10-106-1062","製造業その他"]
[null,"E",{"$f":"VLOOKUP(日本標準産業分類!B200,作業シート!$C$2:$D$21,2)","v":"製造業"},10,{"$f":"VLOOKUP(D200,作業シート!$F$2:$G$100,2)","v":"飲料・たばこ・飼料製造業"},106,{"$f":"VLOOKUP(F200,作業シート!$I$2:$J$531,2)","v":"飼料・有機質肥料製造業"},1063,"有機質肥料製造業","E-10-106-1063","製造業その他"]
[null,"E",{"$f":"VLOOKUP(日本標準産業分類!B201,作業シート!$C$2:$D$21,2)","v":"製造業"},11,{"$f":"VLOOKUP(D201,作業シート!$F$2:$G$100,2)","v":"繊維工業"},110,{"$f":"VLOOKUP(F201,作業シート!$I$2:$J$531,2)","v":"管理，補助的経済活動を行う事業所（11繊維工業）"},1100,"主として管理事務を行う本社等","E-11-110-1100","製造業その他"]
[null,"E",{"$f":"VLOOKUP(日本標準産業分類!B202,作業シート!$C$2:$D$21,2)","v":"製造業"},11,{"$f":"VLOOKUP(D202,作業シート!$F$2:$G$100,2)","v":"繊維工業"},110,{"$f":"VLOOKUP(F202,作業シート!$I$2:$J$531,2)","v":"管理，補助的経済活動を行う事業所（11繊維工業）"},1109,"その他の管理，補助的経済活動を行う事業所","E-11-110-1109","製造業その他"]
[null,"E",{"$f":"VLOOKUP(日本標準産業分類!B203,作業シート!$C$2:$D$21,2)","v":"製造業"},11,{"$f":"VLOOKUP(D203,作業シート!$F$2:$G$100,2)","v":"繊維工業"},111,{"$f":"VLOOKUP(F203,作業シート!$I$2:$J$531,2)","v":"製糸業，紡績業，化学繊維・ねん糸等製造業"},1111,"製糸業","E-11-111-1111","製造業その他"]
[null,"E",{"$f":"VLOOKUP(日本標準産業分類!B204,作業シート!$C$2:$D$21,2)","v":"製造業"},11,{"$f":"VLOOKUP(D204,作業シート!$F$2:$G$100,2)","v":"繊維工業"},111,{"$f":"VLOOKUP(F204,作業シート!$I$2:$J$531,2)","v":"製糸業，紡績業，化学繊維・ねん糸等製造業"},1112,"化学繊維製造業","E-11-111-1112","製造業その他"]
[null,"E",{"$f":"VLOOKUP(日本標準産業分類!B205,作業シート!$C$2:$D$21,2)","v":"製造業"},11,{"$f":"VLOOKUP(D205,作業シート!$F$2:$G$100,2)","v":"繊維工業"},111,{"$f":"VLOOKUP(F205,作業シート!$I$2:$J$531,2)","v":"製糸業，紡績業，化学繊維・ねん糸等製造業"},1113,"炭素繊維製造業","E-11-111-1113","製造業その他"]
[null,"E",{"$f":"VLOOKUP(日本標準産業分類!B206,作業シート!$C$2:$D$21,2)","v":"製造業"},11,{"$f":"VLOOKUP(D206,作業シート!$F$2:$G$100,2)","v":"繊維工業"},111,{"$f":"VLOOKUP(F206,作業シート!$I$2:$J$531,2)","v":"製糸業，紡績業，化学繊維・ねん糸等製造業"},1114,"綿紡績業","E-11-111-1114","製造業その他"]
[null,"E",{"$f":"VLOOKUP(日本標準産業分類!B207,作業シート!$C$2:$D$21,2)","v":"製造業"},11,{"$f":"VLOOKUP(D207,作業シート!$F$2:$G$100,2)","v":"繊維工業"},111,{"$f":"VLOOKUP(F207,作業シート!$I$2:$J$531,2)","v":"製糸業，紡績業，化学繊維・ねん糸等製造業"},1115,"化学繊維紡績業","E-11-111-1115","製造業その他"]
[null,"E",{"$f":"VLOOKUP(日本標準産業分類!B208,作業シート!$C$2:$D$21,2)","v":"製造業"},11,{"$f":"VLOOKUP(D208,作業シート!$F$2:$G$100,2)","v":"繊維工業"},111,{"$f":"VLOOKUP(F208,作業シート!$I$2:$J$531,2)","v":"製糸業，紡績業，化学繊維・ねん糸等製造業"},1116,"毛紡績業","E-11-111-1116","製造業その他"]
[null,"E",{"$f":"VLOOKUP(日本標準産業分類!B209,作業シート!$C$2:$D$21,2)","v":"製造業"},11,{"$f":"VLOOKUP(D209,作業シート!$F$2:$G$100,2)","v":"繊維工業"},111,{"$f":"VLOOKUP(F209,作業シート!$I$2:$J$531,2)","v":"製糸業，紡績業，化学繊維・ねん糸等製造業"},1117,"ねん糸製造業（かさ高加工糸を除く）","E-11-111-1117","製造業その他"]
[null,"E",{"$f":"VLOOKUP(日本標準産業分類!B210,作業シート!$C$2:$D$21,2)","v":"製造業"},11,{"$f":"VLOOKUP(D210,作業シート!$F$2:$G$100,2)","v":"繊維工業"},111,{"$f":"VLOOKUP(F210,作業シート!$I$2:$J$531,2)","v":"製糸業，紡績業，化学繊維・ねん糸等製造業"},1118,"かさ高加工糸製造業","E-11-111-1118","製造業その他"]
[null,"E",{"$f":"VLOOKUP(日本標準産業分類!B211,作業シート!$C$2:$D$21,2)","v":"製造業"},11,{"$f":"VLOOKUP(D211,作業シート!$F$2:$G$100,2)","v":"繊維工業"},111,{"$f":"VLOOKUP(F211,作業シート!$I$2:$J$531,2)","v":"製糸業，紡績業，化学繊維・ねん糸等製造業"},1119,"その他の紡績業","E-11-111-1119","製造業その他"]
[null,"E",{"$f":"VLOOKUP(日本標準産業分類!B212,作業シート!$C$2:$D$21,2)","v":"製造業"},11,{"$f":"VLOOKUP(D212,作業シート!$F$2:$G$100,2)","v":"繊維工業"},112,{"$f":"VLOOKUP(F212,作業シート!$I$2:$J$531,2)","v":"織物業"},1121,"綿・スフ織物業","E-11-112-1121","製造業その他"]
[null,"E",{"$f":"VLOOKUP(日本標準産業分類!B213,作業シート!$C$2:$D$21,2)","v":"製造業"},11,{"$f":"VLOOKUP(D213,作業シート!$F$2:$G$100,2)","v":"繊維工業"},112,{"$f":"VLOOKUP(F213,作業シート!$I$2:$J$531,2)","v":"織物業"},1122,"絹・人絹織物業","E-11-112-1122","製造業その他"]
[null,"E",{"$f":"VLOOKUP(日本標準産業分類!B214,作業シート!$C$2:$D$21,2)","v":"製造業"},11,{"$f":"VLOOKUP(D214,作業シート!$F$2:$G$100,2)","v":"繊維工業"},112,{"$f":"VLOOKUP(F214,作業シート!$I$2:$J$531,2)","v":"織物業"},1123,"毛織物業","E-11-112-1123","製造業その他"]
[null,"E",{"$f":"VLOOKUP(日本標準産業分類!B215,作業シート!$C$2:$D$21,2)","v":"製造業"},11,{"$f":"VLOOKUP(D215,作業シート!$F$2:$G$100,2)","v":"繊維工業"},112,{"$f":"VLOOKUP(F215,作業シート!$I$2:$J$531,2)","v":"織物業"},1124,"麻織物業","E-11-112-1124","製造業その他"]
[null,"E",{"$f":"VLOOKUP(日本標準産業分類!B216,作業シート!$C$2:$D$21,2)","v":"製造業"},11,{"$f":"VLOOKUP(D216,作業シート!$F$2:$G$100,2)","v":"繊維工業"},112,{"$f":"VLOOKUP(F216,作業シート!$I$2:$J$531,2)","v":"織物業"},1125,"細幅織物業","E-11-112-1125","製造業その他"]
[null,"E",{"$f":"VLOOKUP(日本標準産業分類!B217,作業シート!$C$2:$D$21,2)","v":"製造業"},11,{"$f":"VLOOKUP(D217,作業シート!$F$2:$G$100,2)","v":"繊維工業"},112,{"$f":"VLOOKUP(F217,作業シート!$I$2:$J$531,2)","v":"織物業"},1129,"その他の織物業","E-11-112-1129","製造業その他"]
[null,"E",{"$f":"VLOOKUP(日本標準産業分類!B218,作業シート!$C$2:$D$21,2)","v":"製造業"},11,{"$f":"VLOOKUP(D218,作業シート!$F$2:$G$100,2)","v":"繊維工業"},113,{"$f":"VLOOKUP(F218,作業シート!$I$2:$J$531,2)","v":"ニット生地製造業"},1131,"丸編ニット生地製造業","E-11-113-1131","製造業その他"]
[null,"E",{"$f":"VLOOKUP(日本標準産業分類!B219,作業シート!$C$2:$D$21,2)","v":"製造業"},11,{"$f":"VLOOKUP(D219,作業シート!$F$2:$G$100,2)","v":"繊維工業"},113,{"$f":"VLOOKUP(F219,作業シート!$I$2:$J$531,2)","v":"ニット生地製造業"},1132,"たて編ニット生地製造業","E-11-113-1132","製造業その他"]
[null,"E",{"$f":"VLOOKUP(日本標準産業分類!B220,作業シート!$C$2:$D$21,2)","v":"製造業"},11,{"$f":"VLOOKUP(D220,作業シート!$F$2:$G$100,2)","v":"繊維工業"},113,{"$f":"VLOOKUP(F220,作業シート!$I$2:$J$531,2)","v":"ニット生地製造業"},1133,"横編ニット生地製造業","E-11-113-1133","製造業その他"]
[null,"E",{"$f":"VLOOKUP(日本標準産業分類!B221,作業シート!$C$2:$D$21,2)","v":"製造業"},11,{"$f":"VLOOKUP(D221,作業シート!$F$2:$G$100,2)","v":"繊維工業"},114,{"$f":"VLOOKUP(F221,作業シート!$I$2:$J$531,2)","v":"染色整理業"},1141,"綿・スフ・麻織物機械染色業","E-11-114-1141","製造業その他"]
[null,"E",{"$f":"VLOOKUP(日本標準産業分類!B222,作業シート!$C$2:$D$21,2)","v":"製造業"},11,{"$f":"VLOOKUP(D222,作業シート!$F$2:$G$100,2)","v":"繊維工業"},114,{"$f":"VLOOKUP(F222,作業シート!$I$2:$J$531,2)","v":"染色整理業"},1142,"絹・人絹織物機械染色業","E-11-114-1142","製造業その他"]
[null,"E",{"$f":"VLOOKUP(日本標準産業分類!B223,作業シート!$C$2:$D$21,2)","v":"製造業"},11,{"$f":"VLOOKUP(D223,作業シート!$F$2:$G$100,2)","v":"繊維工業"},114,{"$f":"VLOOKUP(F223,作業シート!$I$2:$J$531,2)","v":"染色整理業"},1143,"毛織物機械染色整理業","E-11-114-1143","製造業その他"]
[null,"E",{"$f":"VLOOKUP(日本標準産業分類!B224,作業シート!$C$2:$D$21,2)","v":"製造業"},11,{"$f":"VLOOKUP(D224,作業シート!$F$2:$G$100,2)","v":"繊維工業"},114,{"$f":"VLOOKUP(F224,作業シート!$I$2:$J$531,2)","v":"染色整理業"},1144,"織物整理業","E-11-114-1144","製造業その他"]
[null,"E",{"$f":"VLOOKUP(日本標準産業分類!B225,作業シート!$C$2:$D$21,2)","v":"製造業"},11,{"$f":"VLOOKUP(D225,作業シート!$F$2:$G$100,2)","v":"繊維工業"},114,{"$f":"VLOOKUP(F225,作業シート!$I$2:$J$531,2)","v":"染色整理業"},1145,"織物手加工染色整理業","E-11-114-1145","製造業その他"]
[null,"E",{"$f":"VLOOKUP(日本標準産業分類!B226,作業シート!$C$2:$D$21,2)","v":"製造業"},11,{"$f":"VLOOKUP(D226,作業シート!$F$2:$G$100,2)","v":"繊維工業"},114,{"$f":"VLOOKUP(F226,作業シート!$I$2:$J$531,2)","v":"染色整理業"},1146,"綿状繊維・糸染色整理業","E-11-114-1146","製造業その他"]
[null,"E",{"$f":"VLOOKUP(日本標準産業分類!B227,作業シート!$C$2:$D$21,2)","v":"製造業"},11,{"$f":"VLOOKUP(D227,作業シート!$F$2:$G$100,2)","v":"繊維工業"},114,{"$f":"VLOOKUP(F227,作業シート!$I$2:$J$531,2)","v":"染色整理業"},1147,"ニット・レース染色整理業","E-11-114-1147","製造業その他"]
[null,"E",{"$f":"VLOOKUP(日本標準産業分類!B228,作業シート!$C$2:$D$21,2)","v":"製造業"},11,{"$f":"VLOOKUP(D228,作業シート!$F$2:$G$100,2)","v":"繊維工業"},114,{"$f":"VLOOKUP(F228,作業シート!$I$2:$J$531,2)","v":"染色整理業"},1148,"繊維雑品染色整理業","E-11-114-1148","製造業その他"]
[null,"E",{"$f":"VLOOKUP(日本標準産業分類!B229,作業シート!$C$2:$D$21,2)","v":"製造業"},11,{"$f":"VLOOKUP(D229,作業シート!$F$2:$G$100,2)","v":"繊維工業"},115,{"$f":"VLOOKUP(F229,作業シート!$I$2:$J$531,2)","v":"綱・網・レース・繊維粗製品製造業"},1151,"綱製造業","E-11-115-1151","製造業その他"]
[null,"E",{"$f":"VLOOKUP(日本標準産業分類!B230,作業シート!$C$2:$D$21,2)","v":"製造業"},11,{"$f":"VLOOKUP(D230,作業シート!$F$2:$G$100,2)","v":"繊維工業"},115,{"$f":"VLOOKUP(F230,作業シート!$I$2:$J$531,2)","v":"綱・網・レース・繊維粗製品製造業"},1152,"漁網製造業","E-11-115-1152","製造業その他"]
[null,"E",{"$f":"VLOOKUP(日本標準産業分類!B231,作業シート!$C$2:$D$21,2)","v":"製造業"},11,{"$f":"VLOOKUP(D231,作業シート!$F$2:$G$100,2)","v":"繊維工業"},115,{"$f":"VLOOKUP(F231,作業シート!$I$2:$J$531,2)","v":"綱・網・レース・繊維粗製品製造業"},1153,"網地製造業（漁網を除く）","E-11-115-1153","製造業その他"]
[null,"E",{"$f":"VLOOKUP(日本標準産業分類!B232,作業シート!$C$2:$D$21,2)","v":"製造業"},11,{"$f":"VLOOKUP(D232,作業シート!$F$2:$G$100,2)","v":"繊維工業"},115,{"$f":"VLOOKUP(F232,作業シート!$I$2:$J$531,2)","v":"綱・網・レース・繊維粗製品製造業"},1154,"レース製造業","E-11-115-1154","製造業その他"]
[null,"E",{"$f":"VLOOKUP(日本標準産業分類!B233,作業シート!$C$2:$D$21,2)","v":"製造業"},11,{"$f":"VLOOKUP(D233,作業シート!$F$2:$G$100,2)","v":"繊維工業"},115,{"$f":"VLOOKUP(F233,作業シート!$I$2:$J$531,2)","v":"綱・網・レース・繊維粗製品製造業"},1155,"組ひも製造業","E-11-115-1155","製造業その他"]
[null,"E",{"$f":"VLOOKUP(日本標準産業分類!B234,作業シート!$C$2:$D$21,2)","v":"製造業"},11,{"$f":"VLOOKUP(D234,作業シート!$F$2:$G$100,2)","v":"繊維工業"},115,{"$f":"VLOOKUP(F234,作業シート!$I$2:$J$531,2)","v":"綱・網・レース・繊維粗製品製造業"},1156,"整毛業","E-11-115-1156","製造業その他"]
[null,"E",{"$f":"VLOOKUP(日本標準産業分類!B235,作業シート!$C$2:$D$21,2)","v":"製造業"},11,{"$f":"VLOOKUP(D235,作業シート!$F$2:$G$100,2)","v":"繊維工業"},115,{"$f":"VLOOKUP(F235,作業シート!$I$2:$J$531,2)","v":"綱・網・レース・繊維粗製品製造業"},1157,"フェルト・不織布製造業","E-11-115-1157","製造業その他"]
[null,"E",{"$f":"VLOOKUP(日本標準産業分類!B236,作業シート!$C$2:$D$21,2)","v":"製造業"},11,{"$f":"VLOOKUP(D236,作業シート!$F$2:$G$100,2)","v":"繊維工業"},115,{"$f":"VLOOKUP(F236,作業シート!$I$2:$J$531,2)","v":"綱・網・レース・繊維粗製品製造業"},1158,"上塗りした織物・防水した織物製造業","E-11-115-1158","製造業その他"]
[null,"E",{"$f":"VLOOKUP(日本標準産業分類!B237,作業シート!$C$2:$D$21,2)","v":"製造業"},11,{"$f":"VLOOKUP(D237,作業シート!$F$2:$G$100,2)","v":"繊維工業"},115,{"$f":"VLOOKUP(F237,作業シート!$I$2:$J$531,2)","v":"綱・網・レース・繊維粗製品製造業"},1159,"その他の繊維粗製品製造業",{"$f":"CONCATENATE(B237,\"-\",D237,\"-\",F237,\"-\",H237)","v":"E-11-115-1159"},"製造業その他"]
[null,"E",{"$f":"VLOOKUP(日本標準産業分類!B238,作業シート!$C$2:$D$21,2)","v":"製造業"},11,{"$f":"VLOOKUP(D238,作業シート!$F$2:$G$100,2)","v":"繊維工業"},116,{"$f":"VLOOKUP(F238,作業シート!$I$2:$J$531,2)","v":"外衣・シャツ製造業（和式を除く）"},1161,"織物製成人男子・少年服製造業（不織布製及びレース製を含む）","E-11-116-1161","製造業その他"]
[null,"E",{"$f":"VLOOKUP(日本標準産業分類!B239,作業シート!$C$2:$D$21,2)","v":"製造業"},11,{"$f":"VLOOKUP(D239,作業シート!$F$2:$G$100,2)","v":"繊維工業"},116,{"$f":"VLOOKUP(F239,作業シート!$I$2:$J$531,2)","v":"外衣・シャツ製造業（和式を除く）"},1162,"織物製成人女子・少女服製造業（不織布製及びレース製を含む）","E-11-116-1162","製造業その他"]
[null,"E",{"$f":"VLOOKUP(日本標準産業分類!B240,作業シート!$C$2:$D$21,2)","v":"製造業"},11,{"$f":"VLOOKUP(D240,作業シート!$F$2:$G$100,2)","v":"繊維工業"},116,{"$f":"VLOOKUP(F240,作業シート!$I$2:$J$531,2)","v":"外衣・シャツ製造業（和式を除く）"},1163,"織物製乳幼児服製造業（不織布製及びレース製を含む）","E-11-116-1163","製造業その他"]
[null,"E",{"$f":"VLOOKUP(日本標準産業分類!B241,作業シート!$C$2:$D$21,2)","v":"製造業"},11,{"$f":"VLOOKUP(D241,作業シート!$F$2:$G$100,2)","v":"繊維工業"},116,{"$f":"VLOOKUP(F241,作業シート!$I$2:$J$531,2)","v":"外衣・シャツ製造業（和式を除く）"},1164,"織物製シャツ製造業（不織布製及びレース製を含み、下着を除く）","E-11-116-1164","製造業その他"]
[null,"E",{"$f":"VLOOKUP(日本標準産業分類!B242,作業シート!$C$2:$D$21,2)","v":"製造業"},11,{"$f":"VLOOKUP(D242,作業シート!$F$2:$G$100,2)","v":"繊維工業"},116,{"$f":"VLOOKUP(F242,作業シート!$I$2:$J$531,2)","v":"外衣・シャツ製造業（和式を除く）"},1165,"織物製事務用・作業用・衛生用・スポーツ用衣服・学校服製造業（不織布製及びレース製を含む）","E-11-116-1165","製造業その他"]
[null,"E",{"$f":"VLOOKUP(日本標準産業分類!B243,作業シート!$C$2:$D$21,2)","v":"製造業"},11,{"$f":"VLOOKUP(D243,作業シート!$F$2:$G$100,2)","v":"繊維工業"},116,{"$f":"VLOOKUP(F243,作業シート!$I$2:$J$531,2)","v":"外衣・シャツ製造業（和式を除く）"},1166,"ニット製外衣製造業（アウターシャツ類，セーター類などを除く）","E-11-116-1166","製造業その他"]
[null,"E",{"$f":"VLOOKUP(日本標準産業分類!B244,作業シート!$C$2:$D$21,2)","v":"製造業"},11,{"$f":"VLOOKUP(D244,作業シート!$F$2:$G$100,2)","v":"繊維工業"},116,{"$f":"VLOOKUP(F244,作業シート!$I$2:$J$531,2)","v":"外衣・シャツ製造業（和式を除く）"},1167,"ニット製アウターシャツ類製造業","E-11-116-1167","製造業その他"]
[null,"E",{"$f":"VLOOKUP(日本標準産業分類!B245,作業シート!$C$2:$D$21,2)","v":"製造業"},11,{"$f":"VLOOKUP(D245,作業シート!$F$2:$G$100,2)","v":"繊維工業"},116,{"$f":"VLOOKUP(F245,作業シート!$I$2:$J$531,2)","v":"外衣・シャツ製造業（和式を除く）"},1168,"セーター類製造業","E-11-116-1168","製造業その他"]
[null,"E",{"$f":"VLOOKUP(日本標準産業分類!B246,作業シート!$C$2:$D$21,2)","v":"製造業"},11,{"$f":"VLOOKUP(D246,作業シート!$F$2:$G$100,2)","v":"繊維工業"},116,{"$f":"VLOOKUP(F246,作業シート!$I$2:$J$531,2)","v":"外衣・シャツ製造業（和式を除く）"},1169,"その他の外衣・シャツ製造業","E-11-116-1169","製造業その他"]
[null,"E",{"$f":"VLOOKUP(日本標準産業分類!B247,作業シート!$C$2:$D$21,2)","v":"製造業"},11,{"$f":"VLOOKUP(D247,作業シート!$F$2:$G$100,2)","v":"繊維工業"},117,{"$f":"VLOOKUP(F247,作業シート!$I$2:$J$531,2)","v":"下着類製造業"},1171,"織物製下着製造業","E-11-117-1171","製造業その他"]
[null,"E",{"$f":"VLOOKUP(日本標準産業分類!B248,作業シート!$C$2:$D$21,2)","v":"製造業"},11,{"$f":"VLOOKUP(D248,作業シート!$F$2:$G$100,2)","v":"繊維工業"},117,{"$f":"VLOOKUP(F248,作業シート!$I$2:$J$531,2)","v":"下着類製造業"},1172,"ニット製下着製造業","E-11-117-1172","製造業その他"]
[null,"E",{"$f":"VLOOKUP(日本標準産業分類!B249,作業シート!$C$2:$D$21,2)","v":"製造業"},11,{"$f":"VLOOKUP(D249,作業シート!$F$2:$G$100,2)","v":"繊維工業"},117,{"$f":"VLOOKUP(F249,作業シート!$I$2:$J$531,2)","v":"下着類製造業"},1173,"織物製・ニット製寝着類製造業","E-11-117-1173","製造業その他"]
[null,"E",{"$f":"VLOOKUP(日本標準産業分類!B250,作業シート!$C$2:$D$21,2)","v":"製造業"},11,{"$f":"VLOOKUP(D250,作業シート!$F$2:$G$100,2)","v":"繊維工業"},117,{"$f":"VLOOKUP(F250,作業シート!$I$2:$J$531,2)","v":"下着類製造業"},1174,"補整着製造業","E-11-117-1174","製造業その他"]
[null,"E",{"$f":"VLOOKUP(日本標準産業分類!B251,作業シート!$C$2:$D$21,2)","v":"製造業"},11,{"$f":"VLOOKUP(D251,作業シート!$F$2:$G$100,2)","v":"繊維工業"},118,{"$f":"VLOOKUP(F251,作業シート!$I$2:$J$531,2)","v":"和装製品・その他の衣服・繊維製身の回り品製造業"},1181,"和装製品製造業（足袋を含む）","E-11-118-1181","製造業その他"]
[null,"E",{"$f":"VLOOKUP(日本標準産業分類!B252,作業シート!$C$2:$D$21,2)","v":"製造業"},11,{"$f":"VLOOKUP(D252,作業シート!$F$2:$G$100,2)","v":"繊維工業"},118,{"$f":"VLOOKUP(F252,作業シート!$I$2:$J$531,2)","v":"和装製品・その他の衣服・繊維製身の回り品製造業"},1182,"ネクタイ製造業","E-11-118-1182","製造業その他"]
[null,"E",{"$f":"VLOOKUP(日本標準産業分類!B253,作業シート!$C$2:$D$21,2)","v":"製造業"},11,{"$f":"VLOOKUP(D253,作業シート!$F$2:$G$100,2)","v":"繊維工業"},118,{"$f":"VLOOKUP(F253,作業シート!$I$2:$J$531,2)","v":"和装製品・その他の衣服・繊維製身の回り品製造業"},1183,"スカーフ・マフラー・ハンカチーフ製造業","E-11-118-1183","製造業その他"]
[null,"E",{"$f":"VLOOKUP(日本標準産業分類!B254,作業シート!$C$2:$D$21,2)","v":"製造業"},11,{"$f":"VLOOKUP(D254,作業シート!$F$2:$G$100,2)","v":"繊維工業"},118,{"$f":"VLOOKUP(F254,作業シート!$I$2:$J$531,2)","v":"和装製品・その他の衣服・繊維製身の回り品製造業"},1184,"靴下製造業","E-11-118-1184","製造業その他"]
[null,"E",{"$f":"VLOOKUP(日本標準産業分類!B255,作業シート!$C$2:$D$21,2)","v":"製造業"},11,{"$f":"VLOOKUP(D255,作業シート!$F$2:$G$100,2)","v":"繊維工業"},118,{"$f":"VLOOKUP(F255,作業シート!$I$2:$J$531,2)","v":"和装製品・その他の衣服・繊維製身の回り品製造業"},1185,"手袋製造業","E-11-118-1185","製造業その他"]
[null,"E",{"$f":"VLOOKUP(日本標準産業分類!B256,作業シート!$C$2:$D$21,2)","v":"製造業"},11,{"$f":"VLOOKUP(D256,作業シート!$F$2:$G$100,2)","v":"繊維工業"},118,{"$f":"VLOOKUP(F256,作業シート!$I$2:$J$531,2)","v":"和装製品・その他の衣服・繊維製身の回り品製造業"},1186,"帽子製造業（帽体を含む）","E-11-118-1186","製造業その他"]
[null,"E",{"$f":"VLOOKUP(日本標準産業分類!B257,作業シート!$C$2:$D$21,2)","v":"製造業"},11,{"$f":"VLOOKUP(D257,作業シート!$F$2:$G$100,2)","v":"繊維工業"},118,{"$f":"VLOOKUP(F257,作業シート!$I$2:$J$531,2)","v":"和装製品・その他の衣服・繊維製身の回り品製造業"},1189,"他に分類されない衣服・繊維製身の回り品製造業","E-11-118-1189","製造業その他"]
[null,"E",{"$f":"VLOOKUP(日本標準産業分類!B258,作業シート!$C$2:$D$21,2)","v":"製造業"},11,{"$f":"VLOOKUP(D258,作業シート!$F$2:$G$100,2)","v":"繊維工業"},119,{"$f":"VLOOKUP(F258,作業シート!$I$2:$J$531,2)","v":"その他の繊維製品製造業"},1191,"寝具製造業","E-11-119-1191","製造業その他"]
[null,"E",{"$f":"VLOOKUP(日本標準産業分類!B259,作業シート!$C$2:$D$21,2)","v":"製造業"},11,{"$f":"VLOOKUP(D259,作業シート!$F$2:$G$100,2)","v":"繊維工業"},119,{"$f":"VLOOKUP(F259,作業シート!$I$2:$J$531,2)","v":"その他の繊維製品製造業"},1192,"毛布製造業","E-11-119-1192","製造業その他"]
[null,"E",{"$f":"VLOOKUP(日本標準産業分類!B260,作業シート!$C$2:$D$21,2)","v":"製造業"},11,{"$f":"VLOOKUP(D260,作業シート!$F$2:$G$100,2)","v":"繊維工業"},119,{"$f":"VLOOKUP(F260,作業シート!$I$2:$J$531,2)","v":"その他の繊維製品製造業"},1193,"じゅうたん・その他の繊維製床敷物製造業","E-11-119-1193","製造業その他"]
[null,"E",{"$f":"VLOOKUP(日本標準産業分類!B261,作業シート!$C$2:$D$21,2)","v":"製造業"},11,{"$f":"VLOOKUP(D261,作業シート!$F$2:$G$100,2)","v":"繊維工業"},119,{"$f":"VLOOKUP(F261,作業シート!$I$2:$J$531,2)","v":"その他の繊維製品製造業"},1194,"帆布製品製造業","E-11-119-1194","製造業その他"]
[null,"E",{"$f":"VLOOKUP(日本標準産業分類!B262,作業シート!$C$2:$D$21,2)","v":"製造業"},11,{"$f":"VLOOKUP(D262,作業シート!$F$2:$G$100,2)","v":"繊維工業"},119,{"$f":"VLOOKUP(F262,作業シート!$I$2:$J$531,2)","v":"その他の繊維製品製造業"},1195,"繊維製袋製造業","E-11-119-1195","製造業その他"]
[null,"E",{"$f":"VLOOKUP(日本標準産業分類!B263,作業シート!$C$2:$D$21,2)","v":"製造業"},11,{"$f":"VLOOKUP(D263,作業シート!$F$2:$G$100,2)","v":"繊維工業"},119,{"$f":"VLOOKUP(F263,作業シート!$I$2:$J$531,2)","v":"その他の繊維製品製造業"},1196,"刺しゅう業","E-11-119-1196","製造業その他"]
[null,"E",{"$f":"VLOOKUP(日本標準産業分類!B264,作業シート!$C$2:$D$21,2)","v":"製造業"},11,{"$f":"VLOOKUP(D264,作業シート!$F$2:$G$100,2)","v":"繊維工業"},119,{"$f":"VLOOKUP(F264,作業シート!$I$2:$J$531,2)","v":"その他の繊維製品製造業"},1197,"タオル製造業","E-11-119-1197","製造業その他"]
[null,"E",{"$f":"VLOOKUP(日本標準産業分類!B265,作業シート!$C$2:$D$21,2)","v":"製造業"},11,{"$f":"VLOOKUP(D265,作業シート!$F$2:$G$100,2)","v":"繊維工業"},119,{"$f":"VLOOKUP(F265,作業シート!$I$2:$J$531,2)","v":"その他の繊維製品製造業"},1198,"繊維製衛生材料製造業","E-11-119-1198","製造業その他"]
[null,"E",{"$f":"VLOOKUP(日本標準産業分類!B266,作業シート!$C$2:$D$21,2)","v":"製造業"},11,{"$f":"VLOOKUP(D266,作業シート!$F$2:$G$100,2)","v":"繊維工業"},119,{"$f":"VLOOKUP(F266,作業シート!$I$2:$J$531,2)","v":"その他の繊維製品製造業"},1199,"他に分類されない繊維製品製造業","E-11-119-1199","製造業その他"]
[null,"E",{"$f":"VLOOKUP(日本標準産業分類!B267,作業シート!$C$2:$D$21,2)","v":"製造業"},12,{"$f":"VLOOKUP(D267,作業シート!$F$2:$G$100,2)","v":"木材・木製品製造業（家具を除く）"},120,{"$f":"VLOOKUP(F267,作業シート!$I$2:$J$531,2)","v":"管理，補助的経済活動を行う事業所（12木材・木製品製造業）"},1200,"主として管理事務を行う本社等","E-12-120-1200","製造業その他"]
[null,"E",{"$f":"VLOOKUP(日本標準産業分類!B268,作業シート!$C$2:$D$21,2)","v":"製造業"},12,{"$f":"VLOOKUP(D268,作業シート!$F$2:$G$100,2)","v":"木材・木製品製造業（家具を除く）"},120,{"$f":"VLOOKUP(F268,作業シート!$I$2:$J$531,2)","v":"管理，補助的経済活動を行う事業所（12木材・木製品製造業）"},1209,"その他の管理，補助的経済活動を行う事業所","E-12-120-1209","製造業その他"]
[null,"E",{"$f":"VLOOKUP(日本標準産業分類!B269,作業シート!$C$2:$D$21,2)","v":"製造業"},12,{"$f":"VLOOKUP(D269,作業シート!$F$2:$G$100,2)","v":"木材・木製品製造業（家具を除く）"},121,{"$f":"VLOOKUP(F269,作業シート!$I$2:$J$531,2)","v":"製材業，木製品製造業"},1211,"一般製材業","E-12-121-1211","製造業その他"]
[null,"E",{"$f":"VLOOKUP(日本標準産業分類!B270,作業シート!$C$2:$D$21,2)","v":"製造業"},12,{"$f":"VLOOKUP(D270,作業シート!$F$2:$G$100,2)","v":"木材・木製品製造業（家具を除く）"},121,{"$f":"VLOOKUP(F270,作業シート!$I$2:$J$531,2)","v":"製材業，木製品製造業"},1212,"単板（ベニヤ）製造業","E-12-121-1212","製造業その他"]
[null,"E",{"$f":"VLOOKUP(日本標準産業分類!B271,作業シート!$C$2:$D$21,2)","v":"製造業"},12,{"$f":"VLOOKUP(D271,作業シート!$F$2:$G$100,2)","v":"木材・木製品製造業（家具を除く）"},121,{"$f":"VLOOKUP(F271,作業シート!$I$2:$J$531,2)","v":"製材業，木製品製造業"},1213,"木材チップ製造業","E-12-121-1213","製造業その他"]
[null,"E",{"$f":"VLOOKUP(日本標準産業分類!B272,作業シート!$C$2:$D$21,2)","v":"製造業"},12,{"$f":"VLOOKUP(D272,作業シート!$F$2:$G$100,2)","v":"木材・木製品製造業（家具を除く）"},121,{"$f":"VLOOKUP(F272,作業シート!$I$2:$J$531,2)","v":"製材業，木製品製造業"},1219,"その他の特殊製材業","E-12-121-1219","製造業その他"]
[null,"E",{"$f":"VLOOKUP(日本標準産業分類!B273,作業シート!$C$2:$D$21,2)","v":"製造業"},12,{"$f":"VLOOKUP(D273,作業シート!$F$2:$G$100,2)","v":"木材・木製品製造業（家具を除く）"},122,{"$f":"VLOOKUP(F273,作業シート!$I$2:$J$531,2)","v":"造作材・合板・建築用組立材料製造業"},1221,"造作材製造業（建具を除く）","E-12-122-1221","製造業その他"]
[null,"E",{"$f":"VLOOKUP(日本標準産業分類!B274,作業シート!$C$2:$D$21,2)","v":"製造業"},12,{"$f":"VLOOKUP(D274,作業シート!$F$2:$G$100,2)","v":"木材・木製品製造業（家具を除く）"},122,{"$f":"VLOOKUP(F274,作業シート!$I$2:$J$531,2)","v":"造作材・合板・建築用組立材料製造業"},1222,"合板製造業","E-12-122-1222","製造業その他"]
[null,"E",{"$f":"VLOOKUP(日本標準産業分類!B275,作業シート!$C$2:$D$21,2)","v":"製造業"},12,{"$f":"VLOOKUP(D275,作業シート!$F$2:$G$100,2)","v":"木材・木製品製造業（家具を除く）"},122,{"$f":"VLOOKUP(F275,作業シート!$I$2:$J$531,2)","v":"造作材・合板・建築用組立材料製造業"},1223,"集成材製造業","E-12-122-1223","製造業その他"]
[null,"E",{"$f":"VLOOKUP(日本標準産業分類!B276,作業シート!$C$2:$D$21,2)","v":"製造業"},12,{"$f":"VLOOKUP(D276,作業シート!$F$2:$G$100,2)","v":"木材・木製品製造業（家具を除く）"},122,{"$f":"VLOOKUP(F276,作業シート!$I$2:$J$531,2)","v":"造作材・合板・建築用組立材料製造業"},1224,"建築用木製組立材料製造業","E-12-122-1224","製造業その他"]
[null,"E",{"$f":"VLOOKUP(日本標準産業分類!B277,作業シート!$C$2:$D$21,2)","v":"製造業"},12,{"$f":"VLOOKUP(D277,作業シート!$F$2:$G$100,2)","v":"木材・木製品製造業（家具を除く）"},122,{"$f":"VLOOKUP(F277,作業シート!$I$2:$J$531,2)","v":"造作材・合板・建築用組立材料製造業"},1225,"パーティクルボード製造業","E-12-122-1225","製造業その他"]
[null,"E",{"$f":"VLOOKUP(日本標準産業分類!B278,作業シート!$C$2:$D$21,2)","v":"製造業"},12,{"$f":"VLOOKUP(D278,作業シート!$F$2:$G$100,2)","v":"木材・木製品製造業（家具を除く）"},122,{"$f":"VLOOKUP(F278,作業シート!$I$2:$J$531,2)","v":"造作材・合板・建築用組立材料製造業"},1226,"繊維板製造業","E-12-122-1226","製造業その他"]
[null,"E",{"$f":"VLOOKUP(日本標準産業分類!B279,作業シート!$C$2:$D$21,2)","v":"製造業"},12,{"$f":"VLOOKUP(D279,作業シート!$F$2:$G$100,2)","v":"木材・木製品製造業（家具を除く）"},122,{"$f":"VLOOKUP(F279,作業シート!$I$2:$J$531,2)","v":"造作材・合板・建築用組立材料製造業"},1227,"銘木製造業","E-12-122-1227","製造業その他"]
[null,"E",{"$f":"VLOOKUP(日本標準産業分類!B280,作業シート!$C$2:$D$21,2)","v":"製造業"},12,{"$f":"VLOOKUP(D280,作業シート!$F$2:$G$100,2)","v":"木材・木製品製造業（家具を除く）"},122,{"$f":"VLOOKUP(F280,作業シート!$I$2:$J$531,2)","v":"造作材・合板・建築用組立材料製造業"},1228,"床板製造業","E-12-122-1228","製造業その他"]
[null,"E",{"$f":"VLOOKUP(日本標準産業分類!B281,作業シート!$C$2:$D$21,2)","v":"製造業"},12,{"$f":"VLOOKUP(D281,作業シート!$F$2:$G$100,2)","v":"木材・木製品製造業（家具を除く）"},123,{"$f":"VLOOKUP(F281,作業シート!$I$2:$J$531,2)","v":"木製容器製造業（竹，とうを含む）"},1231,"竹・とう・きりゅう等容器製造業","E-12-123-1231","製造業その他"]
[null,"E",{"$f":"VLOOKUP(日本標準産業分類!B282,作業シート!$C$2:$D$21,2)","v":"製造業"},12,{"$f":"VLOOKUP(D282,作業シート!$F$2:$G$100,2)","v":"木材・木製品製造業（家具を除く）"},123,{"$f":"VLOOKUP(F282,作業シート!$I$2:$J$531,2)","v":"木製容器製造業（竹，とうを含む）"},1232,"木箱製造業","E-12-123-1232","製造業その他"]
[null,"E",{"$f":"VLOOKUP(日本標準産業分類!B283,作業シート!$C$2:$D$21,2)","v":"製造業"},12,{"$f":"VLOOKUP(D283,作業シート!$F$2:$G$100,2)","v":"木材・木製品製造業（家具を除く）"},123,{"$f":"VLOOKUP(F283,作業シート!$I$2:$J$531,2)","v":"木製容器製造業（竹，とうを含む）"},1233,"たる・おけ製造業","E-12-123-1233","製造業その他"]
[null,"E",{"$f":"VLOOKUP(日本標準産業分類!B284,作業シート!$C$2:$D$21,2)","v":"製造業"},12,{"$f":"VLOOKUP(D284,作業シート!$F$2:$G$100,2)","v":"木材・木製品製造業（家具を除く）"},129,{"$f":"VLOOKUP(F284,作業シート!$I$2:$J$531,2)","v":"その他の木製品製造業(竹，とうを含む)"},1291,"木材薬品処理業","E-12-129-1291","製造業その他"]
[null,"E",{"$f":"VLOOKUP(日本標準産業分類!B285,作業シート!$C$2:$D$21,2)","v":"製造業"},12,{"$f":"VLOOKUP(D285,作業シート!$F$2:$G$100,2)","v":"木材・木製品製造業（家具を除く）"},129,{"$f":"VLOOKUP(F285,作業シート!$I$2:$J$531,2)","v":"その他の木製品製造業(竹，とうを含む)"},1292,"コルク加工基礎資材・コルク製品製造業","E-12-129-1292","製造業その他"]
[null,"E",{"$f":"VLOOKUP(日本標準産業分類!B286,作業シート!$C$2:$D$21,2)","v":"製造業"},12,{"$f":"VLOOKUP(D286,作業シート!$F$2:$G$100,2)","v":"木材・木製品製造業（家具を除く）"},129,{"$f":"VLOOKUP(F286,作業シート!$I$2:$J$531,2)","v":"その他の木製品製造業(竹，とうを含む)"},1299,"他に分類されない木製品製造業(竹，とうを含む)","E-12-129-1299","製造業その他"]
[null,"E",{"$f":"VLOOKUP(日本標準産業分類!B287,作業シート!$C$2:$D$21,2)","v":"製造業"},13,{"$f":"VLOOKUP(D287,作業シート!$F$2:$G$100,2)","v":"家具・装備品製造業"},130,{"$f":"VLOOKUP(F287,作業シート!$I$2:$J$531,2)","v":"管理，補助的経済活動を行う事業所（13家具・装備品製造業）"},1300,"主として管理事務を行う本社等","E-13-130-1300","製造業その他"]
[null,"E",{"$f":"VLOOKUP(日本標準産業分類!B288,作業シート!$C$2:$D$21,2)","v":"製造業"},13,{"$f":"VLOOKUP(D288,作業シート!$F$2:$G$100,2)","v":"家具・装備品製造業"},130,{"$f":"VLOOKUP(F288,作業シート!$I$2:$J$531,2)","v":"管理，補助的経済活動を行う事業所（13家具・装備品製造業）"},1309,"その他の管理，補助的経済活動を行う事業所","E-13-130-1309","製造業その他"]
[null,"E",{"$f":"VLOOKUP(日本標準産業分類!B289,作業シート!$C$2:$D$21,2)","v":"製造業"},13,{"$f":"VLOOKUP(D289,作業シート!$F$2:$G$100,2)","v":"家具・装備品製造業"},131,{"$f":"VLOOKUP(F289,作業シート!$I$2:$J$531,2)","v":"家具製造業"},1311,"木製家具製造業（漆塗りを除く）",{"$f":"CONCATENATE(B289,\"-\",D289,\"-\",F289,\"-\",H289)","v":"E-13-131-1311"},"製造業その他"]
[null,"E",{"$f":"VLOOKUP(日本標準産業分類!B290,作業シート!$C$2:$D$21,2)","v":"製造業"},13,{"$f":"VLOOKUP(D290,作業シート!$F$2:$G$100,2)","v":"家具・装備品製造業"},131,{"$f":"VLOOKUP(F290,作業シート!$I$2:$J$531,2)","v":"家具製造業"},1312,"金属製家具製造業","E-13-131-1312","製造業その他"]
[null,"E",{"$f":"VLOOKUP(日本標準産業分類!B291,作業シート!$C$2:$D$21,2)","v":"製造業"},13,{"$f":"VLOOKUP(D291,作業シート!$F$2:$G$100,2)","v":"家具・装備品製造業"},131,{"$f":"VLOOKUP(F291,作業シート!$I$2:$J$531,2)","v":"家具製造業"},1313,"マットレス・組スプリング製造業","E-13-131-1313","製造業その他"]
[null,"E",{"$f":"VLOOKUP(日本標準産業分類!B292,作業シート!$C$2:$D$21,2)","v":"製造業"},13,{"$f":"VLOOKUP(D292,作業シート!$F$2:$G$100,2)","v":"家具・装備品製造業"},132,{"$f":"VLOOKUP(F292,作業シート!$I$2:$J$531,2)","v":"宗教用具製造業"},1321,"宗教用具製造業","E-13-132-1321","製造業その他"]
[null,"E",{"$f":"VLOOKUP(日本標準産業分類!B293,作業シート!$C$2:$D$21,2)","v":"製造業"},13,{"$f":"VLOOKUP(D293,作業シート!$F$2:$G$100,2)","v":"家具・装備品製造業"},133,{"$f":"VLOOKUP(F293,作業シート!$I$2:$J$531,2)","v":"建具製造業"},1331,"建具製造業","E-13-133-1331","製造業その他"]
[null,"E",{"$f":"VLOOKUP(日本標準産業分類!B294,作業シート!$C$2:$D$21,2)","v":"製造業"},13,{"$f":"VLOOKUP(D294,作業シート!$F$2:$G$100,2)","v":"家具・装備品製造業"},139,{"$f":"VLOOKUP(F294,作業シート!$I$2:$J$531,2)","v":"その他の家具・装備品製造業"},1391,"事務所用・店舗用装備品製造業","E-13-139-1391","製造業その他"]
[null,"E",{"$f":"VLOOKUP(日本標準産業分類!B295,作業シート!$C$2:$D$21,2)","v":"製造業"},13,{"$f":"VLOOKUP(D295,作業シート!$F$2:$G$100,2)","v":"家具・装備品製造業"},139,{"$f":"VLOOKUP(F295,作業シート!$I$2:$J$531,2)","v":"その他の家具・装備品製造業"},1392,"窓用・扉用日よけ，日本びょうぶ等製造業","E-13-139-1392","製造業その他"]
[null,"E",{"$f":"VLOOKUP(日本標準産業分類!B296,作業シート!$C$2:$D$21,2)","v":"製造業"},13,{"$f":"VLOOKUP(D296,作業シート!$F$2:$G$100,2)","v":"家具・装備品製造業"},139,{"$f":"VLOOKUP(F296,作業シート!$I$2:$J$531,2)","v":"その他の家具・装備品製造業"},1393,"鏡縁・額縁製造業","E-13-139-1393","製造業その他"]
[null,"E",{"$f":"VLOOKUP(日本標準産業分類!B297,作業シート!$C$2:$D$21,2)","v":"製造業"},13,{"$f":"VLOOKUP(D297,作業シート!$F$2:$G$100,2)","v":"家具・装備品製造業"},139,{"$f":"VLOOKUP(F297,作業シート!$I$2:$J$531,2)","v":"その他の家具・装備品製造業"},1399,"他に分類されない家具・装備品製造業","E-13-139-1399","製造業その他"]
[null,"E",{"$f":"VLOOKUP(日本標準産業分類!B298,作業シート!$C$2:$D$21,2)","v":"製造業"},14,{"$f":"VLOOKUP(D298,作業シート!$F$2:$G$100,2)","v":"パルプ・紙・紙加工品製造業"},140,{"$f":"VLOOKUP(F298,作業シート!$I$2:$J$531,2)","v":"管理，補助的経済活動を行う事業所（14パルプ・紙・紙加工品製造業）"},1400,"主として管理事務を行う本社等","E-14-140-1400","製造業その他"]
[null,"E",{"$f":"VLOOKUP(日本標準産業分類!B299,作業シート!$C$2:$D$21,2)","v":"製造業"},14,{"$f":"VLOOKUP(D299,作業シート!$F$2:$G$100,2)","v":"パルプ・紙・紙加工品製造業"},140,{"$f":"VLOOKUP(F299,作業シート!$I$2:$J$531,2)","v":"管理，補助的経済活動を行う事業所（14パルプ・紙・紙加工品製造業）"},1409,"その他の管理，補助的経済活動を行う事業所","E-14-140-1409","製造業その他"]
[null,"E",{"$f":"VLOOKUP(日本標準産業分類!B300,作業シート!$C$2:$D$21,2)","v":"製造業"},14,{"$f":"VLOOKUP(D300,作業シート!$F$2:$G$100,2)","v":"パルプ・紙・紙加工品製造業"},141,{"$f":"VLOOKUP(F300,作業シート!$I$2:$J$531,2)","v":"パルプ製造業"},1411,"パルプ製造業","E-14-141-1411","製造業その他"]
[null,"E",{"$f":"VLOOKUP(日本標準産業分類!B301,作業シート!$C$2:$D$21,2)","v":"製造業"},14,{"$f":"VLOOKUP(D301,作業シート!$F$2:$G$100,2)","v":"パルプ・紙・紙加工品製造業"},142,{"$f":"VLOOKUP(F301,作業シート!$I$2:$J$531,2)","v":"紙製造業"},1421,"洋紙製造業","E-14-142-1421","製造業その他"]
[null,"E",{"$f":"VLOOKUP(日本標準産業分類!B302,作業シート!$C$2:$D$21,2)","v":"製造業"},14,{"$f":"VLOOKUP(D302,作業シート!$F$2:$G$100,2)","v":"パルプ・紙・紙加工品製造業"},142,{"$f":"VLOOKUP(F302,作業シート!$I$2:$J$531,2)","v":"紙製造業"},1422,"板紙製造業","E-14-142-1422","製造業その他"]
[null,"E",{"$f":"VLOOKUP(日本標準産業分類!B303,作業シート!$C$2:$D$21,2)","v":"製造業"},14,{"$f":"VLOOKUP(D303,作業シート!$F$2:$G$100,2)","v":"パルプ・紙・紙加工品製造業"},142,{"$f":"VLOOKUP(F303,作業シート!$I$2:$J$531,2)","v":"紙製造業"},1423,"機械すき和紙製造業","E-14-142-1423","製造業その他"]
[null,"E",{"$f":"VLOOKUP(日本標準産業分類!B304,作業シート!$C$2:$D$21,2)","v":"製造業"},14,{"$f":"VLOOKUP(D304,作業シート!$F$2:$G$100,2)","v":"パルプ・紙・紙加工品製造業"},142,{"$f":"VLOOKUP(F304,作業シート!$I$2:$J$531,2)","v":"紙製造業"},1424,"手すき和紙製造業","E-14-142-1424","製造業その他"]
[null,"E",{"$f":"VLOOKUP(日本標準産業分類!B305,作業シート!$C$2:$D$21,2)","v":"製造業"},14,{"$f":"VLOOKUP(D305,作業シート!$F$2:$G$100,2)","v":"パルプ・紙・紙加工品製造業"},143,{"$f":"VLOOKUP(F305,作業シート!$I$2:$J$531,2)","v":"加工紙製造業"},1431,"塗工紙製造業（印刷用紙を除く）","E-14-143-1431","製造業その他"]
[null,"E",{"$f":"VLOOKUP(日本標準産業分類!B306,作業シート!$C$2:$D$21,2)","v":"製造業"},14,{"$f":"VLOOKUP(D306,作業シート!$F$2:$G$100,2)","v":"パルプ・紙・紙加工品製造業"},143,{"$f":"VLOOKUP(F306,作業シート!$I$2:$J$531,2)","v":"加工紙製造業"},1432,"段ボール製造業","E-14-143-1432","製造業その他"]
[null,"E",{"$f":"VLOOKUP(日本標準産業分類!B307,作業シート!$C$2:$D$21,2)","v":"製造業"},14,{"$f":"VLOOKUP(D307,作業シート!$F$2:$G$100,2)","v":"パルプ・紙・紙加工品製造業"},143,{"$f":"VLOOKUP(F307,作業シート!$I$2:$J$531,2)","v":"加工紙製造業"},1433,"壁紙・ふすま紙製造業","E-14-143-1433","製造業その他"]
[null,"E",{"$f":"VLOOKUP(日本標準産業分類!B308,作業シート!$C$2:$D$21,2)","v":"製造業"},14,{"$f":"VLOOKUP(D308,作業シート!$F$2:$G$100,2)","v":"パルプ・紙・紙加工品製造業"},144,{"$f":"VLOOKUP(F308,作業シート!$I$2:$J$531,2)","v":"紙製品製造業"},1441,"事務用・学用紙製品製造業","E-14-144-1441","製造業その他"]
[null,"E",{"$f":"VLOOKUP(日本標準産業分類!B309,作業シート!$C$2:$D$21,2)","v":"製造業"},14,{"$f":"VLOOKUP(D309,作業シート!$F$2:$G$100,2)","v":"パルプ・紙・紙加工品製造業"},144,{"$f":"VLOOKUP(F309,作業シート!$I$2:$J$531,2)","v":"紙製品製造業"},1442,"日用紙製品製造業","E-14-144-1442","製造業その他"]
[null,"E",{"$f":"VLOOKUP(日本標準産業分類!B310,作業シート!$C$2:$D$21,2)","v":"製造業"},14,{"$f":"VLOOKUP(D310,作業シート!$F$2:$G$100,2)","v":"パルプ・紙・紙加工品製造業"},144,{"$f":"VLOOKUP(F310,作業シート!$I$2:$J$531,2)","v":"紙製品製造業"},1449,"その他の紙製品製造業","E-14-144-1449","製造業その他"]
[null,"E",{"$f":"VLOOKUP(日本標準産業分類!B311,作業シート!$C$2:$D$21,2)","v":"製造業"},14,{"$f":"VLOOKUP(D311,作業シート!$F$2:$G$100,2)","v":"パルプ・紙・紙加工品製造業"},145,{"$f":"VLOOKUP(F311,作業シート!$I$2:$J$531,2)","v":"紙製容器製造業"},1451,"重包装紙袋製造業","E-14-145-1451","製造業その他"]
[null,"E",{"$f":"VLOOKUP(日本標準産業分類!B312,作業シート!$C$2:$D$21,2)","v":"製造業"},14,{"$f":"VLOOKUP(D312,作業シート!$F$2:$G$100,2)","v":"パルプ・紙・紙加工品製造業"},145,{"$f":"VLOOKUP(F312,作業シート!$I$2:$J$531,2)","v":"紙製容器製造業"},1452,"角底紙袋製造業","E-14-145-1452","製造業その他"]
[null,"E",{"$f":"VLOOKUP(日本標準産業分類!B313,作業シート!$C$2:$D$21,2)","v":"製造業"},14,{"$f":"VLOOKUP(D313,作業シート!$F$2:$G$100,2)","v":"パルプ・紙・紙加工品製造業"},145,{"$f":"VLOOKUP(F313,作業シート!$I$2:$J$531,2)","v":"紙製容器製造業"},1453,"段ボール箱製造業","E-14-145-1453","製造業その他"]
[null,"E",{"$f":"VLOOKUP(日本標準産業分類!B314,作業シート!$C$2:$D$21,2)","v":"製造業"},14,{"$f":"VLOOKUP(D314,作業シート!$F$2:$G$100,2)","v":"パルプ・紙・紙加工品製造業"},145,{"$f":"VLOOKUP(F314,作業シート!$I$2:$J$531,2)","v":"紙製容器製造業"},1454,"紙器製造業","E-14-145-1454","製造業その他"]
[null,"E",{"$f":"VLOOKUP(日本標準産業分類!B315,作業シート!$C$2:$D$21,2)","v":"製造業"},14,{"$f":"VLOOKUP(D315,作業シート!$F$2:$G$100,2)","v":"パルプ・紙・紙加工品製造業"},149,{"$f":"VLOOKUP(F315,作業シート!$I$2:$J$531,2)","v":"その他のパルプ・紙・紙加工品製造業"},1499,"その他のパルプ・紙・紙加工品製造業","E-14-149-1499","製造業その他"]
[null,"E",{"$f":"VLOOKUP(日本標準産業分類!B316,作業シート!$C$2:$D$21,2)","v":"製造業"},15,{"$f":"VLOOKUP(D316,作業シート!$F$2:$G$100,2)","v":"印刷・同関連業"},150,{"$f":"VLOOKUP(F316,作業シート!$I$2:$J$531,2)","v":"管理，補助的経済活動を行う事業所（15印刷・同関連業）"},1500,"主として管理事務を行う本社等","E-15-150-1500","製造業その他"]
[null,"E",{"$f":"VLOOKUP(日本標準産業分類!B317,作業シート!$C$2:$D$21,2)","v":"製造業"},15,{"$f":"VLOOKUP(D317,作業シート!$F$2:$G$100,2)","v":"印刷・同関連業"},150,{"$f":"VLOOKUP(F317,作業シート!$I$2:$J$531,2)","v":"管理，補助的経済活動を行う事業所（15印刷・同関連業）"},1509,"その他の管理，補助的経済活動を行う事業所","E-15-150-1509","製造業その他"]
[null,"E",{"$f":"VLOOKUP(日本標準産業分類!B318,作業シート!$C$2:$D$21,2)","v":"製造業"},15,{"$f":"VLOOKUP(D318,作業シート!$F$2:$G$100,2)","v":"印刷・同関連業"},151,{"$f":"VLOOKUP(F318,作業シート!$I$2:$J$531,2)","v":"印刷業"},1511,"オフセット印刷業（紙に対するもの）","E-15-151-1511","製造業その他"]
[null,"E",{"$f":"VLOOKUP(日本標準産業分類!B319,作業シート!$C$2:$D$21,2)","v":"製造業"},15,{"$f":"VLOOKUP(D319,作業シート!$F$2:$G$100,2)","v":"印刷・同関連業"},151,{"$f":"VLOOKUP(F319,作業シート!$I$2:$J$531,2)","v":"印刷業"},1512,"オフセット印刷以外の印刷業（紙に対するもの）","E-15-151-1512","製造業その他"]
[null,"E",{"$f":"VLOOKUP(日本標準産業分類!B320,作業シート!$C$2:$D$21,2)","v":"製造業"},15,{"$f":"VLOOKUP(D320,作業シート!$F$2:$G$100,2)","v":"印刷・同関連業"},151,{"$f":"VLOOKUP(F320,作業シート!$I$2:$J$531,2)","v":"印刷業"},1513,"紙以外の印刷業","E-15-151-1513","製造業その他"]
[null,"E",{"$f":"VLOOKUP(日本標準産業分類!B321,作業シート!$C$2:$D$21,2)","v":"製造業"},15,{"$f":"VLOOKUP(D321,作業シート!$F$2:$G$100,2)","v":"印刷・同関連業"},152,{"$f":"VLOOKUP(F321,作業シート!$I$2:$J$531,2)","v":"製版業"},1521,"製版業","E-15-152-1521","製造業その他"]
[null,"E",{"$f":"VLOOKUP(日本標準産業分類!B322,作業シート!$C$2:$D$21,2)","v":"製造業"},15,{"$f":"VLOOKUP(D322,作業シート!$F$2:$G$100,2)","v":"印刷・同関連業"},153,{"$f":"VLOOKUP(F322,作業シート!$I$2:$J$531,2)","v":"製本業，印刷物加工業"},1531,"製本業","E-15-153-1531","製造業その他"]
[null,"E",{"$f":"VLOOKUP(日本標準産業分類!B323,作業シート!$C$2:$D$21,2)","v":"製造業"},15,{"$f":"VLOOKUP(D323,作業シート!$F$2:$G$100,2)","v":"印刷・同関連業"},153,{"$f":"VLOOKUP(F323,作業シート!$I$2:$J$531,2)","v":"製本業，印刷物加工業"},1532,"印刷物加工業","E-15-153-1532","製造業その他"]
[null,"E",{"$f":"VLOOKUP(日本標準産業分類!B324,作業シート!$C$2:$D$21,2)","v":"製造業"},15,{"$f":"VLOOKUP(D324,作業シート!$F$2:$G$100,2)","v":"印刷・同関連業"},159,{"$f":"VLOOKUP(F324,作業シート!$I$2:$J$531,2)","v":"印刷関連サービス業"},1591,"印刷関連サービス業","E-15-159-1591","製造業その他"]
[null,"E",{"$f":"VLOOKUP(日本標準産業分類!B325,作業シート!$C$2:$D$21,2)","v":"製造業"},16,{"$f":"VLOOKUP(D325,作業シート!$F$2:$G$100,2)","v":"化学工業"},160,{"$f":"VLOOKUP(F325,作業シート!$I$2:$J$531,2)","v":"管理，補助的経済活動を行う事業所（16化学工業）"},1600,"主として管理事務を行う本社等","E-16-160-1600","製造業その他"]
[null,"E",{"$f":"VLOOKUP(日本標準産業分類!B326,作業シート!$C$2:$D$21,2)","v":"製造業"},16,{"$f":"VLOOKUP(D326,作業シート!$F$2:$G$100,2)","v":"化学工業"},160,{"$f":"VLOOKUP(F326,作業シート!$I$2:$J$531,2)","v":"管理，補助的経済活動を行う事業所（16化学工業）"},1609,"その他の管理，補助的経済活動を行う事業所","E-16-160-1609","製造業その他"]
[null,"E",{"$f":"VLOOKUP(日本標準産業分類!B327,作業シート!$C$2:$D$21,2)","v":"製造業"},16,{"$f":"VLOOKUP(D327,作業シート!$F$2:$G$100,2)","v":"化学工業"},161,{"$f":"VLOOKUP(F327,作業シート!$I$2:$J$531,2)","v":"化学肥料製造業"},1611,"窒素質・りん酸質肥料製造業","E-16-161-1611","製造業その他"]
[null,"E",{"$f":"VLOOKUP(日本標準産業分類!B328,作業シート!$C$2:$D$21,2)","v":"製造業"},16,{"$f":"VLOOKUP(D328,作業シート!$F$2:$G$100,2)","v":"化学工業"},161,{"$f":"VLOOKUP(F328,作業シート!$I$2:$J$531,2)","v":"化学肥料製造業"},1612,"複合肥料製造業","E-16-161-1612","製造業その他"]
[null,"E",{"$f":"VLOOKUP(日本標準産業分類!B329,作業シート!$C$2:$D$21,2)","v":"製造業"},16,{"$f":"VLOOKUP(D329,作業シート!$F$2:$G$100,2)","v":"化学工業"},161,{"$f":"VLOOKUP(F329,作業シート!$I$2:$J$531,2)","v":"化学肥料製造業"},1619,"その他の化学肥料製造業","E-16-161-1619","製造業その他"]
[null,"E",{"$f":"VLOOKUP(日本標準産業分類!B330,作業シート!$C$2:$D$21,2)","v":"製造業"},16,{"$f":"VLOOKUP(D330,作業シート!$F$2:$G$100,2)","v":"化学工業"},162,{"$f":"VLOOKUP(F330,作業シート!$I$2:$J$531,2)","v":"無機化学工業製品製造業"},1621,"ソーダ工業","E-16-162-1621","製造業その他"]
[null,"E",{"$f":"VLOOKUP(日本標準産業分類!B331,作業シート!$C$2:$D$21,2)","v":"製造業"},16,{"$f":"VLOOKUP(D331,作業シート!$F$2:$G$100,2)","v":"化学工業"},162,{"$f":"VLOOKUP(F331,作業シート!$I$2:$J$531,2)","v":"無機化学工業製品製造業"},1622,"無機顔料製造業",{"$f":"CONCATENATE(B331,\"-\",D331,\"-\",F331,\"-\",H331)","v":"E-16-162-1622"},"製造業その他"]
[null,"E",{"$f":"VLOOKUP(日本標準産業分類!B332,作業シート!$C$2:$D$21,2)","v":"製造業"},16,{"$f":"VLOOKUP(D332,作業シート!$F$2:$G$100,2)","v":"化学工業"},162,{"$f":"VLOOKUP(F332,作業シート!$I$2:$J$531,2)","v":"無機化学工業製品製造業"},1623,"圧縮ガス・液化ガス製造業","E-16-162-1623","製造業その他"]
[null,"E",{"$f":"VLOOKUP(日本標準産業分類!B333,作業シート!$C$2:$D$21,2)","v":"製造業"},16,{"$f":"VLOOKUP(D333,作業シート!$F$2:$G$100,2)","v":"化学工業"},162,{"$f":"VLOOKUP(F333,作業シート!$I$2:$J$531,2)","v":"無機化学工業製品製造業"},1624,"塩製造業","E-16-162-1624","製造業その他"]
[null,"E",{"$f":"VLOOKUP(日本標準産業分類!B334,作業シート!$C$2:$D$21,2)","v":"製造業"},16,{"$f":"VLOOKUP(D334,作業シート!$F$2:$G$100,2)","v":"化学工業"},162,{"$f":"VLOOKUP(F334,作業シート!$I$2:$J$531,2)","v":"無機化学工業製品製造業"},1629,"その他の無機化学工業製品製造業","E-16-162-1629","製造業その他"]
[null,"E",{"$f":"VLOOKUP(日本標準産業分類!B335,作業シート!$C$2:$D$21,2)","v":"製造業"},16,{"$f":"VLOOKUP(D335,作業シート!$F$2:$G$100,2)","v":"化学工業"},163,{"$f":"VLOOKUP(F335,作業シート!$I$2:$J$531,2)","v":"有機化学工業製品製造業"},1631,"石油化学系基礎製品製造業（一貫して生産される誘導品を含む）","E-16-163-1631","製造業その他"]
[null,"E",{"$f":"VLOOKUP(日本標準産業分類!B336,作業シート!$C$2:$D$21,2)","v":"製造業"},16,{"$f":"VLOOKUP(D336,作業シート!$F$2:$G$100,2)","v":"化学工業"},163,{"$f":"VLOOKUP(F336,作業シート!$I$2:$J$531,2)","v":"有機化学工業製品製造業"},1632,"脂肪族系中間物製造業（脂肪族系溶剤を含む）","E-16-163-1632","製造業その他"]
[null,"E",{"$f":"VLOOKUP(日本標準産業分類!B337,作業シート!$C$2:$D$21,2)","v":"製造業"},16,{"$f":"VLOOKUP(D337,作業シート!$F$2:$G$100,2)","v":"化学工業"},163,{"$f":"VLOOKUP(F337,作業シート!$I$2:$J$531,2)","v":"有機化学工業製品製造業"},1633,"発酵工業","E-16-163-1633","製造業その他"]
[null,"E",{"$f":"VLOOKUP(日本標準産業分類!B338,作業シート!$C$2:$D$21,2)","v":"製造業"},16,{"$f":"VLOOKUP(D338,作業シート!$F$2:$G$100,2)","v":"化学工業"},163,{"$f":"VLOOKUP(F338,作業シート!$I$2:$J$531,2)","v":"有機化学工業製品製造業"},1634,"環式中間物・合成染料・有機顔料製造業","E-16-163-1634","製造業その他"]
[null,"E",{"$f":"VLOOKUP(日本標準産業分類!B339,作業シート!$C$2:$D$21,2)","v":"製造業"},16,{"$f":"VLOOKUP(D339,作業シート!$F$2:$G$100,2)","v":"化学工業"},163,{"$f":"VLOOKUP(F339,作業シート!$I$2:$J$531,2)","v":"有機化学工業製品製造業"},1635,"プラスチック製造業","E-16-163-1635","製造業その他"]
[null,"E",{"$f":"VLOOKUP(日本標準産業分類!B340,作業シート!$C$2:$D$21,2)","v":"製造業"},16,{"$f":"VLOOKUP(D340,作業シート!$F$2:$G$100,2)","v":"化学工業"},163,{"$f":"VLOOKUP(F340,作業シート!$I$2:$J$531,2)","v":"有機化学工業製品製造業"},1636,"合成ゴム製造業","E-16-163-1636","製造業その他"]
[null,"E",{"$f":"VLOOKUP(日本標準産業分類!B341,作業シート!$C$2:$D$21,2)","v":"製造業"},16,{"$f":"VLOOKUP(D341,作業シート!$F$2:$G$100,2)","v":"化学工業"},163,{"$f":"VLOOKUP(F341,作業シート!$I$2:$J$531,2)","v":"有機化学工業製品製造業"},1639,"その他の有機化学工業製品製造業","E-16-163-1639","製造業その他"]
[null,"E",{"$f":"VLOOKUP(日本標準産業分類!B342,作業シート!$C$2:$D$21,2)","v":"製造業"},16,{"$f":"VLOOKUP(D342,作業シート!$F$2:$G$100,2)","v":"化学工業"},164,{"$f":"VLOOKUP(F342,作業シート!$I$2:$J$531,2)","v":"油脂加工製品・石けん・合成洗剤・界面活性剤・塗料製造業"},1641,"脂肪酸・硬化油・グリセリン製造業","E-16-164-1641","製造業その他"]
[null,"E",{"$f":"VLOOKUP(日本標準産業分類!B343,作業シート!$C$2:$D$21,2)","v":"製造業"},16,{"$f":"VLOOKUP(D343,作業シート!$F$2:$G$100,2)","v":"化学工業"},164,{"$f":"VLOOKUP(F343,作業シート!$I$2:$J$531,2)","v":"油脂加工製品・石けん・合成洗剤・界面活性剤・塗料製造業"},1642,"石けん・合成洗剤製造業","E-16-164-1642","製造業その他"]
[null,"E",{"$f":"VLOOKUP(日本標準産業分類!B344,作業シート!$C$2:$D$21,2)","v":"製造業"},16,{"$f":"VLOOKUP(D344,作業シート!$F$2:$G$100,2)","v":"化学工業"},164,{"$f":"VLOOKUP(F344,作業シート!$I$2:$J$531,2)","v":"油脂加工製品・石けん・合成洗剤・界面活性剤・塗料製造業"},1643,"界面活性剤製造業（石けん，合成洗剤を除く）","E-16-164-1643","製造業その他"]
[null,"E",{"$f":"VLOOKUP(日本標準産業分類!B345,作業シート!$C$2:$D$21,2)","v":"製造業"},16,{"$f":"VLOOKUP(D345,作業シート!$F$2:$G$100,2)","v":"化学工業"},164,{"$f":"VLOOKUP(F345,作業シート!$I$2:$J$531,2)","v":"油脂加工製品・石けん・合成洗剤・界面活性剤・塗料製造業"},1644,"塗料製造業","E-16-164-1644","製造業その他"]
[null,"E",{"$f":"VLOOKUP(日本標準産業分類!B346,作業シート!$C$2:$D$21,2)","v":"製造業"},16,{"$f":"VLOOKUP(D346,作業シート!$F$2:$G$100,2)","v":"化学工業"},164,{"$f":"VLOOKUP(F346,作業シート!$I$2:$J$531,2)","v":"油脂加工製品・石けん・合成洗剤・界面活性剤・塗料製造業"},1645,"印刷インキ製造業","E-16-164-1645","製造業その他"]
[null,"E",{"$f":"VLOOKUP(日本標準産業分類!B347,作業シート!$C$2:$D$21,2)","v":"製造業"},16,{"$f":"VLOOKUP(D347,作業シート!$F$2:$G$100,2)","v":"化学工業"},164,{"$f":"VLOOKUP(F347,作業シート!$I$2:$J$531,2)","v":"油脂加工製品・石けん・合成洗剤・界面活性剤・塗料製造業"},1646,"洗浄剤・磨用剤製造業","E-16-164-1646","製造業その他"]
[null,"E",{"$f":"VLOOKUP(日本標準産業分類!B348,作業シート!$C$2:$D$21,2)","v":"製造業"},16,{"$f":"VLOOKUP(D348,作業シート!$F$2:$G$100,2)","v":"化学工業"},164,{"$f":"VLOOKUP(F348,作業シート!$I$2:$J$531,2)","v":"油脂加工製品・石けん・合成洗剤・界面活性剤・塗料製造業"},1647,"ろうそく製造業","E-16-164-1647","製造業その他"]
[null,"E",{"$f":"VLOOKUP(日本標準産業分類!B349,作業シート!$C$2:$D$21,2)","v":"製造業"},16,{"$f":"VLOOKUP(D349,作業シート!$F$2:$G$100,2)","v":"化学工業"},165,{"$f":"VLOOKUP(F349,作業シート!$I$2:$J$531,2)","v":"医薬品製造業"},1651,"医薬品原薬製造業","E-16-165-1651","製造業その他"]
[null,"E",{"$f":"VLOOKUP(日本標準産業分類!B350,作業シート!$C$2:$D$21,2)","v":"製造業"},16,{"$f":"VLOOKUP(D350,作業シート!$F$2:$G$100,2)","v":"化学工業"},165,{"$f":"VLOOKUP(F350,作業シート!$I$2:$J$531,2)","v":"医薬品製造業"},1652,"医薬品製剤製造業","E-16-165-1652","製造業その他"]
[null,"E",{"$f":"VLOOKUP(日本標準産業分類!B351,作業シート!$C$2:$D$21,2)","v":"製造業"},16,{"$f":"VLOOKUP(D351,作業シート!$F$2:$G$100,2)","v":"化学工業"},165,{"$f":"VLOOKUP(F351,作業シート!$I$2:$J$531,2)","v":"医薬品製造業"},1653,"生物学的製剤製造業","E-16-165-1653","製造業その他"]
[null,"E",{"$f":"VLOOKUP(日本標準産業分類!B352,作業シート!$C$2:$D$21,2)","v":"製造業"},16,{"$f":"VLOOKUP(D352,作業シート!$F$2:$G$100,2)","v":"化学工業"},165,{"$f":"VLOOKUP(F352,作業シート!$I$2:$J$531,2)","v":"医薬品製造業"},1654,"生薬・漢方製剤製造業","E-16-165-1654","製造業その他"]
[null,"E",{"$f":"VLOOKUP(日本標準産業分類!B353,作業シート!$C$2:$D$21,2)","v":"製造業"},16,{"$f":"VLOOKUP(D353,作業シート!$F$2:$G$100,2)","v":"化学工業"},165,{"$f":"VLOOKUP(F353,作業シート!$I$2:$J$531,2)","v":"医薬品製造業"},1655,"動物用医薬品製造業","E-16-165-1655","製造業その他"]
[null,"E",{"$f":"VLOOKUP(日本標準産業分類!B354,作業シート!$C$2:$D$21,2)","v":"製造業"},16,{"$f":"VLOOKUP(D354,作業シート!$F$2:$G$100,2)","v":"化学工業"},166,{"$f":"VLOOKUP(F354,作業シート!$I$2:$J$531,2)","v":"化粧品・歯磨・その他の化粧用調整品製造業"},1661,"仕上用・皮膚用化粧品製造業（香水，オーデコロンを含む）","E-16-166-1661","製造業その他"]
[null,"E",{"$f":"VLOOKUP(日本標準産業分類!B355,作業シート!$C$2:$D$21,2)","v":"製造業"},16,{"$f":"VLOOKUP(D355,作業シート!$F$2:$G$100,2)","v":"化学工業"},166,{"$f":"VLOOKUP(F355,作業シート!$I$2:$J$531,2)","v":"化粧品・歯磨・その他の化粧用調整品製造業"},1662,"頭髪用化粧品製造業","E-16-166-1662","製造業その他"]
[null,"E",{"$f":"VLOOKUP(日本標準産業分類!B356,作業シート!$C$2:$D$21,2)","v":"製造業"},16,{"$f":"VLOOKUP(D356,作業シート!$F$2:$G$100,2)","v":"化学工業"},166,{"$f":"VLOOKUP(F356,作業シート!$I$2:$J$531,2)","v":"化粧品・歯磨・その他の化粧用調整品製造業"},1669,"その他の化粧品・歯磨・化粧用調整品製造業","E-16-166-1669","製造業その他"]
[null,"E",{"$f":"VLOOKUP(日本標準産業分類!B357,作業シート!$C$2:$D$21,2)","v":"製造業"},16,{"$f":"VLOOKUP(D357,作業シート!$F$2:$G$100,2)","v":"化学工業"},169,{"$f":"VLOOKUP(F357,作業シート!$I$2:$J$531,2)","v":"その他の化学工業"},1691,"火薬類製造業","E-16-169-1691","製造業その他"]
[null,"E",{"$f":"VLOOKUP(日本標準産業分類!B358,作業シート!$C$2:$D$21,2)","v":"製造業"},16,{"$f":"VLOOKUP(D358,作業シート!$F$2:$G$100,2)","v":"化学工業"},169,{"$f":"VLOOKUP(F358,作業シート!$I$2:$J$531,2)","v":"その他の化学工業"},1692,"農薬製造業","E-16-169-1692","製造業その他"]
[null,"E",{"$f":"VLOOKUP(日本標準産業分類!B359,作業シート!$C$2:$D$21,2)","v":"製造業"},16,{"$f":"VLOOKUP(D359,作業シート!$F$2:$G$100,2)","v":"化学工業"},169,{"$f":"VLOOKUP(F359,作業シート!$I$2:$J$531,2)","v":"その他の化学工業"},1693,"香料製造業","E-16-169-1693","製造業その他"]
[null,"E",{"$f":"VLOOKUP(日本標準産業分類!B360,作業シート!$C$2:$D$21,2)","v":"製造業"},16,{"$f":"VLOOKUP(D360,作業シート!$F$2:$G$100,2)","v":"化学工業"},169,{"$f":"VLOOKUP(F360,作業シート!$I$2:$J$531,2)","v":"その他の化学工業"},1694,"ゼラチン・接着剤製造業","E-16-169-1694","製造業その他"]
[null,"E",{"$f":"VLOOKUP(日本標準産業分類!B361,作業シート!$C$2:$D$21,2)","v":"製造業"},16,{"$f":"VLOOKUP(D361,作業シート!$F$2:$G$100,2)","v":"化学工業"},169,{"$f":"VLOOKUP(F361,作業シート!$I$2:$J$531,2)","v":"その他の化学工業"},1695,"写真感光材料製造業","E-16-169-1695","製造業その他"]
[null,"E",{"$f":"VLOOKUP(日本標準産業分類!B362,作業シート!$C$2:$D$21,2)","v":"製造業"},16,{"$f":"VLOOKUP(D362,作業シート!$F$2:$G$100,2)","v":"化学工業"},169,{"$f":"VLOOKUP(F362,作業シート!$I$2:$J$531,2)","v":"その他の化学工業"},1696,"天然樹脂製品・木材化学製品製造業","E-16-169-1696","製造業その他"]
[null,"E",{"$f":"VLOOKUP(日本標準産業分類!B363,作業シート!$C$2:$D$21,2)","v":"製造業"},16,{"$f":"VLOOKUP(D363,作業シート!$F$2:$G$100,2)","v":"化学工業"},169,{"$f":"VLOOKUP(F363,作業シート!$I$2:$J$531,2)","v":"その他の化学工業"},1697,"試薬製造業","E-16-169-1697","製造業その他"]
[null,"E",{"$f":"VLOOKUP(日本標準産業分類!B364,作業シート!$C$2:$D$21,2)","v":"製造業"},16,{"$f":"VLOOKUP(D364,作業シート!$F$2:$G$100,2)","v":"化学工業"},169,{"$f":"VLOOKUP(F364,作業シート!$I$2:$J$531,2)","v":"その他の化学工業"},1699,"他に分類されない化学工業製品製造業","E-16-169-1699","製造業その他"]
[null,"E",{"$f":"VLOOKUP(日本標準産業分類!B365,作業シート!$C$2:$D$21,2)","v":"製造業"},17,{"$f":"VLOOKUP(D365,作業シート!$F$2:$G$100,2)","v":"石油製品・石炭製品製造業"},170,{"$f":"VLOOKUP(F365,作業シート!$I$2:$J$531,2)","v":"管理，補助的経済活動を行う事業所（17石油製品・石炭製品製造業）"},1700,"主として管理事務を行う本社等","E-17-170-1700","製造業その他"]
[null,"E",{"$f":"VLOOKUP(日本標準産業分類!B366,作業シート!$C$2:$D$21,2)","v":"製造業"},17,{"$f":"VLOOKUP(D366,作業シート!$F$2:$G$100,2)","v":"石油製品・石炭製品製造業"},170,{"$f":"VLOOKUP(F366,作業シート!$I$2:$J$531,2)","v":"管理，補助的経済活動を行う事業所（17石油製品・石炭製品製造業）"},1709,"その他の管理，補助的経済活動を行う事業所","E-17-170-1709","製造業その他"]
[null,"E",{"$f":"VLOOKUP(日本標準産業分類!B367,作業シート!$C$2:$D$21,2)","v":"製造業"},17,{"$f":"VLOOKUP(D367,作業シート!$F$2:$G$100,2)","v":"石油製品・石炭製品製造業"},171,{"$f":"VLOOKUP(F367,作業シート!$I$2:$J$531,2)","v":"石油精製業"},1711,"石油精製業","E-17-171-1711","製造業その他"]
[null,"E",{"$f":"VLOOKUP(日本標準産業分類!B368,作業シート!$C$2:$D$21,2)","v":"製造業"},17,{"$f":"VLOOKUP(D368,作業シート!$F$2:$G$100,2)","v":"石油製品・石炭製品製造業"},172,{"$f":"VLOOKUP(F368,作業シート!$I$2:$J$531,2)","v":"潤滑油・グリース製造業（石油精製業によらないもの）"},1721,"潤滑油・グリース製造業（石油精製業によらないもの）","E-17-172-1721","製造業その他"]
[null,"E",{"$f":"VLOOKUP(日本標準産業分類!B369,作業シート!$C$2:$D$21,2)","v":"製造業"},17,{"$f":"VLOOKUP(D369,作業シート!$F$2:$G$100,2)","v":"石油製品・石炭製品製造業"},173,{"$f":"VLOOKUP(F369,作業シート!$I$2:$J$531,2)","v":"コークス製造業"},1731,"コークス製造業","E-17-173-1731","製造業その他"]
[null,"E",{"$f":"VLOOKUP(日本標準産業分類!B370,作業シート!$C$2:$D$21,2)","v":"製造業"},17,{"$f":"VLOOKUP(D370,作業シート!$F$2:$G$100,2)","v":"石油製品・石炭製品製造業"},174,{"$f":"VLOOKUP(F370,作業シート!$I$2:$J$531,2)","v":"舗装材料製造業"},1741,"舗装材料製造業","E-17-174-1741","製造業その他"]
[null,"E",{"$f":"VLOOKUP(日本標準産業分類!B371,作業シート!$C$2:$D$21,2)","v":"製造業"},17,{"$f":"VLOOKUP(D371,作業シート!$F$2:$G$100,2)","v":"石油製品・石炭製品製造業"},179,{"$f":"VLOOKUP(F371,作業シート!$I$2:$J$531,2)","v":"その他の石油製品・石炭製品製造業"},1799,"その他の石油製品・石炭製品製造業","E-17-179-1799","製造業その他"]
[null,"E",{"$f":"VLOOKUP(日本標準産業分類!B372,作業シート!$C$2:$D$21,2)","v":"製造業"},18,{"$f":"VLOOKUP(D372,作業シート!$F$2:$G$100,2)","v":"プラスチック製品製造業（別掲を除く）"},180,{"$f":"VLOOKUP(F372,作業シート!$I$2:$J$531,2)","v":"管理，補助的経済活動を行う事業所（18プラスチック製品製造業）"},1800,"主として管理事務を行う本社等","E-18-180-1800","製造業その他"]
[null,"E",{"$f":"VLOOKUP(日本標準産業分類!B373,作業シート!$C$2:$D$21,2)","v":"製造業"},18,{"$f":"VLOOKUP(D373,作業シート!$F$2:$G$100,2)","v":"プラスチック製品製造業（別掲を除く）"},180,{"$f":"VLOOKUP(F373,作業シート!$I$2:$J$531,2)","v":"管理，補助的経済活動を行う事業所（18プラスチック製品製造業）"},1809,"その他の管理，補助的経済活動を行う事業所","E-18-180-1809","製造業その他"]
[null,"E",{"$f":"VLOOKUP(日本標準産業分類!B374,作業シート!$C$2:$D$21,2)","v":"製造業"},18,{"$f":"VLOOKUP(D374,作業シート!$F$2:$G$100,2)","v":"プラスチック製品製造業（別掲を除く）"},181,{"$f":"VLOOKUP(F374,作業シート!$I$2:$J$531,2)","v":"プラスチック板・棒・管・継手・異形押出製品製造業"},1811,"プラスチック板・棒製造業","E-18-181-1811","製造業その他"]
[null,"E",{"$f":"VLOOKUP(日本標準産業分類!B375,作業シート!$C$2:$D$21,2)","v":"製造業"},18,{"$f":"VLOOKUP(D375,作業シート!$F$2:$G$100,2)","v":"プラスチック製品製造業（別掲を除く）"},181,{"$f":"VLOOKUP(F375,作業シート!$I$2:$J$531,2)","v":"プラスチック板・棒・管・継手・異形押出製品製造業"},1812,"プラスチック管製造業","E-18-181-1812","製造業その他"]
[null,"E",{"$f":"VLOOKUP(日本標準産業分類!B376,作業シート!$C$2:$D$21,2)","v":"製造業"},18,{"$f":"VLOOKUP(D376,作業シート!$F$2:$G$100,2)","v":"プラスチック製品製造業（別掲を除く）"},181,{"$f":"VLOOKUP(F376,作業シート!$I$2:$J$531,2)","v":"プラスチック板・棒・管・継手・異形押出製品製造業"},1813,"プラスチック継手製造業","E-18-181-1813","製造業その他"]
[null,"E",{"$f":"VLOOKUP(日本標準産業分類!B377,作業シート!$C$2:$D$21,2)","v":"製造業"},18,{"$f":"VLOOKUP(D377,作業シート!$F$2:$G$100,2)","v":"プラスチック製品製造業（別掲を除く）"},181,{"$f":"VLOOKUP(F377,作業シート!$I$2:$J$531,2)","v":"プラスチック板・棒・管・継手・異形押出製品製造業"},1814,"プラスチック異形押出製品製造業","E-18-181-1814","製造業その他"]
[null,"E",{"$f":"VLOOKUP(日本標準産業分類!B378,作業シート!$C$2:$D$21,2)","v":"製造業"},18,{"$f":"VLOOKUP(D378,作業シート!$F$2:$G$100,2)","v":"プラスチック製品製造業（別掲を除く）"},181,{"$f":"VLOOKUP(F378,作業シート!$I$2:$J$531,2)","v":"プラスチック板・棒・管・継手・異形押出製品製造業"},1815,"プラスチック板・棒・管・継手・異形押出製品加工業","E-18-181-1815","製造業その他"]
[null,"E",{"$f":"VLOOKUP(日本標準産業分類!B379,作業シート!$C$2:$D$21,2)","v":"製造業"},18,{"$f":"VLOOKUP(D379,作業シート!$F$2:$G$100,2)","v":"プラスチック製品製造業（別掲を除く）"},182,{"$f":"VLOOKUP(F379,作業シート!$I$2:$J$531,2)","v":"プラスチックフィルム・シート・床材・合成皮革製造業"},1821,"プラスチックフィルム製造業",{"$f":"CONCATENATE(B379,\"-\",D379,\"-\",F379,\"-\",H379)","v":"E-18-182-1821"},"製造業その他"]
[null,"E",{"$f":"VLOOKUP(日本標準産業分類!B380,作業シート!$C$2:$D$21,2)","v":"製造業"},18,{"$f":"VLOOKUP(D380,作業シート!$F$2:$G$100,2)","v":"プラスチック製品製造業（別掲を除く）"},182,{"$f":"VLOOKUP(F380,作業シート!$I$2:$J$531,2)","v":"プラスチックフィルム・シート・床材・合成皮革製造業"},1822,"プラスチックシート製造業","E-18-182-1822","製造業その他"]
[null,"E",{"$f":"VLOOKUP(日本標準産業分類!B381,作業シート!$C$2:$D$21,2)","v":"製造業"},18,{"$f":"VLOOKUP(D381,作業シート!$F$2:$G$100,2)","v":"プラスチック製品製造業（別掲を除く）"},182,{"$f":"VLOOKUP(F381,作業シート!$I$2:$J$531,2)","v":"プラスチックフィルム・シート・床材・合成皮革製造業"},1823,"プラスチック床材製造業","E-18-182-1823","製造業その他"]
[null,"E",{"$f":"VLOOKUP(日本標準産業分類!B382,作業シート!$C$2:$D$21,2)","v":"製造業"},18,{"$f":"VLOOKUP(D382,作業シート!$F$2:$G$100,2)","v":"プラスチック製品製造業（別掲を除く）"},182,{"$f":"VLOOKUP(F382,作業シート!$I$2:$J$531,2)","v":"プラスチックフィルム・シート・床材・合成皮革製造業"},1824,"合成皮革製造業","E-18-182-1824","製造業その他"]
[null,"E",{"$f":"VLOOKUP(日本標準産業分類!B383,作業シート!$C$2:$D$21,2)","v":"製造業"},18,{"$f":"VLOOKUP(D383,作業シート!$F$2:$G$100,2)","v":"プラスチック製品製造業（別掲を除く）"},182,{"$f":"VLOOKUP(F383,作業シート!$I$2:$J$531,2)","v":"プラスチックフィルム・シート・床材・合成皮革製造業"},1825,"プラスチックフィルム・シート・床材・合成皮革加工業","E-18-182-1825","製造業その他"]
[null,"E",{"$f":"VLOOKUP(日本標準産業分類!B384,作業シート!$C$2:$D$21,2)","v":"製造業"},18,{"$f":"VLOOKUP(D384,作業シート!$F$2:$G$100,2)","v":"プラスチック製品製造業（別掲を除く）"},183,{"$f":"VLOOKUP(F384,作業シート!$I$2:$J$531,2)","v":"工業用プラスチック製品製造業"},1831,"電気機械器具用プラスチック製品製造業（加工業を除く）","E-18-183-1831","製造業その他"]
[null,"E",{"$f":"VLOOKUP(日本標準産業分類!B385,作業シート!$C$2:$D$21,2)","v":"製造業"},18,{"$f":"VLOOKUP(D385,作業シート!$F$2:$G$100,2)","v":"プラスチック製品製造業（別掲を除く）"},183,{"$f":"VLOOKUP(F385,作業シート!$I$2:$J$531,2)","v":"工業用プラスチック製品製造業"},1832,"輸送機械器具用プラスチック製品製造業（加工業を除く）","E-18-183-1832","製造業その他"]
[null,"E",{"$f":"VLOOKUP(日本標準産業分類!B386,作業シート!$C$2:$D$21,2)","v":"製造業"},18,{"$f":"VLOOKUP(D386,作業シート!$F$2:$G$100,2)","v":"プラスチック製品製造業（別掲を除く）"},183,{"$f":"VLOOKUP(F386,作業シート!$I$2:$J$531,2)","v":"工業用プラスチック製品製造業"},1833,"その他の工業用プラスチック製品製造業（加工業を除く）","E-18-183-1833","製造業その他"]
[null,"E",{"$f":"VLOOKUP(日本標準産業分類!B387,作業シート!$C$2:$D$21,2)","v":"製造業"},18,{"$f":"VLOOKUP(D387,作業シート!$F$2:$G$100,2)","v":"プラスチック製品製造業（別掲を除く）"},183,{"$f":"VLOOKUP(F387,作業シート!$I$2:$J$531,2)","v":"工業用プラスチック製品製造業"},1834,"工業用プラスチック製品加工業","E-18-183-1834","製造業その他"]
[null,"E",{"$f":"VLOOKUP(日本標準産業分類!B388,作業シート!$C$2:$D$21,2)","v":"製造業"},18,{"$f":"VLOOKUP(D388,作業シート!$F$2:$G$100,2)","v":"プラスチック製品製造業（別掲を除く）"},184,{"$f":"VLOOKUP(F388,作業シート!$I$2:$J$531,2)","v":"発泡・強化プラスチック製品製造業"},1841,"軟質プラスチック発泡製品製造業（半硬質性を含む）","E-18-184-1841","製造業その他"]
[null,"E",{"$f":"VLOOKUP(日本標準産業分類!B389,作業シート!$C$2:$D$21,2)","v":"製造業"},18,{"$f":"VLOOKUP(D389,作業シート!$F$2:$G$100,2)","v":"プラスチック製品製造業（別掲を除く）"},184,{"$f":"VLOOKUP(F389,作業シート!$I$2:$J$531,2)","v":"発泡・強化プラスチック製品製造業"},1842,"硬質プラスチック発泡製品製造業","E-18-184-1842","製造業その他"]
[null,"E",{"$f":"VLOOKUP(日本標準産業分類!B390,作業シート!$C$2:$D$21,2)","v":"製造業"},18,{"$f":"VLOOKUP(D390,作業シート!$F$2:$G$100,2)","v":"プラスチック製品製造業（別掲を除く）"},184,{"$f":"VLOOKUP(F390,作業シート!$I$2:$J$531,2)","v":"発泡・強化プラスチック製品製造業"},1843,"強化プラスチック製板・棒・管・継手製造業","E-18-184-1843","製造業その他"]
[null,"E",{"$f":"VLOOKUP(日本標準産業分類!B391,作業シート!$C$2:$D$21,2)","v":"製造業"},18,{"$f":"VLOOKUP(D391,作業シート!$F$2:$G$100,2)","v":"プラスチック製品製造業（別掲を除く）"},184,{"$f":"VLOOKUP(F391,作業シート!$I$2:$J$531,2)","v":"発泡・強化プラスチック製品製造業"},1844,"強化プラスチック製容器・浴槽等製造業","E-18-184-1844","製造業その他"]
[null,"E",{"$f":"VLOOKUP(日本標準産業分類!B392,作業シート!$C$2:$D$21,2)","v":"製造業"},18,{"$f":"VLOOKUP(D392,作業シート!$F$2:$G$100,2)","v":"プラスチック製品製造業（別掲を除く）"},184,{"$f":"VLOOKUP(F392,作業シート!$I$2:$J$531,2)","v":"発泡・強化プラスチック製品製造業"},1845,"発泡・強化プラスチック製品加工業","E-18-184-1845","製造業その他"]
[null,"E",{"$f":"VLOOKUP(日本標準産業分類!B393,作業シート!$C$2:$D$21,2)","v":"製造業"},18,{"$f":"VLOOKUP(D393,作業シート!$F$2:$G$100,2)","v":"プラスチック製品製造業（別掲を除く）"},185,{"$f":"VLOOKUP(F393,作業シート!$I$2:$J$531,2)","v":"プラスチック成形材料製造業（廃プラスチックを含む）"},1851,"プラスチック成形材料製造業","E-18-185-1851","製造業その他"]
[null,"E",{"$f":"VLOOKUP(日本標準産業分類!B394,作業シート!$C$2:$D$21,2)","v":"製造業"},18,{"$f":"VLOOKUP(D394,作業シート!$F$2:$G$100,2)","v":"プラスチック製品製造業（別掲を除く）"},185,{"$f":"VLOOKUP(F394,作業シート!$I$2:$J$531,2)","v":"プラスチック成形材料製造業（廃プラスチックを含む）"},1852,"廃プラスチック製品製造業","E-18-185-1852","製造業その他"]
[null,"E",{"$f":"VLOOKUP(日本標準産業分類!B395,作業シート!$C$2:$D$21,2)","v":"製造業"},18,{"$f":"VLOOKUP(D395,作業シート!$F$2:$G$100,2)","v":"プラスチック製品製造業（別掲を除く）"},189,{"$f":"VLOOKUP(F395,作業シート!$I$2:$J$531,2)","v":"その他のプラスチック製品製造業"},1891,"プラスチック製日用雑貨・食卓用品製造業","E-18-189-1891","製造業その他"]
[null,"E",{"$f":"VLOOKUP(日本標準産業分類!B396,作業シート!$C$2:$D$21,2)","v":"製造業"},18,{"$f":"VLOOKUP(D396,作業シート!$F$2:$G$100,2)","v":"プラスチック製品製造業（別掲を除く）"},189,{"$f":"VLOOKUP(F396,作業シート!$I$2:$J$531,2)","v":"その他のプラスチック製品製造業"},1892,"プラスチック製容器製造業","E-18-189-1892","製造業その他"]
[null,"E",{"$f":"VLOOKUP(日本標準産業分類!B397,作業シート!$C$2:$D$21,2)","v":"製造業"},18,{"$f":"VLOOKUP(D397,作業シート!$F$2:$G$100,2)","v":"プラスチック製品製造業（別掲を除く）"},189,{"$f":"VLOOKUP(F397,作業シート!$I$2:$J$531,2)","v":"その他のプラスチック製品製造業"},1897,"他に分類されないプラスチック製品製造業","E-18-189-1897","製造業その他"]
[null,"E",{"$f":"VLOOKUP(日本標準産業分類!B398,作業シート!$C$2:$D$21,2)","v":"製造業"},18,{"$f":"VLOOKUP(D398,作業シート!$F$2:$G$100,2)","v":"プラスチック製品製造業（別掲を除く）"},189,{"$f":"VLOOKUP(F398,作業シート!$I$2:$J$531,2)","v":"その他のプラスチック製品製造業"},1898,"他に分類されないプラスチック製品加工業","E-18-189-1898","製造業その他"]
[null,"E",{"$f":"VLOOKUP(日本標準産業分類!B399,作業シート!$C$2:$D$21,2)","v":"製造業"},19,{"$f":"VLOOKUP(D399,作業シート!$F$2:$G$100,2)","v":"ゴム製品製造業"},190,{"$f":"VLOOKUP(F399,作業シート!$I$2:$J$531,2)","v":"管理，補助的経済活動を行う事業所（19ゴム製品製造業）"},1900,"主として管理事務を行う本社等","E-19-190-1900","製造業その他"]
[null,"E",{"$f":"VLOOKUP(日本標準産業分類!B400,作業シート!$C$2:$D$21,2)","v":"製造業"},19,{"$f":"VLOOKUP(D400,作業シート!$F$2:$G$100,2)","v":"ゴム製品製造業"},190,{"$f":"VLOOKUP(F400,作業シート!$I$2:$J$531,2)","v":"管理，補助的経済活動を行う事業所（19ゴム製品製造業）"},1909,"その他の管理，補助的経済活動を行う事業所","E-19-190-1909","製造業その他"]
[null,"E",{"$f":"VLOOKUP(日本標準産業分類!B401,作業シート!$C$2:$D$21,2)","v":"製造業"},19,{"$f":"VLOOKUP(D401,作業シート!$F$2:$G$100,2)","v":"ゴム製品製造業"},191,{"$f":"VLOOKUP(F401,作業シート!$I$2:$J$531,2)","v":"タイヤ・チューブ製造業"},1911,"自動車タイヤ・チューブ製造業","E-19-191-1911","製造業その他"]
[null,"E",{"$f":"VLOOKUP(日本標準産業分類!B402,作業シート!$C$2:$D$21,2)","v":"製造業"},19,{"$f":"VLOOKUP(D402,作業シート!$F$2:$G$100,2)","v":"ゴム製品製造業"},191,{"$f":"VLOOKUP(F402,作業シート!$I$2:$J$531,2)","v":"タイヤ・チューブ製造業"},1919,"その他のタイヤ・チューブ製造業","E-19-191-1919","製造業その他"]
[null,"E",{"$f":"VLOOKUP(日本標準産業分類!B403,作業シート!$C$2:$D$21,2)","v":"製造業"},19,{"$f":"VLOOKUP(D403,作業シート!$F$2:$G$100,2)","v":"ゴム製品製造業"},192,{"$f":"VLOOKUP(F403,作業シート!$I$2:$J$531,2)","v":"ゴム製・プラスチック製履物・同附属品製造業"},1921,"ゴム製履物・同附属品製造業","E-19-192-1921","製造業その他"]
[null,"E",{"$f":"VLOOKUP(日本標準産業分類!B404,作業シート!$C$2:$D$21,2)","v":"製造業"},19,{"$f":"VLOOKUP(D404,作業シート!$F$2:$G$100,2)","v":"ゴム製品製造業"},192,{"$f":"VLOOKUP(F404,作業シート!$I$2:$J$531,2)","v":"ゴム製・プラスチック製履物・同附属品製造業"},1922,"プラスチック製履物・同附属品製造業","E-19-192-1922","製造業その他"]
[null,"E",{"$f":"VLOOKUP(日本標準産業分類!B405,作業シート!$C$2:$D$21,2)","v":"製造業"},19,{"$f":"VLOOKUP(D405,作業シート!$F$2:$G$100,2)","v":"ゴム製品製造業"},193,{"$f":"VLOOKUP(F405,作業シート!$I$2:$J$531,2)","v":"ゴムベルト・ゴムホース・工業用ゴム製品製造業"},1931,"ゴムベルト製造業","E-19-193-1931","製造業その他"]
[null,"E",{"$f":"VLOOKUP(日本標準産業分類!B406,作業シート!$C$2:$D$21,2)","v":"製造業"},19,{"$f":"VLOOKUP(D406,作業シート!$F$2:$G$100,2)","v":"ゴム製品製造業"},193,{"$f":"VLOOKUP(F406,作業シート!$I$2:$J$531,2)","v":"ゴムベルト・ゴムホース・工業用ゴム製品製造業"},1932,"ゴムホース製造業","E-19-193-1932","製造業その他"]
[null,"E",{"$f":"VLOOKUP(日本標準産業分類!B407,作業シート!$C$2:$D$21,2)","v":"製造業"},19,{"$f":"VLOOKUP(D407,作業シート!$F$2:$G$100,2)","v":"ゴム製品製造業"},193,{"$f":"VLOOKUP(F407,作業シート!$I$2:$J$531,2)","v":"ゴムベルト・ゴムホース・工業用ゴム製品製造業"},1933,"工業用ゴム製品製造業","E-19-193-1933","製造業その他"]
[null,"E",{"$f":"VLOOKUP(日本標準産業分類!B408,作業シート!$C$2:$D$21,2)","v":"製造業"},19,{"$f":"VLOOKUP(D408,作業シート!$F$2:$G$100,2)","v":"ゴム製品製造業"},199,{"$f":"VLOOKUP(F408,作業シート!$I$2:$J$531,2)","v":"その他のゴム製品製造業"},1991,"ゴム引布・同製品製造業","E-19-199-1991","製造業その他"]
[null,"E",{"$f":"VLOOKUP(日本標準産業分類!B409,作業シート!$C$2:$D$21,2)","v":"製造業"},19,{"$f":"VLOOKUP(D409,作業シート!$F$2:$G$100,2)","v":"ゴム製品製造業"},199,{"$f":"VLOOKUP(F409,作業シート!$I$2:$J$531,2)","v":"その他のゴム製品製造業"},1992,"医療・衛生用ゴム製品製造業","E-19-199-1992","製造業その他"]
[null,"E",{"$f":"VLOOKUP(日本標準産業分類!B410,作業シート!$C$2:$D$21,2)","v":"製造業"},19,{"$f":"VLOOKUP(D410,作業シート!$F$2:$G$100,2)","v":"ゴム製品製造業"},199,{"$f":"VLOOKUP(F410,作業シート!$I$2:$J$531,2)","v":"その他のゴム製品製造業"},1993,"ゴム練生地製造業","E-19-199-1993","製造業その他"]
[null,"E",{"$f":"VLOOKUP(日本標準産業分類!B411,作業シート!$C$2:$D$21,2)","v":"製造業"},19,{"$f":"VLOOKUP(D411,作業シート!$F$2:$G$100,2)","v":"ゴム製品製造業"},199,{"$f":"VLOOKUP(F411,作業シート!$I$2:$J$531,2)","v":"その他のゴム製品製造業"},1994,"更生タイヤ製造業","E-19-199-1994","製造業その他"]
[null,"E",{"$f":"VLOOKUP(日本標準産業分類!B412,作業シート!$C$2:$D$21,2)","v":"製造業"},19,{"$f":"VLOOKUP(D412,作業シート!$F$2:$G$100,2)","v":"ゴム製品製造業"},199,{"$f":"VLOOKUP(F412,作業シート!$I$2:$J$531,2)","v":"その他のゴム製品製造業"},1995,"再生ゴム製造業","E-19-199-1995","製造業その他"]
[null,"E",{"$f":"VLOOKUP(日本標準産業分類!B413,作業シート!$C$2:$D$21,2)","v":"製造業"},19,{"$f":"VLOOKUP(D413,作業シート!$F$2:$G$100,2)","v":"ゴム製品製造業"},199,{"$f":"VLOOKUP(F413,作業シート!$I$2:$J$531,2)","v":"その他のゴム製品製造業"},1999,"他に分類されないゴム製品製造業","E-19-199-1999","製造業その他"]
[null,"E",{"$f":"VLOOKUP(日本標準産業分類!B414,作業シート!$C$2:$D$21,2)","v":"製造業"},20,{"$f":"VLOOKUP(D414,作業シート!$F$2:$G$100,2)","v":"なめし革・同製品・毛皮製造業"},200,{"$f":"VLOOKUP(F414,作業シート!$I$2:$J$531,2)","v":"管理，補助的経済活動を行う事業所（20なめし革・同製品・毛皮製造業）"},2000,"主として管理事務を行う本社等","E-20-200-2000","製造業その他"]
[null,"E",{"$f":"VLOOKUP(日本標準産業分類!B415,作業シート!$C$2:$D$21,2)","v":"製造業"},20,{"$f":"VLOOKUP(D415,作業シート!$F$2:$G$100,2)","v":"なめし革・同製品・毛皮製造業"},200,{"$f":"VLOOKUP(F415,作業シート!$I$2:$J$531,2)","v":"管理，補助的経済活動を行う事業所（20なめし革・同製品・毛皮製造業）"},2009,"その他の管理，補助的経済活動を行う事業所","E-20-200-2009","製造業その他"]
[null,"E",{"$f":"VLOOKUP(日本標準産業分類!B416,作業シート!$C$2:$D$21,2)","v":"製造業"},20,{"$f":"VLOOKUP(D416,作業シート!$F$2:$G$100,2)","v":"なめし革・同製品・毛皮製造業"},201,{"$f":"VLOOKUP(F416,作業シート!$I$2:$J$531,2)","v":"なめし革製造業"},2011,"なめし革製造業","E-20-201-2011","製造業その他"]
[null,"E",{"$f":"VLOOKUP(日本標準産業分類!B417,作業シート!$C$2:$D$21,2)","v":"製造業"},20,{"$f":"VLOOKUP(D417,作業シート!$F$2:$G$100,2)","v":"なめし革・同製品・毛皮製造業"},202,{"$f":"VLOOKUP(F417,作業シート!$I$2:$J$531,2)","v":"工業用革製品製造業（手袋を除く）"},2021,"工業用革製品製造業（手袋を除く）","E-20-202-2021","製造業その他"]
[null,"E",{"$f":"VLOOKUP(日本標準産業分類!B418,作業シート!$C$2:$D$21,2)","v":"製造業"},20,{"$f":"VLOOKUP(D418,作業シート!$F$2:$G$100,2)","v":"なめし革・同製品・毛皮製造業"},203,{"$f":"VLOOKUP(F418,作業シート!$I$2:$J$531,2)","v":"革製履物用材料・同附属品製造業"},2031,"革製履物用材料・同附属品製造業","E-20-203-2031","製造業その他"]
[null,"E",{"$f":"VLOOKUP(日本標準産業分類!B419,作業シート!$C$2:$D$21,2)","v":"製造業"},20,{"$f":"VLOOKUP(D419,作業シート!$F$2:$G$100,2)","v":"なめし革・同製品・毛皮製造業"},204,{"$f":"VLOOKUP(F419,作業シート!$I$2:$J$531,2)","v":"革製履物製造業"},2041,"革製履物製造業","E-20-204-2041","製造業その他"]
[null,"E",{"$f":"VLOOKUP(日本標準産業分類!B420,作業シート!$C$2:$D$21,2)","v":"製造業"},20,{"$f":"VLOOKUP(D420,作業シート!$F$2:$G$100,2)","v":"なめし革・同製品・毛皮製造業"},205,{"$f":"VLOOKUP(F420,作業シート!$I$2:$J$531,2)","v":"革製手袋製造業"},2051,"革製手袋製造業","E-20-205-2051","製造業その他"]
[null,"E",{"$f":"VLOOKUP(日本標準産業分類!B421,作業シート!$C$2:$D$21,2)","v":"製造業"},20,{"$f":"VLOOKUP(D421,作業シート!$F$2:$G$100,2)","v":"なめし革・同製品・毛皮製造業"},206,{"$f":"VLOOKUP(F421,作業シート!$I$2:$J$531,2)","v":"かばん製造業"},2061,"かばん製造業","E-20-206-2061","製造業その他"]
[null,"E",{"$f":"VLOOKUP(日本標準産業分類!B422,作業シート!$C$2:$D$21,2)","v":"製造業"},20,{"$f":"VLOOKUP(D422,作業シート!$F$2:$G$100,2)","v":"なめし革・同製品・毛皮製造業"},207,{"$f":"VLOOKUP(F422,作業シート!$I$2:$J$531,2)","v":"袋物製造業"},2071,"袋物製造業（ハンドバッグを除く）","E-20-207-2071","製造業その他"]
[null,"E",{"$f":"VLOOKUP(日本標準産業分類!B423,作業シート!$C$2:$D$21,2)","v":"製造業"},20,{"$f":"VLOOKUP(D423,作業シート!$F$2:$G$100,2)","v":"なめし革・同製品・毛皮製造業"},207,{"$f":"VLOOKUP(F423,作業シート!$I$2:$J$531,2)","v":"袋物製造業"},2072,"ハンドバッグ製造業","E-20-207-2072","製造業その他"]
[null,"E",{"$f":"VLOOKUP(日本標準産業分類!B424,作業シート!$C$2:$D$21,2)","v":"製造業"},20,{"$f":"VLOOKUP(D424,作業シート!$F$2:$G$100,2)","v":"なめし革・同製品・毛皮製造業"},208,{"$f":"VLOOKUP(F424,作業シート!$I$2:$J$531,2)","v":"毛皮製造業"},2081,"毛皮製造業",{"$f":"CONCATENATE(B424,\"-\",D424,\"-\",F424,\"-\",H424)","v":"E-20-208-2081"},"製造業その他"]
[null,"E",{"$f":"VLOOKUP(日本標準産業分類!B425,作業シート!$C$2:$D$21,2)","v":"製造業"},20,{"$f":"VLOOKUP(D425,作業シート!$F$2:$G$100,2)","v":"なめし革・同製品・毛皮製造業"},209,{"$f":"VLOOKUP(F425,作業シート!$I$2:$J$531,2)","v":"その他のなめし革製品製造業"},2099,"その他のなめし革製品製造業","E-20-209-2099","製造業その他"]
[null,"E",{"$f":"VLOOKUP(日本標準産業分類!B426,作業シート!$C$2:$D$21,2)","v":"製造業"},21,{"$f":"VLOOKUP(D426,作業シート!$F$2:$G$100,2)","v":"窯業・土石製品製造業"},210,{"$f":"VLOOKUP(F426,作業シート!$I$2:$J$531,2)","v":"管理，補助的経済活動を行う事業所（21窯業・土石製品製造業）"},2100,"主として管理事務を行う本社等","E-21-210-2100","製造業その他"]
[null,"E",{"$f":"VLOOKUP(日本標準産業分類!B427,作業シート!$C$2:$D$21,2)","v":"製造業"},21,{"$f":"VLOOKUP(D427,作業シート!$F$2:$G$100,2)","v":"窯業・土石製品製造業"},210,{"$f":"VLOOKUP(F427,作業シート!$I$2:$J$531,2)","v":"管理，補助的経済活動を行う事業所（21窯業・土石製品製造業）"},2109,"その他の管理，補助的経済活動を行う事業所","E-21-210-2109","製造業その他"]
[null,"E",{"$f":"VLOOKUP(日本標準産業分類!B428,作業シート!$C$2:$D$21,2)","v":"製造業"},21,{"$f":"VLOOKUP(D428,作業シート!$F$2:$G$100,2)","v":"窯業・土石製品製造業"},211,{"$f":"VLOOKUP(F428,作業シート!$I$2:$J$531,2)","v":"ガラス・同製品製造業"},2111,"板ガラス製造業","E-21-211-2111","製造業その他"]
[null,"E",{"$f":"VLOOKUP(日本標準産業分類!B429,作業シート!$C$2:$D$21,2)","v":"製造業"},21,{"$f":"VLOOKUP(D429,作業シート!$F$2:$G$100,2)","v":"窯業・土石製品製造業"},211,{"$f":"VLOOKUP(F429,作業シート!$I$2:$J$531,2)","v":"ガラス・同製品製造業"},2112,"板ガラス加工業","E-21-211-2112","製造業その他"]
[null,"E",{"$f":"VLOOKUP(日本標準産業分類!B430,作業シート!$C$2:$D$21,2)","v":"製造業"},21,{"$f":"VLOOKUP(D430,作業シート!$F$2:$G$100,2)","v":"窯業・土石製品製造業"},211,{"$f":"VLOOKUP(F430,作業シート!$I$2:$J$531,2)","v":"ガラス・同製品製造業"},2113,"ガラス製加工素材製造業","E-21-211-2113","製造業その他"]
[null,"E",{"$f":"VLOOKUP(日本標準産業分類!B431,作業シート!$C$2:$D$21,2)","v":"製造業"},21,{"$f":"VLOOKUP(D431,作業シート!$F$2:$G$100,2)","v":"窯業・土石製品製造業"},211,{"$f":"VLOOKUP(F431,作業シート!$I$2:$J$531,2)","v":"ガラス・同製品製造業"},2114,"ガラス容器製造業","E-21-211-2114","製造業その他"]
[null,"E",{"$f":"VLOOKUP(日本標準産業分類!B432,作業シート!$C$2:$D$21,2)","v":"製造業"},21,{"$f":"VLOOKUP(D432,作業シート!$F$2:$G$100,2)","v":"窯業・土石製品製造業"},211,{"$f":"VLOOKUP(F432,作業シート!$I$2:$J$531,2)","v":"ガラス・同製品製造業"},2115,"理化学用・医療用ガラス器具製造業","E-21-211-2115","製造業その他"]
[null,"E",{"$f":"VLOOKUP(日本標準産業分類!B433,作業シート!$C$2:$D$21,2)","v":"製造業"},21,{"$f":"VLOOKUP(D433,作業シート!$F$2:$G$100,2)","v":"窯業・土石製品製造業"},211,{"$f":"VLOOKUP(F433,作業シート!$I$2:$J$531,2)","v":"ガラス・同製品製造業"},2116,"卓上用・ちゅう房用ガラス器具製造業","E-21-211-2116","製造業その他"]
[null,"E",{"$f":"VLOOKUP(日本標準産業分類!B434,作業シート!$C$2:$D$21,2)","v":"製造業"},21,{"$f":"VLOOKUP(D434,作業シート!$F$2:$G$100,2)","v":"窯業・土石製品製造業"},211,{"$f":"VLOOKUP(F434,作業シート!$I$2:$J$531,2)","v":"ガラス・同製品製造業"},2117,"ガラス繊維・同製品製造業","E-21-211-2117","製造業その他"]
[null,"E",{"$f":"VLOOKUP(日本標準産業分類!B435,作業シート!$C$2:$D$21,2)","v":"製造業"},21,{"$f":"VLOOKUP(D435,作業シート!$F$2:$G$100,2)","v":"窯業・土石製品製造業"},211,{"$f":"VLOOKUP(F435,作業シート!$I$2:$J$531,2)","v":"ガラス・同製品製造業"},2119,"その他のガラス・同製品製造業","E-21-211-2119","製造業その他"]
[null,"E",{"$f":"VLOOKUP(日本標準産業分類!B436,作業シート!$C$2:$D$21,2)","v":"製造業"},21,{"$f":"VLOOKUP(D436,作業シート!$F$2:$G$100,2)","v":"窯業・土石製品製造業"},212,{"$f":"VLOOKUP(F436,作業シート!$I$2:$J$531,2)","v":"セメント・同製品製造業"},2121,"セメント製造業","E-21-212-2121","製造業その他"]
[null,"E",{"$f":"VLOOKUP(日本標準産業分類!B437,作業シート!$C$2:$D$21,2)","v":"製造業"},21,{"$f":"VLOOKUP(D437,作業シート!$F$2:$G$100,2)","v":"窯業・土石製品製造業"},212,{"$f":"VLOOKUP(F437,作業シート!$I$2:$J$531,2)","v":"セメント・同製品製造業"},2122,"生コンクリート製造業","E-21-212-2122","製造業その他"]
[null,"E",{"$f":"VLOOKUP(日本標準産業分類!B438,作業シート!$C$2:$D$21,2)","v":"製造業"},21,{"$f":"VLOOKUP(D438,作業シート!$F$2:$G$100,2)","v":"窯業・土石製品製造業"},212,{"$f":"VLOOKUP(F438,作業シート!$I$2:$J$531,2)","v":"セメント・同製品製造業"},2123,"コンクリート製品製造業","E-21-212-2123","製造業その他"]
[null,"E",{"$f":"VLOOKUP(日本標準産業分類!B439,作業シート!$C$2:$D$21,2)","v":"製造業"},21,{"$f":"VLOOKUP(D439,作業シート!$F$2:$G$100,2)","v":"窯業・土石製品製造業"},212,{"$f":"VLOOKUP(F439,作業シート!$I$2:$J$531,2)","v":"セメント・同製品製造業"},2129,"その他のセメント製品製造業","E-21-212-2129","製造業その他"]
[null,"E",{"$f":"VLOOKUP(日本標準産業分類!B440,作業シート!$C$2:$D$21,2)","v":"製造業"},21,{"$f":"VLOOKUP(D440,作業シート!$F$2:$G$100,2)","v":"窯業・土石製品製造業"},213,{"$f":"VLOOKUP(F440,作業シート!$I$2:$J$531,2)","v":"建設用粘土製品製造業（陶磁器製を除く)"},2131,"粘土かわら製造業","E-21-213-2131","製造業その他"]
[null,"E",{"$f":"VLOOKUP(日本標準産業分類!B441,作業シート!$C$2:$D$21,2)","v":"製造業"},21,{"$f":"VLOOKUP(D441,作業シート!$F$2:$G$100,2)","v":"窯業・土石製品製造業"},213,{"$f":"VLOOKUP(F441,作業シート!$I$2:$J$531,2)","v":"建設用粘土製品製造業（陶磁器製を除く)"},2132,"普通れんが製造業","E-21-213-2132","製造業その他"]
[null,"E",{"$f":"VLOOKUP(日本標準産業分類!B442,作業シート!$C$2:$D$21,2)","v":"製造業"},21,{"$f":"VLOOKUP(D442,作業シート!$F$2:$G$100,2)","v":"窯業・土石製品製造業"},213,{"$f":"VLOOKUP(F442,作業シート!$I$2:$J$531,2)","v":"建設用粘土製品製造業（陶磁器製を除く)"},2139,"その他の建設用粘土製品製造業","E-21-213-2139","製造業その他"]
[null,"E",{"$f":"VLOOKUP(日本標準産業分類!B443,作業シート!$C$2:$D$21,2)","v":"製造業"},21,{"$f":"VLOOKUP(D443,作業シート!$F$2:$G$100,2)","v":"窯業・土石製品製造業"},214,{"$f":"VLOOKUP(F443,作業シート!$I$2:$J$531,2)","v":"陶磁器・同関連製品製造業"},2141,"衛生陶器製造業","E-21-214-2141","製造業その他"]
[null,"E",{"$f":"VLOOKUP(日本標準産業分類!B444,作業シート!$C$2:$D$21,2)","v":"製造業"},21,{"$f":"VLOOKUP(D444,作業シート!$F$2:$G$100,2)","v":"窯業・土石製品製造業"},214,{"$f":"VLOOKUP(F444,作業シート!$I$2:$J$531,2)","v":"陶磁器・同関連製品製造業"},2142,"食卓用・ちゅう房用陶磁器製造業","E-21-214-2142","製造業その他"]
[null,"E",{"$f":"VLOOKUP(日本標準産業分類!B445,作業シート!$C$2:$D$21,2)","v":"製造業"},21,{"$f":"VLOOKUP(D445,作業シート!$F$2:$G$100,2)","v":"窯業・土石製品製造業"},214,{"$f":"VLOOKUP(F445,作業シート!$I$2:$J$531,2)","v":"陶磁器・同関連製品製造業"},2143,"陶磁器製置物製造業","E-21-214-2143","製造業その他"]
[null,"E",{"$f":"VLOOKUP(日本標準産業分類!B446,作業シート!$C$2:$D$21,2)","v":"製造業"},21,{"$f":"VLOOKUP(D446,作業シート!$F$2:$G$100,2)","v":"窯業・土石製品製造業"},214,{"$f":"VLOOKUP(F446,作業シート!$I$2:$J$531,2)","v":"陶磁器・同関連製品製造業"},2144,"電気用陶磁器製造業","E-21-214-2144","製造業その他"]
[null,"E",{"$f":"VLOOKUP(日本標準産業分類!B447,作業シート!$C$2:$D$21,2)","v":"製造業"},21,{"$f":"VLOOKUP(D447,作業シート!$F$2:$G$100,2)","v":"窯業・土石製品製造業"},214,{"$f":"VLOOKUP(F447,作業シート!$I$2:$J$531,2)","v":"陶磁器・同関連製品製造業"},2145,"理化学用・工業用陶磁器製造業","E-21-214-2145","製造業その他"]
[null,"E",{"$f":"VLOOKUP(日本標準産業分類!B448,作業シート!$C$2:$D$21,2)","v":"製造業"},21,{"$f":"VLOOKUP(D448,作業シート!$F$2:$G$100,2)","v":"窯業・土石製品製造業"},214,{"$f":"VLOOKUP(F448,作業シート!$I$2:$J$531,2)","v":"陶磁器・同関連製品製造業"},2146,"陶磁器製タイル製造業","E-21-214-2146","製造業その他"]
[null,"E",{"$f":"VLOOKUP(日本標準産業分類!B449,作業シート!$C$2:$D$21,2)","v":"製造業"},21,{"$f":"VLOOKUP(D449,作業シート!$F$2:$G$100,2)","v":"窯業・土石製品製造業"},214,{"$f":"VLOOKUP(F449,作業シート!$I$2:$J$531,2)","v":"陶磁器・同関連製品製造業"},2147,"陶磁器絵付業","E-21-214-2147","製造業その他"]
[null,"E",{"$f":"VLOOKUP(日本標準産業分類!B450,作業シート!$C$2:$D$21,2)","v":"製造業"},21,{"$f":"VLOOKUP(D450,作業シート!$F$2:$G$100,2)","v":"窯業・土石製品製造業"},214,{"$f":"VLOOKUP(F450,作業シート!$I$2:$J$531,2)","v":"陶磁器・同関連製品製造業"},2148,"陶磁器用はい（坏）土製造業","E-21-214-2148","製造業その他"]
[null,"E",{"$f":"VLOOKUP(日本標準産業分類!B451,作業シート!$C$2:$D$21,2)","v":"製造業"},21,{"$f":"VLOOKUP(D451,作業シート!$F$2:$G$100,2)","v":"窯業・土石製品製造業"},214,{"$f":"VLOOKUP(F451,作業シート!$I$2:$J$531,2)","v":"陶磁器・同関連製品製造業"},2149,"その他の陶磁器・同関連製品製造業","E-21-214-2149","製造業その他"]
[null,"E",{"$f":"VLOOKUP(日本標準産業分類!B452,作業シート!$C$2:$D$21,2)","v":"製造業"},21,{"$f":"VLOOKUP(D452,作業シート!$F$2:$G$100,2)","v":"窯業・土石製品製造業"},215,{"$f":"VLOOKUP(F452,作業シート!$I$2:$J$531,2)","v":"耐火物製造業"},2151,"耐火れんが製造業","E-21-215-2151","製造業その他"]
[null,"E",{"$f":"VLOOKUP(日本標準産業分類!B453,作業シート!$C$2:$D$21,2)","v":"製造業"},21,{"$f":"VLOOKUP(D453,作業シート!$F$2:$G$100,2)","v":"窯業・土石製品製造業"},215,{"$f":"VLOOKUP(F453,作業シート!$I$2:$J$531,2)","v":"耐火物製造業"},2152,"不定形耐火物製造業","E-21-215-2152","製造業その他"]
[null,"E",{"$f":"VLOOKUP(日本標準産業分類!B454,作業シート!$C$2:$D$21,2)","v":"製造業"},21,{"$f":"VLOOKUP(D454,作業シート!$F$2:$G$100,2)","v":"窯業・土石製品製造業"},215,{"$f":"VLOOKUP(F454,作業シート!$I$2:$J$531,2)","v":"耐火物製造業"},2159,"その他の耐火物製造業","E-21-215-2159","製造業その他"]
[null,"E",{"$f":"VLOOKUP(日本標準産業分類!B455,作業シート!$C$2:$D$21,2)","v":"製造業"},21,{"$f":"VLOOKUP(D455,作業シート!$F$2:$G$100,2)","v":"窯業・土石製品製造業"},216,{"$f":"VLOOKUP(F455,作業シート!$I$2:$J$531,2)","v":"炭素・黒鉛製品製造業"},2161,"炭素質電極製造業","E-21-216-2161","製造業その他"]
[null,"E",{"$f":"VLOOKUP(日本標準産業分類!B456,作業シート!$C$2:$D$21,2)","v":"製造業"},21,{"$f":"VLOOKUP(D456,作業シート!$F$2:$G$100,2)","v":"窯業・土石製品製造業"},216,{"$f":"VLOOKUP(F456,作業シート!$I$2:$J$531,2)","v":"炭素・黒鉛製品製造業"},2169,"その他の炭素・黒鉛製品製造業","E-21-216-2169","製造業その他"]
[null,"E",{"$f":"VLOOKUP(日本標準産業分類!B457,作業シート!$C$2:$D$21,2)","v":"製造業"},21,{"$f":"VLOOKUP(D457,作業シート!$F$2:$G$100,2)","v":"窯業・土石製品製造業"},217,{"$f":"VLOOKUP(F457,作業シート!$I$2:$J$531,2)","v":"研磨材・同製品製造業"},2171,"研磨材製造業","E-21-217-2171","製造業その他"]
[null,"E",{"$f":"VLOOKUP(日本標準産業分類!B458,作業シート!$C$2:$D$21,2)","v":"製造業"},21,{"$f":"VLOOKUP(D458,作業シート!$F$2:$G$100,2)","v":"窯業・土石製品製造業"},217,{"$f":"VLOOKUP(F458,作業シート!$I$2:$J$531,2)","v":"研磨材・同製品製造業"},2172,"研削と石製造業","E-21-217-2172","製造業その他"]
[null,"E",{"$f":"VLOOKUP(日本標準産業分類!B459,作業シート!$C$2:$D$21,2)","v":"製造業"},21,{"$f":"VLOOKUP(D459,作業シート!$F$2:$G$100,2)","v":"窯業・土石製品製造業"},217,{"$f":"VLOOKUP(F459,作業シート!$I$2:$J$531,2)","v":"研磨材・同製品製造業"},2173,"研磨布紙製造業","E-21-217-2173","製造業その他"]
[null,"E",{"$f":"VLOOKUP(日本標準産業分類!B460,作業シート!$C$2:$D$21,2)","v":"製造業"},21,{"$f":"VLOOKUP(D460,作業シート!$F$2:$G$100,2)","v":"窯業・土石製品製造業"},217,{"$f":"VLOOKUP(F460,作業シート!$I$2:$J$531,2)","v":"研磨材・同製品製造業"},2179,"その他の研磨材・同製品製造業","E-21-217-2179","製造業その他"]
[null,"E",{"$f":"VLOOKUP(日本標準産業分類!B461,作業シート!$C$2:$D$21,2)","v":"製造業"},21,{"$f":"VLOOKUP(D461,作業シート!$F$2:$G$100,2)","v":"窯業・土石製品製造業"},218,{"$f":"VLOOKUP(F461,作業シート!$I$2:$J$531,2)","v":"骨材・石工品等製造業"},2181,"砕石製造業","E-21-218-2181","製造業その他"]
[null,"E",{"$f":"VLOOKUP(日本標準産業分類!B462,作業シート!$C$2:$D$21,2)","v":"製造業"},21,{"$f":"VLOOKUP(D462,作業シート!$F$2:$G$100,2)","v":"窯業・土石製品製造業"},218,{"$f":"VLOOKUP(F462,作業シート!$I$2:$J$531,2)","v":"骨材・石工品等製造業"},2182,"再生骨材製造業","E-21-218-2182","製造業その他"]
[null,"E",{"$f":"VLOOKUP(日本標準産業分類!B463,作業シート!$C$2:$D$21,2)","v":"製造業"},21,{"$f":"VLOOKUP(D463,作業シート!$F$2:$G$100,2)","v":"窯業・土石製品製造業"},218,{"$f":"VLOOKUP(F463,作業シート!$I$2:$J$531,2)","v":"骨材・石工品等製造業"},2183,"人工骨材製造業","E-21-218-2183","製造業その他"]
[null,"E",{"$f":"VLOOKUP(日本標準産業分類!B464,作業シート!$C$2:$D$21,2)","v":"製造業"},21,{"$f":"VLOOKUP(D464,作業シート!$F$2:$G$100,2)","v":"窯業・土石製品製造業"},218,{"$f":"VLOOKUP(F464,作業シート!$I$2:$J$531,2)","v":"骨材・石工品等製造業"},2184,"石工品製造業","E-21-218-2184","製造業その他"]
[null,"E",{"$f":"VLOOKUP(日本標準産業分類!B465,作業シート!$C$2:$D$21,2)","v":"製造業"},21,{"$f":"VLOOKUP(D465,作業シート!$F$2:$G$100,2)","v":"窯業・土石製品製造業"},218,{"$f":"VLOOKUP(F465,作業シート!$I$2:$J$531,2)","v":"骨材・石工品等製造業"},2185,"けいそう土・同製品製造業","E-21-218-2185","製造業その他"]
[null,"E",{"$f":"VLOOKUP(日本標準産業分類!B466,作業シート!$C$2:$D$21,2)","v":"製造業"},21,{"$f":"VLOOKUP(D466,作業シート!$F$2:$G$100,2)","v":"窯業・土石製品製造業"},218,{"$f":"VLOOKUP(F466,作業シート!$I$2:$J$531,2)","v":"骨材・石工品等製造業"},2186,"鉱物・土石粉砕等処理業","E-21-218-2186","製造業その他"]
[null,"E",{"$f":"VLOOKUP(日本標準産業分類!B467,作業シート!$C$2:$D$21,2)","v":"製造業"},21,{"$f":"VLOOKUP(D467,作業シート!$F$2:$G$100,2)","v":"窯業・土石製品製造業"},219,{"$f":"VLOOKUP(F467,作業シート!$I$2:$J$531,2)","v":"その他の窯業・土石製品製造業"},2191,"ロックウール・同製品製造業","E-21-219-2191","製造業その他"]
[null,"E",{"$f":"VLOOKUP(日本標準産業分類!B468,作業シート!$C$2:$D$21,2)","v":"製造業"},21,{"$f":"VLOOKUP(D468,作業シート!$F$2:$G$100,2)","v":"窯業・土石製品製造業"},219,{"$f":"VLOOKUP(F468,作業シート!$I$2:$J$531,2)","v":"その他の窯業・土石製品製造業"},2192,"石こう（膏）製品製造業","E-21-219-2192","製造業その他"]
[null,"E",{"$f":"VLOOKUP(日本標準産業分類!B469,作業シート!$C$2:$D$21,2)","v":"製造業"},21,{"$f":"VLOOKUP(D469,作業シート!$F$2:$G$100,2)","v":"窯業・土石製品製造業"},219,{"$f":"VLOOKUP(F469,作業シート!$I$2:$J$531,2)","v":"その他の窯業・土石製品製造業"},2193,"石灰製造業","E-21-219-2193","製造業その他"]
[null,"E",{"$f":"VLOOKUP(日本標準産業分類!B470,作業シート!$C$2:$D$21,2)","v":"製造業"},21,{"$f":"VLOOKUP(D470,作業シート!$F$2:$G$100,2)","v":"窯業・土石製品製造業"},219,{"$f":"VLOOKUP(F470,作業シート!$I$2:$J$531,2)","v":"その他の窯業・土石製品製造業"},2194,"鋳型製造業（中子を含む）","E-21-219-2194","製造業その他"]
[null,"E",{"$f":"VLOOKUP(日本標準産業分類!B471,作業シート!$C$2:$D$21,2)","v":"製造業"},21,{"$f":"VLOOKUP(D471,作業シート!$F$2:$G$100,2)","v":"窯業・土石製品製造業"},219,{"$f":"VLOOKUP(F471,作業シート!$I$2:$J$531,2)","v":"その他の窯業・土石製品製造業"},2199,"他に分類されない窯業・土石製品製造業","E-21-219-2199","製造業その他"]
[null,"E",{"$f":"VLOOKUP(日本標準産業分類!B472,作業シート!$C$2:$D$21,2)","v":"製造業"},22,{"$f":"VLOOKUP(D472,作業シート!$F$2:$G$100,2)","v":"鉄鋼業"},220,{"$f":"VLOOKUP(F472,作業シート!$I$2:$J$531,2)","v":"管理，補助的経済活動を行う事業所（22鉄鋼業）"},2200,"主として管理事務を行う本社等","E-22-220-2200","製造業その他"]
[null,"E",{"$f":"VLOOKUP(日本標準産業分類!B473,作業シート!$C$2:$D$21,2)","v":"製造業"},22,{"$f":"VLOOKUP(D473,作業シート!$F$2:$G$100,2)","v":"鉄鋼業"},220,{"$f":"VLOOKUP(F473,作業シート!$I$2:$J$531,2)","v":"管理，補助的経済活動を行う事業所（22鉄鋼業）"},2209,"その他の管理，補助的経済活動を行う事業所",{"$f":"CONCATENATE(B473,\"-\",D473,\"-\",F473,\"-\",H473)","v":"E-22-220-2209"},"製造業その他"]
[null,"E",{"$f":"VLOOKUP(日本標準産業分類!B474,作業シート!$C$2:$D$21,2)","v":"製造業"},22,{"$f":"VLOOKUP(D474,作業シート!$F$2:$G$100,2)","v":"鉄鋼業"},221,{"$f":"VLOOKUP(F474,作業シート!$I$2:$J$531,2)","v":"製鉄業"},2211,"高炉による製鉄業","E-22-221-2211","製造業その他"]
[null,"E",{"$f":"VLOOKUP(日本標準産業分類!B475,作業シート!$C$2:$D$21,2)","v":"製造業"},22,{"$f":"VLOOKUP(D475,作業シート!$F$2:$G$100,2)","v":"鉄鋼業"},221,{"$f":"VLOOKUP(F475,作業シート!$I$2:$J$531,2)","v":"製鉄業"},2212,"高炉によらない製鉄業","E-22-221-2212","製造業その他"]
[null,"E",{"$f":"VLOOKUP(日本標準産業分類!B476,作業シート!$C$2:$D$21,2)","v":"製造業"},22,{"$f":"VLOOKUP(D476,作業シート!$F$2:$G$100,2)","v":"鉄鋼業"},221,{"$f":"VLOOKUP(F476,作業シート!$I$2:$J$531,2)","v":"製鉄業"},2213,"フェロアロイ製造業","E-22-221-2213","製造業その他"]
[null,"E",{"$f":"VLOOKUP(日本標準産業分類!B477,作業シート!$C$2:$D$21,2)","v":"製造業"},22,{"$f":"VLOOKUP(D477,作業シート!$F$2:$G$100,2)","v":"鉄鋼業"},222,{"$f":"VLOOKUP(F477,作業シート!$I$2:$J$531,2)","v":"製鋼・製鋼圧延業"},2221,"製鋼・製鋼圧延業","E-22-222-2221","製造業その他"]
[null,"E",{"$f":"VLOOKUP(日本標準産業分類!B478,作業シート!$C$2:$D$21,2)","v":"製造業"},22,{"$f":"VLOOKUP(D478,作業シート!$F$2:$G$100,2)","v":"鉄鋼業"},223,{"$f":"VLOOKUP(F478,作業シート!$I$2:$J$531,2)","v":"製鋼を行わない鋼材製造業（表面処理鋼材を除く）"},2231,"熱間圧延業（鋼管，伸鉄を除く）","E-22-223-2231","製造業その他"]
[null,"E",{"$f":"VLOOKUP(日本標準産業分類!B479,作業シート!$C$2:$D$21,2)","v":"製造業"},22,{"$f":"VLOOKUP(D479,作業シート!$F$2:$G$100,2)","v":"鉄鋼業"},223,{"$f":"VLOOKUP(F479,作業シート!$I$2:$J$531,2)","v":"製鋼を行わない鋼材製造業（表面処理鋼材を除く）"},2232,"冷間圧延業（鋼管，伸鉄を除く）","E-22-223-2232","製造業その他"]
[null,"E",{"$f":"VLOOKUP(日本標準産業分類!B480,作業シート!$C$2:$D$21,2)","v":"製造業"},22,{"$f":"VLOOKUP(D480,作業シート!$F$2:$G$100,2)","v":"鉄鋼業"},223,{"$f":"VLOOKUP(F480,作業シート!$I$2:$J$531,2)","v":"製鋼を行わない鋼材製造業（表面処理鋼材を除く）"},2233,"冷間ロール成型形鋼製造業","E-22-223-2233","製造業その他"]
[null,"E",{"$f":"VLOOKUP(日本標準産業分類!B481,作業シート!$C$2:$D$21,2)","v":"製造業"},22,{"$f":"VLOOKUP(D481,作業シート!$F$2:$G$100,2)","v":"鉄鋼業"},223,{"$f":"VLOOKUP(F481,作業シート!$I$2:$J$531,2)","v":"製鋼を行わない鋼材製造業（表面処理鋼材を除く）"},2234,"鋼管製造業","E-22-223-2234","製造業その他"]
[null,"E",{"$f":"VLOOKUP(日本標準産業分類!B482,作業シート!$C$2:$D$21,2)","v":"製造業"},22,{"$f":"VLOOKUP(D482,作業シート!$F$2:$G$100,2)","v":"鉄鋼業"},223,{"$f":"VLOOKUP(F482,作業シート!$I$2:$J$531,2)","v":"製鋼を行わない鋼材製造業（表面処理鋼材を除く）"},2235,"伸鉄業","E-22-223-2235","製造業その他"]
[null,"E",{"$f":"VLOOKUP(日本標準産業分類!B483,作業シート!$C$2:$D$21,2)","v":"製造業"},22,{"$f":"VLOOKUP(D483,作業シート!$F$2:$G$100,2)","v":"鉄鋼業"},223,{"$f":"VLOOKUP(F483,作業シート!$I$2:$J$531,2)","v":"製鋼を行わない鋼材製造業（表面処理鋼材を除く）"},2236,"磨棒鋼製造業","E-22-223-2236","製造業その他"]
[null,"E",{"$f":"VLOOKUP(日本標準産業分類!B484,作業シート!$C$2:$D$21,2)","v":"製造業"},22,{"$f":"VLOOKUP(D484,作業シート!$F$2:$G$100,2)","v":"鉄鋼業"},223,{"$f":"VLOOKUP(F484,作業シート!$I$2:$J$531,2)","v":"製鋼を行わない鋼材製造業（表面処理鋼材を除く）"},2237,"引抜鋼管製造業","E-22-223-2237","製造業その他"]
[null,"E",{"$f":"VLOOKUP(日本標準産業分類!B485,作業シート!$C$2:$D$21,2)","v":"製造業"},22,{"$f":"VLOOKUP(D485,作業シート!$F$2:$G$100,2)","v":"鉄鋼業"},223,{"$f":"VLOOKUP(F485,作業シート!$I$2:$J$531,2)","v":"製鋼を行わない鋼材製造業（表面処理鋼材を除く）"},2238,"伸線業","E-22-223-2238","製造業その他"]
[null,"E",{"$f":"VLOOKUP(日本標準産業分類!B486,作業シート!$C$2:$D$21,2)","v":"製造業"},22,{"$f":"VLOOKUP(D486,作業シート!$F$2:$G$100,2)","v":"鉄鋼業"},223,{"$f":"VLOOKUP(F486,作業シート!$I$2:$J$531,2)","v":"製鋼を行わない鋼材製造業（表面処理鋼材を除く）"},2239,"その他の製鋼を行わない鋼材製造業（表面処理鋼材を除く)","E-22-223-2239","製造業その他"]
[null,"E",{"$f":"VLOOKUP(日本標準産業分類!B487,作業シート!$C$2:$D$21,2)","v":"製造業"},22,{"$f":"VLOOKUP(D487,作業シート!$F$2:$G$100,2)","v":"鉄鋼業"},224,{"$f":"VLOOKUP(F487,作業シート!$I$2:$J$531,2)","v":"表面処理鋼材製造業"},2241,"亜鉛鉄板製造業","E-22-224-2241","製造業その他"]
[null,"E",{"$f":"VLOOKUP(日本標準産業分類!B488,作業シート!$C$2:$D$21,2)","v":"製造業"},22,{"$f":"VLOOKUP(D488,作業シート!$F$2:$G$100,2)","v":"鉄鋼業"},224,{"$f":"VLOOKUP(F488,作業シート!$I$2:$J$531,2)","v":"表面処理鋼材製造業"},2249,"その他の表面処理鋼材製造業","E-22-224-2249","製造業その他"]
[null,"E",{"$f":"VLOOKUP(日本標準産業分類!B489,作業シート!$C$2:$D$21,2)","v":"製造業"},22,{"$f":"VLOOKUP(D489,作業シート!$F$2:$G$100,2)","v":"鉄鋼業"},225,{"$f":"VLOOKUP(F489,作業シート!$I$2:$J$531,2)","v":"鉄素形材製造業"},2251,"銑鉄鋳物製造業（鋳鉄管，可鍛鋳鉄を除く）","E-22-225-2251","製造業その他"]
[null,"E",{"$f":"VLOOKUP(日本標準産業分類!B490,作業シート!$C$2:$D$21,2)","v":"製造業"},22,{"$f":"VLOOKUP(D490,作業シート!$F$2:$G$100,2)","v":"鉄鋼業"},225,{"$f":"VLOOKUP(F490,作業シート!$I$2:$J$531,2)","v":"鉄素形材製造業"},2252,"可鍛鋳鉄製造業","E-22-225-2252","製造業その他"]
[null,"E",{"$f":"VLOOKUP(日本標準産業分類!B491,作業シート!$C$2:$D$21,2)","v":"製造業"},22,{"$f":"VLOOKUP(D491,作業シート!$F$2:$G$100,2)","v":"鉄鋼業"},225,{"$f":"VLOOKUP(F491,作業シート!$I$2:$J$531,2)","v":"鉄素形材製造業"},2253,"鋳鋼製造業","E-22-225-2253","製造業その他"]
[null,"E",{"$f":"VLOOKUP(日本標準産業分類!B492,作業シート!$C$2:$D$21,2)","v":"製造業"},22,{"$f":"VLOOKUP(D492,作業シート!$F$2:$G$100,2)","v":"鉄鋼業"},225,{"$f":"VLOOKUP(F492,作業シート!$I$2:$J$531,2)","v":"鉄素形材製造業"},2254,"鍛工品製造業","E-22-225-2254","製造業その他"]
[null,"E",{"$f":"VLOOKUP(日本標準産業分類!B493,作業シート!$C$2:$D$21,2)","v":"製造業"},22,{"$f":"VLOOKUP(D493,作業シート!$F$2:$G$100,2)","v":"鉄鋼業"},225,{"$f":"VLOOKUP(F493,作業シート!$I$2:$J$531,2)","v":"鉄素形材製造業"},2255,"鍛鋼製造業","E-22-225-2255","製造業その他"]
[null,"E",{"$f":"VLOOKUP(日本標準産業分類!B494,作業シート!$C$2:$D$21,2)","v":"製造業"},22,{"$f":"VLOOKUP(D494,作業シート!$F$2:$G$100,2)","v":"鉄鋼業"},229,{"$f":"VLOOKUP(F494,作業シート!$I$2:$J$531,2)","v":"その他の鉄鋼業"},2291,"鉄鋼シャースリット業","E-22-229-2291","製造業その他"]
[null,"E",{"$f":"VLOOKUP(日本標準産業分類!B495,作業シート!$C$2:$D$21,2)","v":"製造業"},22,{"$f":"VLOOKUP(D495,作業シート!$F$2:$G$100,2)","v":"鉄鋼業"},229,{"$f":"VLOOKUP(F495,作業シート!$I$2:$J$531,2)","v":"その他の鉄鋼業"},2292,"鉄スクラップ加工処理業","E-22-229-2292","製造業その他"]
[null,"E",{"$f":"VLOOKUP(日本標準産業分類!B496,作業シート!$C$2:$D$21,2)","v":"製造業"},22,{"$f":"VLOOKUP(D496,作業シート!$F$2:$G$100,2)","v":"鉄鋼業"},229,{"$f":"VLOOKUP(F496,作業シート!$I$2:$J$531,2)","v":"その他の鉄鋼業"},2293,"鋳鉄管製造業","E-22-229-2293","製造業その他"]
[null,"E",{"$f":"VLOOKUP(日本標準産業分類!B497,作業シート!$C$2:$D$21,2)","v":"製造業"},22,{"$f":"VLOOKUP(D497,作業シート!$F$2:$G$100,2)","v":"鉄鋼業"},229,{"$f":"VLOOKUP(F497,作業シート!$I$2:$J$531,2)","v":"その他の鉄鋼業"},2299,"他に分類されない鉄鋼業","E-22-229-2299","製造業その他"]
[null,"E",{"$f":"VLOOKUP(日本標準産業分類!B498,作業シート!$C$2:$D$21,2)","v":"製造業"},23,{"$f":"VLOOKUP(D498,作業シート!$F$2:$G$100,2)","v":"非鉄金属製造業"},230,{"$f":"VLOOKUP(F498,作業シート!$I$2:$J$531,2)","v":"管理，補助的経済活動を行う事業所（23非鉄金属製造業）"},2300,"主として管理事務を行う本社等","E-23-230-2300","製造業その他"]
[null,"E",{"$f":"VLOOKUP(日本標準産業分類!B499,作業シート!$C$2:$D$21,2)","v":"製造業"},23,{"$f":"VLOOKUP(D499,作業シート!$F$2:$G$100,2)","v":"非鉄金属製造業"},230,{"$f":"VLOOKUP(F499,作業シート!$I$2:$J$531,2)","v":"管理，補助的経済活動を行う事業所（23非鉄金属製造業）"},2309,"その他の管理，補助的経済活動を行う事業所","E-23-230-2309","製造業その他"]
[null,"E",{"$f":"VLOOKUP(日本標準産業分類!B500,作業シート!$C$2:$D$21,2)","v":"製造業"},23,{"$f":"VLOOKUP(D500,作業シート!$F$2:$G$100,2)","v":"非鉄金属製造業"},231,{"$f":"VLOOKUP(F500,作業シート!$I$2:$J$531,2)","v":"非鉄金属第1次製錬・精製業"},2311,"銅第1次製錬・精製業","E-23-231-2311","製造業その他"]
[null,"E",{"$f":"VLOOKUP(日本標準産業分類!B501,作業シート!$C$2:$D$21,2)","v":"製造業"},23,{"$f":"VLOOKUP(D501,作業シート!$F$2:$G$100,2)","v":"非鉄金属製造業"},231,{"$f":"VLOOKUP(F501,作業シート!$I$2:$J$531,2)","v":"非鉄金属第1次製錬・精製業"},2312,"亜鉛第1次製錬・精製業","E-23-231-2312","製造業その他"]
[null,"E",{"$f":"VLOOKUP(日本標準産業分類!B502,作業シート!$C$2:$D$21,2)","v":"製造業"},23,{"$f":"VLOOKUP(D502,作業シート!$F$2:$G$100,2)","v":"非鉄金属製造業"},231,{"$f":"VLOOKUP(F502,作業シート!$I$2:$J$531,2)","v":"非鉄金属第1次製錬・精製業"},2319,"その他の非鉄金属第1次製錬・精製業","E-23-231-2319","製造業その他"]
[null,"E",{"$f":"VLOOKUP(日本標準産業分類!B503,作業シート!$C$2:$D$21,2)","v":"製造業"},23,{"$f":"VLOOKUP(D503,作業シート!$F$2:$G$100,2)","v":"非鉄金属製造業"},232,{"$f":"VLOOKUP(F503,作業シート!$I$2:$J$531,2)","v":"非鉄金属第2次製錬・精製業（非鉄金属合金製造業を含む）"},2321,"鉛第2次製錬・精製業（鉛合金製造業を含む)","E-23-232-2321","製造業その他"]
[null,"E",{"$f":"VLOOKUP(日本標準産業分類!B504,作業シート!$C$2:$D$21,2)","v":"製造業"},23,{"$f":"VLOOKUP(D504,作業シート!$F$2:$G$100,2)","v":"非鉄金属製造業"},232,{"$f":"VLOOKUP(F504,作業シート!$I$2:$J$531,2)","v":"非鉄金属第2次製錬・精製業（非鉄金属合金製造業を含む）"},2322,"アルミニウム第2次製錬・精製業（アルミニウム合金製造業を含む）","E-23-232-2322","製造業その他"]
[null,"E",{"$f":"VLOOKUP(日本標準産業分類!B505,作業シート!$C$2:$D$21,2)","v":"製造業"},23,{"$f":"VLOOKUP(D505,作業シート!$F$2:$G$100,2)","v":"非鉄金属製造業"},232,{"$f":"VLOOKUP(F505,作業シート!$I$2:$J$531,2)","v":"非鉄金属第2次製錬・精製業（非鉄金属合金製造業を含む）"},2329,"その他の非鉄金属第2次製錬・精製業（非鉄金属合金製造業を含む）","E-23-232-2329","製造業その他"]
[null,"E",{"$f":"VLOOKUP(日本標準産業分類!B506,作業シート!$C$2:$D$21,2)","v":"製造業"},23,{"$f":"VLOOKUP(D506,作業シート!$F$2:$G$100,2)","v":"非鉄金属製造業"},233,{"$f":"VLOOKUP(F506,作業シート!$I$2:$J$531,2)","v":"非鉄金属・同合金圧延業（抽伸，押出しを含む）"},2331,"伸銅品製造業","E-23-233-2331","製造業その他"]
[null,"E",{"$f":"VLOOKUP(日本標準産業分類!B507,作業シート!$C$2:$D$21,2)","v":"製造業"},23,{"$f":"VLOOKUP(D507,作業シート!$F$2:$G$100,2)","v":"非鉄金属製造業"},233,{"$f":"VLOOKUP(F507,作業シート!$I$2:$J$531,2)","v":"非鉄金属・同合金圧延業（抽伸，押出しを含む）"},2332,"アルミニウム・同合金圧延業（抽伸，押出しを含む）","E-23-233-2332","製造業その他"]
[null,"E",{"$f":"VLOOKUP(日本標準産業分類!B508,作業シート!$C$2:$D$21,2)","v":"製造業"},23,{"$f":"VLOOKUP(D508,作業シート!$F$2:$G$100,2)","v":"非鉄金属製造業"},233,{"$f":"VLOOKUP(F508,作業シート!$I$2:$J$531,2)","v":"非鉄金属・同合金圧延業（抽伸，押出しを含む）"},2339,"その他の非鉄金属・同合金圧延業（抽伸，押出しを含む）","E-23-233-2339","製造業その他"]
[null,"E",{"$f":"VLOOKUP(日本標準産業分類!B509,作業シート!$C$2:$D$21,2)","v":"製造業"},23,{"$f":"VLOOKUP(D509,作業シート!$F$2:$G$100,2)","v":"非鉄金属製造業"},234,{"$f":"VLOOKUP(F509,作業シート!$I$2:$J$531,2)","v":"電線・ケーブル製造業"},2341,"電線・ケーブル製造業（光ファイバケーブルを除く）","E-23-234-2341","製造業その他"]
[null,"E",{"$f":"VLOOKUP(日本標準産業分類!B510,作業シート!$C$2:$D$21,2)","v":"製造業"},23,{"$f":"VLOOKUP(D510,作業シート!$F$2:$G$100,2)","v":"非鉄金属製造業"},234,{"$f":"VLOOKUP(F510,作業シート!$I$2:$J$531,2)","v":"電線・ケーブル製造業"},2342,"光ファイバケーブル製造業（通信複合ケーブルを含む）","E-23-234-2342","製造業その他"]
[null,"E",{"$f":"VLOOKUP(日本標準産業分類!B511,作業シート!$C$2:$D$21,2)","v":"製造業"},23,{"$f":"VLOOKUP(D511,作業シート!$F$2:$G$100,2)","v":"非鉄金属製造業"},235,{"$f":"VLOOKUP(F511,作業シート!$I$2:$J$531,2)","v":"非鉄金属素形材製造業"},2351,"銅・同合金鋳物製造業（ダイカストを除く）","E-23-235-2351","製造業その他"]
[null,"E",{"$f":"VLOOKUP(日本標準産業分類!B512,作業シート!$C$2:$D$21,2)","v":"製造業"},23,{"$f":"VLOOKUP(D512,作業シート!$F$2:$G$100,2)","v":"非鉄金属製造業"},235,{"$f":"VLOOKUP(F512,作業シート!$I$2:$J$531,2)","v":"非鉄金属素形材製造業"},2352,"非鉄金属鋳物製造業（銅・同合金鋳物及びダイカストを除く）","E-23-235-2352","製造業その他"]
[null,"E",{"$f":"VLOOKUP(日本標準産業分類!B513,作業シート!$C$2:$D$21,2)","v":"製造業"},23,{"$f":"VLOOKUP(D513,作業シート!$F$2:$G$100,2)","v":"非鉄金属製造業"},235,{"$f":"VLOOKUP(F513,作業シート!$I$2:$J$531,2)","v":"非鉄金属素形材製造業"},2353,"アルミニウム・同合金ダイカスト製造業","E-23-235-2353","製造業その他"]
[null,"E",{"$f":"VLOOKUP(日本標準産業分類!B514,作業シート!$C$2:$D$21,2)","v":"製造業"},23,{"$f":"VLOOKUP(D514,作業シート!$F$2:$G$100,2)","v":"非鉄金属製造業"},235,{"$f":"VLOOKUP(F514,作業シート!$I$2:$J$531,2)","v":"非鉄金属素形材製造業"},2354,"非鉄金属ダイカスト製造業（アルミニウム・同合金ダイカストを除く）","E-23-235-2354","製造業その他"]
[null,"E",{"$f":"VLOOKUP(日本標準産業分類!B515,作業シート!$C$2:$D$21,2)","v":"製造業"},23,{"$f":"VLOOKUP(D515,作業シート!$F$2:$G$100,2)","v":"非鉄金属製造業"},235,{"$f":"VLOOKUP(F515,作業シート!$I$2:$J$531,2)","v":"非鉄金属素形材製造業"},2355,"非鉄金属鍛造品製造業","E-23-235-2355","製造業その他"]
[null,"E",{"$f":"VLOOKUP(日本標準産業分類!B516,作業シート!$C$2:$D$21,2)","v":"製造業"},23,{"$f":"VLOOKUP(D516,作業シート!$F$2:$G$100,2)","v":"非鉄金属製造業"},239,{"$f":"VLOOKUP(F516,作業シート!$I$2:$J$531,2)","v":"その他の非鉄金属製造業"},2391,"核燃料製造業","E-23-239-2391","製造業その他"]
[null,"E",{"$f":"VLOOKUP(日本標準産業分類!B517,作業シート!$C$2:$D$21,2)","v":"製造業"},23,{"$f":"VLOOKUP(D517,作業シート!$F$2:$G$100,2)","v":"非鉄金属製造業"},239,{"$f":"VLOOKUP(F517,作業シート!$I$2:$J$531,2)","v":"その他の非鉄金属製造業"},2399,"他に分類されない非鉄金属製造業","E-23-239-2399","製造業その他"]
[null,"E",{"$f":"VLOOKUP(日本標準産業分類!B518,作業シート!$C$2:$D$21,2)","v":"製造業"},24,{"$f":"VLOOKUP(D518,作業シート!$F$2:$G$100,2)","v":"金属製品製造業"},240,{"$f":"VLOOKUP(F518,作業シート!$I$2:$J$531,2)","v":"管理，補助的経済活動を行う事業所（24金属製品製造業）"},2400,"主として管理事務を行う本社等","E-24-240-2400","製造業その他"]
[null,"E",{"$f":"VLOOKUP(日本標準産業分類!B519,作業シート!$C$2:$D$21,2)","v":"製造業"},24,{"$f":"VLOOKUP(D519,作業シート!$F$2:$G$100,2)","v":"金属製品製造業"},240,{"$f":"VLOOKUP(F519,作業シート!$I$2:$J$531,2)","v":"管理，補助的経済活動を行う事業所（24金属製品製造業）"},2409,"その他の管理，補助的経済活動を行う事業所","E-24-240-2409","製造業その他"]
[null,"E",{"$f":"VLOOKUP(日本標準産業分類!B520,作業シート!$C$2:$D$21,2)","v":"製造業"},24,{"$f":"VLOOKUP(D520,作業シート!$F$2:$G$100,2)","v":"金属製品製造業"},241,{"$f":"VLOOKUP(F520,作業シート!$I$2:$J$531,2)","v":"ブリキ缶・その他のめっき板等製品製造業"},2411,"ブリキ缶・その他のめっき板等製品製造業",{"$f":"CONCATENATE(B520,\"-\",D520,\"-\",F520,\"-\",H520)","v":"E-24-241-2411"},"製造業その他"]
[null,"E",{"$f":"VLOOKUP(日本標準産業分類!B521,作業シート!$C$2:$D$21,2)","v":"製造業"},24,{"$f":"VLOOKUP(D521,作業シート!$F$2:$G$100,2)","v":"金属製品製造業"},242,{"$f":"VLOOKUP(F521,作業シート!$I$2:$J$531,2)","v":"洋食器・刃物・手道具・金物類製造業"},2421,"洋食器製造業","E-24-242-2421","製造業その他"]
[null,"E",{"$f":"VLOOKUP(日本標準産業分類!B522,作業シート!$C$2:$D$21,2)","v":"製造業"},24,{"$f":"VLOOKUP(D522,作業シート!$F$2:$G$100,2)","v":"金属製品製造業"},242,{"$f":"VLOOKUP(F522,作業シート!$I$2:$J$531,2)","v":"洋食器・刃物・手道具・金物類製造業"},2422,"機械刃物製造業","E-24-242-2422","製造業その他"]
[null,"E",{"$f":"VLOOKUP(日本標準産業分類!B523,作業シート!$C$2:$D$21,2)","v":"製造業"},24,{"$f":"VLOOKUP(D523,作業シート!$F$2:$G$100,2)","v":"金属製品製造業"},242,{"$f":"VLOOKUP(F523,作業シート!$I$2:$J$531,2)","v":"洋食器・刃物・手道具・金物類製造業"},2423,"利器工匠具・手道具製造業（やすり，のこぎり，食卓用刃物を除く）","E-24-242-2423","製造業その他"]
[null,"E",{"$f":"VLOOKUP(日本標準産業分類!B524,作業シート!$C$2:$D$21,2)","v":"製造業"},24,{"$f":"VLOOKUP(D524,作業シート!$F$2:$G$100,2)","v":"金属製品製造業"},242,{"$f":"VLOOKUP(F524,作業シート!$I$2:$J$531,2)","v":"洋食器・刃物・手道具・金物類製造業"},2424,"作業工具製造業","E-24-242-2424","製造業その他"]
[null,"E",{"$f":"VLOOKUP(日本標準産業分類!B525,作業シート!$C$2:$D$21,2)","v":"製造業"},24,{"$f":"VLOOKUP(D525,作業シート!$F$2:$G$100,2)","v":"金属製品製造業"},242,{"$f":"VLOOKUP(F525,作業シート!$I$2:$J$531,2)","v":"洋食器・刃物・手道具・金物類製造業"},2425,"手引のこぎり・のこ刃製造業","E-24-242-2425","製造業その他"]
[null,"E",{"$f":"VLOOKUP(日本標準産業分類!B526,作業シート!$C$2:$D$21,2)","v":"製造業"},24,{"$f":"VLOOKUP(D526,作業シート!$F$2:$G$100,2)","v":"金属製品製造業"},242,{"$f":"VLOOKUP(F526,作業シート!$I$2:$J$531,2)","v":"洋食器・刃物・手道具・金物類製造業"},2426,"農業用器具製造業（農業用機械を除く）","E-24-242-2426","製造業その他"]
[null,"E",{"$f":"VLOOKUP(日本標準産業分類!B527,作業シート!$C$2:$D$21,2)","v":"製造業"},24,{"$f":"VLOOKUP(D527,作業シート!$F$2:$G$100,2)","v":"金属製品製造業"},242,{"$f":"VLOOKUP(F527,作業シート!$I$2:$J$531,2)","v":"洋食器・刃物・手道具・金物類製造業"},2429,"その他の金物類製造業","E-24-242-2429","製造業その他"]
[null,"E",{"$f":"VLOOKUP(日本標準産業分類!B528,作業シート!$C$2:$D$21,2)","v":"製造業"},24,{"$f":"VLOOKUP(D528,作業シート!$F$2:$G$100,2)","v":"金属製品製造業"},243,{"$f":"VLOOKUP(F528,作業シート!$I$2:$J$531,2)","v":"暖房・調理等装置,配管工事用附属品製造業"},2431,"配管工事用附属品製造業（バルブ，コックを除く）","E-24-243-2431","製造業その他"]
[null,"E",{"$f":"VLOOKUP(日本標準産業分類!B529,作業シート!$C$2:$D$21,2)","v":"製造業"},24,{"$f":"VLOOKUP(D529,作業シート!$F$2:$G$100,2)","v":"金属製品製造業"},243,{"$f":"VLOOKUP(F529,作業シート!$I$2:$J$531,2)","v":"暖房・調理等装置,配管工事用附属品製造業"},2432,"ガス機器・石油機器製造業","E-24-243-2432","製造業その他"]
[null,"E",{"$f":"VLOOKUP(日本標準産業分類!B530,作業シート!$C$2:$D$21,2)","v":"製造業"},24,{"$f":"VLOOKUP(D530,作業シート!$F$2:$G$100,2)","v":"金属製品製造業"},243,{"$f":"VLOOKUP(F530,作業シート!$I$2:$J$531,2)","v":"暖房・調理等装置,配管工事用附属品製造業"},2433,"温風・温水暖房装置製造業","E-24-243-2433","製造業その他"]
[null,"E",{"$f":"VLOOKUP(日本標準産業分類!B531,作業シート!$C$2:$D$21,2)","v":"製造業"},24,{"$f":"VLOOKUP(D531,作業シート!$F$2:$G$100,2)","v":"金属製品製造業"},243,{"$f":"VLOOKUP(F531,作業シート!$I$2:$J$531,2)","v":"暖房・調理等装置,配管工事用附属品製造業"},2439,"その他の暖房・調理装置製造業（電気機械器具，ガス機器，石油機器を除く）","E-24-243-2439","製造業その他"]
[null,"E",{"$f":"VLOOKUP(日本標準産業分類!B532,作業シート!$C$2:$D$21,2)","v":"製造業"},24,{"$f":"VLOOKUP(D532,作業シート!$F$2:$G$100,2)","v":"金属製品製造業"},244,{"$f":"VLOOKUP(F532,作業シート!$I$2:$J$531,2)","v":"建設用・建築用金属製品製造業（製缶板金業を含む)"},2441,"鉄骨製造業","E-24-244-2441","製造業その他"]
[null,"E",{"$f":"VLOOKUP(日本標準産業分類!B533,作業シート!$C$2:$D$21,2)","v":"製造業"},24,{"$f":"VLOOKUP(D533,作業シート!$F$2:$G$100,2)","v":"金属製品製造業"},244,{"$f":"VLOOKUP(F533,作業シート!$I$2:$J$531,2)","v":"建設用・建築用金属製品製造業（製缶板金業を含む)"},2442,"建設用金属製品製造業（鉄骨を除く）","E-24-244-2442","製造業その他"]
[null,"E",{"$f":"VLOOKUP(日本標準産業分類!B534,作業シート!$C$2:$D$21,2)","v":"製造業"},24,{"$f":"VLOOKUP(D534,作業シート!$F$2:$G$100,2)","v":"金属製品製造業"},244,{"$f":"VLOOKUP(F534,作業シート!$I$2:$J$531,2)","v":"建設用・建築用金属製品製造業（製缶板金業を含む)"},2443,"金属製サッシ・ドア製造業","E-24-244-2443","製造業その他"]
[null,"E",{"$f":"VLOOKUP(日本標準産業分類!B535,作業シート!$C$2:$D$21,2)","v":"製造業"},24,{"$f":"VLOOKUP(D535,作業シート!$F$2:$G$100,2)","v":"金属製品製造業"},244,{"$f":"VLOOKUP(F535,作業シート!$I$2:$J$531,2)","v":"建設用・建築用金属製品製造業（製缶板金業を含む)"},2444,"鉄骨系プレハブ住宅製造業","E-24-244-2444","製造業その他"]
[null,"E",{"$f":"VLOOKUP(日本標準産業分類!B536,作業シート!$C$2:$D$21,2)","v":"製造業"},24,{"$f":"VLOOKUP(D536,作業シート!$F$2:$G$100,2)","v":"金属製品製造業"},244,{"$f":"VLOOKUP(F536,作業シート!$I$2:$J$531,2)","v":"建設用・建築用金属製品製造業（製缶板金業を含む)"},2445,"建築用金属製品製造業（サッシ，ドア，建築用金物を除く）","E-24-244-2445","製造業その他"]
[null,"E",{"$f":"VLOOKUP(日本標準産業分類!B537,作業シート!$C$2:$D$21,2)","v":"製造業"},24,{"$f":"VLOOKUP(D537,作業シート!$F$2:$G$100,2)","v":"金属製品製造業"},244,{"$f":"VLOOKUP(F537,作業シート!$I$2:$J$531,2)","v":"建設用・建築用金属製品製造業（製缶板金業を含む)"},2446,"製缶板金業","E-24-244-2446","製造業その他"]
[null,"E",{"$f":"VLOOKUP(日本標準産業分類!B538,作業シート!$C$2:$D$21,2)","v":"製造業"},24,{"$f":"VLOOKUP(D538,作業シート!$F$2:$G$100,2)","v":"金属製品製造業"},245,{"$f":"VLOOKUP(F538,作業シート!$I$2:$J$531,2)","v":"金属素形材製品製造業"},2451,"アルミニウム・同合金プレス製品製造業","E-24-245-2451","製造業その他"]
[null,"E",{"$f":"VLOOKUP(日本標準産業分類!B539,作業シート!$C$2:$D$21,2)","v":"製造業"},24,{"$f":"VLOOKUP(D539,作業シート!$F$2:$G$100,2)","v":"金属製品製造業"},245,{"$f":"VLOOKUP(F539,作業シート!$I$2:$J$531,2)","v":"金属素形材製品製造業"},2452,"金属プレス製品製造業（アルミニウム・同合金を除く）","E-24-245-2452","製造業その他"]
[null,"E",{"$f":"VLOOKUP(日本標準産業分類!B540,作業シート!$C$2:$D$21,2)","v":"製造業"},24,{"$f":"VLOOKUP(D540,作業シート!$F$2:$G$100,2)","v":"金属製品製造業"},245,{"$f":"VLOOKUP(F540,作業シート!$I$2:$J$531,2)","v":"金属素形材製品製造業"},2453,"粉末や金製品製造業","E-24-245-2453","製造業その他"]
[null,"E",{"$f":"VLOOKUP(日本標準産業分類!B541,作業シート!$C$2:$D$21,2)","v":"製造業"},24,{"$f":"VLOOKUP(D541,作業シート!$F$2:$G$100,2)","v":"金属製品製造業"},246,{"$f":"VLOOKUP(F541,作業シート!$I$2:$J$531,2)","v":"金属被覆・彫刻業，熱処理業（ほうろう鉄器を除く）"},2461,"金属製品塗装業","E-24-246-2461","製造業その他"]
[null,"E",{"$f":"VLOOKUP(日本標準産業分類!B542,作業シート!$C$2:$D$21,2)","v":"製造業"},24,{"$f":"VLOOKUP(D542,作業シート!$F$2:$G$100,2)","v":"金属製品製造業"},246,{"$f":"VLOOKUP(F542,作業シート!$I$2:$J$531,2)","v":"金属被覆・彫刻業，熱処理業（ほうろう鉄器を除く）"},2462,"溶融めっき業（表面処理鋼材製造業を除く）","E-24-246-2462","製造業その他"]
[null,"E",{"$f":"VLOOKUP(日本標準産業分類!B543,作業シート!$C$2:$D$21,2)","v":"製造業"},24,{"$f":"VLOOKUP(D543,作業シート!$F$2:$G$100,2)","v":"金属製品製造業"},246,{"$f":"VLOOKUP(F543,作業シート!$I$2:$J$531,2)","v":"金属被覆・彫刻業，熱処理業（ほうろう鉄器を除く）"},2463,"金属彫刻業","E-24-246-2463","製造業その他"]
[null,"E",{"$f":"VLOOKUP(日本標準産業分類!B544,作業シート!$C$2:$D$21,2)","v":"製造業"},24,{"$f":"VLOOKUP(D544,作業シート!$F$2:$G$100,2)","v":"金属製品製造業"},246,{"$f":"VLOOKUP(F544,作業シート!$I$2:$J$531,2)","v":"金属被覆・彫刻業，熱処理業（ほうろう鉄器を除く）"},2464,"電気めっき業（表面処理鋼材製造業を除く）","E-24-246-2464","製造業その他"]
[null,"E",{"$f":"VLOOKUP(日本標準産業分類!B545,作業シート!$C$2:$D$21,2)","v":"製造業"},24,{"$f":"VLOOKUP(D545,作業シート!$F$2:$G$100,2)","v":"金属製品製造業"},246,{"$f":"VLOOKUP(F545,作業シート!$I$2:$J$531,2)","v":"金属被覆・彫刻業，熱処理業（ほうろう鉄器を除く）"},2465,"金属熱処理業","E-24-246-2465","製造業その他"]
[null,"E",{"$f":"VLOOKUP(日本標準産業分類!B546,作業シート!$C$2:$D$21,2)","v":"製造業"},24,{"$f":"VLOOKUP(D546,作業シート!$F$2:$G$100,2)","v":"金属製品製造業"},246,{"$f":"VLOOKUP(F546,作業シート!$I$2:$J$531,2)","v":"金属被覆・彫刻業，熱処理業（ほうろう鉄器を除く）"},2469,"その他の金属表面処理業","E-24-246-2469","製造業その他"]
[null,"E",{"$f":"VLOOKUP(日本標準産業分類!B547,作業シート!$C$2:$D$21,2)","v":"製造業"},24,{"$f":"VLOOKUP(D547,作業シート!$F$2:$G$100,2)","v":"金属製品製造業"},247,{"$f":"VLOOKUP(F547,作業シート!$I$2:$J$531,2)","v":"金属線製品製造業（ねじ類を除く)"},2471,"くぎ製造業","E-24-247-2471","製造業その他"]
[null,"E",{"$f":"VLOOKUP(日本標準産業分類!B548,作業シート!$C$2:$D$21,2)","v":"製造業"},24,{"$f":"VLOOKUP(D548,作業シート!$F$2:$G$100,2)","v":"金属製品製造業"},247,{"$f":"VLOOKUP(F548,作業シート!$I$2:$J$531,2)","v":"金属線製品製造業（ねじ類を除く)"},2479,"その他の金属線製品製造業","E-24-247-2479","製造業その他"]
[null,"E",{"$f":"VLOOKUP(日本標準産業分類!B549,作業シート!$C$2:$D$21,2)","v":"製造業"},24,{"$f":"VLOOKUP(D549,作業シート!$F$2:$G$100,2)","v":"金属製品製造業"},248,{"$f":"VLOOKUP(F549,作業シート!$I$2:$J$531,2)","v":"ボルト・ナット・リベット・小ねじ・木ねじ等製造業"},2481,"ボルト・ナット・リベット・小ねじ・木ねじ等製造業","E-24-248-2481","製造業その他"]
[null,"E",{"$f":"VLOOKUP(日本標準産業分類!B550,作業シート!$C$2:$D$21,2)","v":"製造業"},24,{"$f":"VLOOKUP(D550,作業シート!$F$2:$G$100,2)","v":"金属製品製造業"},249,{"$f":"VLOOKUP(F550,作業シート!$I$2:$J$531,2)","v":"その他の金属製品製造業"},2491,"金庫製造業","E-24-249-2491","製造業その他"]
[null,"E",{"$f":"VLOOKUP(日本標準産業分類!B551,作業シート!$C$2:$D$21,2)","v":"製造業"},24,{"$f":"VLOOKUP(D551,作業シート!$F$2:$G$100,2)","v":"金属製品製造業"},249,{"$f":"VLOOKUP(F551,作業シート!$I$2:$J$531,2)","v":"その他の金属製品製造業"},2492,"金属製スプリング製造業","E-24-249-2492","製造業その他"]
[null,"E",{"$f":"VLOOKUP(日本標準産業分類!B552,作業シート!$C$2:$D$21,2)","v":"製造業"},24,{"$f":"VLOOKUP(D552,作業シート!$F$2:$G$100,2)","v":"金属製品製造業"},249,{"$f":"VLOOKUP(F552,作業シート!$I$2:$J$531,2)","v":"その他の金属製品製造業"},2499,"他に分類されない金属製品製造業","E-24-249-2499","製造業その他"]
[null,"E",{"$f":"VLOOKUP(日本標準産業分類!B553,作業シート!$C$2:$D$21,2)","v":"製造業"},25,{"$f":"VLOOKUP(D553,作業シート!$F$2:$G$100,2)","v":"はん用機械器具製造業"},250,{"$f":"VLOOKUP(F553,作業シート!$I$2:$J$531,2)","v":"管理，補助的経済活動を行う事業所（25はん用機械器具製造業）"},2500,"主として管理事務を行う本社等","E-25-250-2500","製造業その他"]
[null,"E",{"$f":"VLOOKUP(日本標準産業分類!B554,作業シート!$C$2:$D$21,2)","v":"製造業"},25,{"$f":"VLOOKUP(D554,作業シート!$F$2:$G$100,2)","v":"はん用機械器具製造業"},250,{"$f":"VLOOKUP(F554,作業シート!$I$2:$J$531,2)","v":"管理，補助的経済活動を行う事業所（25はん用機械器具製造業）"},2509,"その他の管理，補助的経済活動を行う事業所","E-25-250-2509","製造業その他"]
[null,"E",{"$f":"VLOOKUP(日本標準産業分類!B555,作業シート!$C$2:$D$21,2)","v":"製造業"},25,{"$f":"VLOOKUP(D555,作業シート!$F$2:$G$100,2)","v":"はん用機械器具製造業"},251,{"$f":"VLOOKUP(F555,作業シート!$I$2:$J$531,2)","v":"ボイラ・原動機製造業"},2511,"ボイラ製造業","E-25-251-2511","製造業その他"]
[null,"E",{"$f":"VLOOKUP(日本標準産業分類!B556,作業シート!$C$2:$D$21,2)","v":"製造業"},25,{"$f":"VLOOKUP(D556,作業シート!$F$2:$G$100,2)","v":"はん用機械器具製造業"},251,{"$f":"VLOOKUP(F556,作業シート!$I$2:$J$531,2)","v":"ボイラ・原動機製造業"},2512,"蒸気機関・タービン・水力タービン製造業（舶用を除く）","E-25-251-2512","製造業その他"]
[null,"E",{"$f":"VLOOKUP(日本標準産業分類!B557,作業シート!$C$2:$D$21,2)","v":"製造業"},25,{"$f":"VLOOKUP(D557,作業シート!$F$2:$G$100,2)","v":"はん用機械器具製造業"},251,{"$f":"VLOOKUP(F557,作業シート!$I$2:$J$531,2)","v":"ボイラ・原動機製造業"},2513,"はん用内燃機関製造業","E-25-251-2513","製造業その他"]
[null,"E",{"$f":"VLOOKUP(日本標準産業分類!B558,作業シート!$C$2:$D$21,2)","v":"製造業"},25,{"$f":"VLOOKUP(D558,作業シート!$F$2:$G$100,2)","v":"はん用機械器具製造業"},251,{"$f":"VLOOKUP(F558,作業シート!$I$2:$J$531,2)","v":"ボイラ・原動機製造業"},2519,"その他の原動機製造業","E-25-251-2519","製造業その他"]
[null,"E",{"$f":"VLOOKUP(日本標準産業分類!B559,作業シート!$C$2:$D$21,2)","v":"製造業"},25,{"$f":"VLOOKUP(D559,作業シート!$F$2:$G$100,2)","v":"はん用機械器具製造業"},252,{"$f":"VLOOKUP(F559,作業シート!$I$2:$J$531,2)","v":"ポンプ・圧縮機器製造業"},2521,"ポンプ・同装置製造業","E-25-252-2521","製造業その他"]
[null,"E",{"$f":"VLOOKUP(日本標準産業分類!B560,作業シート!$C$2:$D$21,2)","v":"製造業"},25,{"$f":"VLOOKUP(D560,作業シート!$F$2:$G$100,2)","v":"はん用機械器具製造業"},252,{"$f":"VLOOKUP(F560,作業シート!$I$2:$J$531,2)","v":"ポンプ・圧縮機器製造業"},2522,"空気圧縮機・ガス圧縮機・送風機製造業","E-25-252-2522","製造業その他"]
[null,"E",{"$f":"VLOOKUP(日本標準産業分類!B561,作業シート!$C$2:$D$21,2)","v":"製造業"},25,{"$f":"VLOOKUP(D561,作業シート!$F$2:$G$100,2)","v":"はん用機械器具製造業"},252,{"$f":"VLOOKUP(F561,作業シート!$I$2:$J$531,2)","v":"ポンプ・圧縮機器製造業"},2523,"油圧・空圧機器製造業","E-25-252-2523","製造業その他"]
[null,"E",{"$f":"VLOOKUP(日本標準産業分類!B562,作業シート!$C$2:$D$21,2)","v":"製造業"},25,{"$f":"VLOOKUP(D562,作業シート!$F$2:$G$100,2)","v":"はん用機械器具製造業"},253,{"$f":"VLOOKUP(F562,作業シート!$I$2:$J$531,2)","v":"一般産業用機械・装置製造業"},2531,"動力伝導装置製造業（玉軸受，ころ軸受を除く）","E-25-253-2531","製造業その他"]
[null,"E",{"$f":"VLOOKUP(日本標準産業分類!B563,作業シート!$C$2:$D$21,2)","v":"製造業"},25,{"$f":"VLOOKUP(D563,作業シート!$F$2:$G$100,2)","v":"はん用機械器具製造業"},253,{"$f":"VLOOKUP(F563,作業シート!$I$2:$J$531,2)","v":"一般産業用機械・装置製造業"},2532,"エレベータ・エスカレータ製造業","E-25-253-2532","製造業その他"]
[null,"E",{"$f":"VLOOKUP(日本標準産業分類!B564,作業シート!$C$2:$D$21,2)","v":"製造業"},25,{"$f":"VLOOKUP(D564,作業シート!$F$2:$G$100,2)","v":"はん用機械器具製造業"},253,{"$f":"VLOOKUP(F564,作業シート!$I$2:$J$531,2)","v":"一般産業用機械・装置製造業"},2533,"物流運搬設備製造業","E-25-253-2533","製造業その他"]
[null,"E",{"$f":"VLOOKUP(日本標準産業分類!B565,作業シート!$C$2:$D$21,2)","v":"製造業"},25,{"$f":"VLOOKUP(D565,作業シート!$F$2:$G$100,2)","v":"はん用機械器具製造業"},253,{"$f":"VLOOKUP(F565,作業シート!$I$2:$J$531,2)","v":"一般産業用機械・装置製造業"},2534,"工業窯炉製造業","E-25-253-2534","製造業その他"]
[null,"E",{"$f":"VLOOKUP(日本標準産業分類!B566,作業シート!$C$2:$D$21,2)","v":"製造業"},25,{"$f":"VLOOKUP(D566,作業シート!$F$2:$G$100,2)","v":"はん用機械器具製造業"},253,{"$f":"VLOOKUP(F566,作業シート!$I$2:$J$531,2)","v":"一般産業用機械・装置製造業"},2535,"冷凍機・温湿調整装置製造業","E-25-253-2535","製造業その他"]
[null,"E",{"$f":"VLOOKUP(日本標準産業分類!B567,作業シート!$C$2:$D$21,2)","v":"製造業"},25,{"$f":"VLOOKUP(D567,作業シート!$F$2:$G$100,2)","v":"はん用機械器具製造業"},259,{"$f":"VLOOKUP(F567,作業シート!$I$2:$J$531,2)","v":"その他のはん用機械・同部分品製造業"},2591,"消火器具・消火装置製造業","E-25-259-2591","製造業その他"]
[null,"E",{"$f":"VLOOKUP(日本標準産業分類!B568,作業シート!$C$2:$D$21,2)","v":"製造業"},25,{"$f":"VLOOKUP(D568,作業シート!$F$2:$G$100,2)","v":"はん用機械器具製造業"},259,{"$f":"VLOOKUP(F568,作業シート!$I$2:$J$531,2)","v":"その他のはん用機械・同部分品製造業"},2592,"弁・同附属品製造業","E-25-259-2592","製造業その他"]
[null,"E",{"$f":"VLOOKUP(日本標準産業分類!B569,作業シート!$C$2:$D$21,2)","v":"製造業"},25,{"$f":"VLOOKUP(D569,作業シート!$F$2:$G$100,2)","v":"はん用機械器具製造業"},259,{"$f":"VLOOKUP(F569,作業シート!$I$2:$J$531,2)","v":"その他のはん用機械・同部分品製造業"},2593,"パイプ加工・パイプ附属品加工業","E-25-259-2593","製造業その他"]
[null,"E",{"$f":"VLOOKUP(日本標準産業分類!B570,作業シート!$C$2:$D$21,2)","v":"製造業"},25,{"$f":"VLOOKUP(D570,作業シート!$F$2:$G$100,2)","v":"はん用機械器具製造業"},259,{"$f":"VLOOKUP(F570,作業シート!$I$2:$J$531,2)","v":"その他のはん用機械・同部分品製造業"},2594,"玉軸受・ころ軸受製造業",{"$f":"CONCATENATE(B570,\"-\",D570,\"-\",F570,\"-\",H570)","v":"E-25-259-2594"},"製造業その他"]
[null,"E",{"$f":"VLOOKUP(日本標準産業分類!B571,作業シート!$C$2:$D$21,2)","v":"製造業"},25,{"$f":"VLOOKUP(D571,作業シート!$F$2:$G$100,2)","v":"はん用機械器具製造業"},259,{"$f":"VLOOKUP(F571,作業シート!$I$2:$J$531,2)","v":"その他のはん用機械・同部分品製造業"},2595,"ピストンリング製造業","E-25-259-2595","製造業その他"]
[null,"E",{"$f":"VLOOKUP(日本標準産業分類!B572,作業シート!$C$2:$D$21,2)","v":"製造業"},25,{"$f":"VLOOKUP(D572,作業シート!$F$2:$G$100,2)","v":"はん用機械器具製造業"},259,{"$f":"VLOOKUP(F572,作業シート!$I$2:$J$531,2)","v":"その他のはん用機械・同部分品製造業"},2596,"他に分類されないはん用機械・装置製造業","E-25-259-2596","製造業その他"]
[null,"E",{"$f":"VLOOKUP(日本標準産業分類!B573,作業シート!$C$2:$D$21,2)","v":"製造業"},25,{"$f":"VLOOKUP(D573,作業シート!$F$2:$G$100,2)","v":"はん用機械器具製造業"},259,{"$f":"VLOOKUP(F573,作業シート!$I$2:$J$531,2)","v":"その他のはん用機械・同部分品製造業"},2599,"各種機械・同部分品製造修理業（注文製造・修理）","E-25-259-2599","製造業その他"]
[null,"E",{"$f":"VLOOKUP(日本標準産業分類!B574,作業シート!$C$2:$D$21,2)","v":"製造業"},26,{"$f":"VLOOKUP(D574,作業シート!$F$2:$G$100,2)","v":"生産用機械器具製造業"},260,{"$f":"VLOOKUP(F574,作業シート!$I$2:$J$531,2)","v":"管理，補助的経済活動を行う事業所（26生産用機械器具製造業）"},2600,"主として管理事務を行う本社等","E-26-260-2600","製造業その他"]
[null,"E",{"$f":"VLOOKUP(日本標準産業分類!B575,作業シート!$C$2:$D$21,2)","v":"製造業"},26,{"$f":"VLOOKUP(D575,作業シート!$F$2:$G$100,2)","v":"生産用機械器具製造業"},260,{"$f":"VLOOKUP(F575,作業シート!$I$2:$J$531,2)","v":"管理，補助的経済活動を行う事業所（26生産用機械器具製造業）"},2609,"その他の管理，補助的経済活動を行う事業所","E-26-260-2609","製造業その他"]
[null,"E",{"$f":"VLOOKUP(日本標準産業分類!B576,作業シート!$C$2:$D$21,2)","v":"製造業"},26,{"$f":"VLOOKUP(D576,作業シート!$F$2:$G$100,2)","v":"生産用機械器具製造業"},261,{"$f":"VLOOKUP(F576,作業シート!$I$2:$J$531,2)","v":"農業用機械製造業（農業用器具を除く）"},2611,"農業用機械製造業（農業用器具を除く）","E-26-261-2611","製造業その他"]
[null,"E",{"$f":"VLOOKUP(日本標準産業分類!B577,作業シート!$C$2:$D$21,2)","v":"製造業"},26,{"$f":"VLOOKUP(D577,作業シート!$F$2:$G$100,2)","v":"生産用機械器具製造業"},262,{"$f":"VLOOKUP(F577,作業シート!$I$2:$J$531,2)","v":"建設機械・鉱山機械製造業"},2621,"建設機械・鉱山機械製造業","E-26-262-2621","製造業その他"]
[null,"E",{"$f":"VLOOKUP(日本標準産業分類!B578,作業シート!$C$2:$D$21,2)","v":"製造業"},26,{"$f":"VLOOKUP(D578,作業シート!$F$2:$G$100,2)","v":"生産用機械器具製造業"},263,{"$f":"VLOOKUP(F578,作業シート!$I$2:$J$531,2)","v":"繊維機械製造業"},2631,"化学繊維機械・紡績機械製造業","E-26-263-2631","製造業その他"]
[null,"E",{"$f":"VLOOKUP(日本標準産業分類!B579,作業シート!$C$2:$D$21,2)","v":"製造業"},26,{"$f":"VLOOKUP(D579,作業シート!$F$2:$G$100,2)","v":"生産用機械器具製造業"},263,{"$f":"VLOOKUP(F579,作業シート!$I$2:$J$531,2)","v":"繊維機械製造業"},2632,"製織機械・編組機械製造業","E-26-263-2632","製造業その他"]
[null,"E",{"$f":"VLOOKUP(日本標準産業分類!B580,作業シート!$C$2:$D$21,2)","v":"製造業"},26,{"$f":"VLOOKUP(D580,作業シート!$F$2:$G$100,2)","v":"生産用機械器具製造業"},263,{"$f":"VLOOKUP(F580,作業シート!$I$2:$J$531,2)","v":"繊維機械製造業"},2633,"染色整理仕上機械製造業","E-26-263-2633","製造業その他"]
[null,"E",{"$f":"VLOOKUP(日本標準産業分類!B581,作業シート!$C$2:$D$21,2)","v":"製造業"},26,{"$f":"VLOOKUP(D581,作業シート!$F$2:$G$100,2)","v":"生産用機械器具製造業"},263,{"$f":"VLOOKUP(F581,作業シート!$I$2:$J$531,2)","v":"繊維機械製造業"},2634,"繊維機械部分品・取付具・附属品製造業","E-26-263-2634","製造業その他"]
[null,"E",{"$f":"VLOOKUP(日本標準産業分類!B582,作業シート!$C$2:$D$21,2)","v":"製造業"},26,{"$f":"VLOOKUP(D582,作業シート!$F$2:$G$100,2)","v":"生産用機械器具製造業"},263,{"$f":"VLOOKUP(F582,作業シート!$I$2:$J$531,2)","v":"繊維機械製造業"},2635,"縫製機械製造業","E-26-263-2635","製造業その他"]
[null,"E",{"$f":"VLOOKUP(日本標準産業分類!B583,作業シート!$C$2:$D$21,2)","v":"製造業"},26,{"$f":"VLOOKUP(D583,作業シート!$F$2:$G$100,2)","v":"生産用機械器具製造業"},264,{"$f":"VLOOKUP(F583,作業シート!$I$2:$J$531,2)","v":"生活関連産業用機械製造業"},2641,"食品機械・同装置製造業","E-26-264-2641","製造業その他"]
[null,"E",{"$f":"VLOOKUP(日本標準産業分類!B584,作業シート!$C$2:$D$21,2)","v":"製造業"},26,{"$f":"VLOOKUP(D584,作業シート!$F$2:$G$100,2)","v":"生産用機械器具製造業"},264,{"$f":"VLOOKUP(F584,作業シート!$I$2:$J$531,2)","v":"生活関連産業用機械製造業"},2642,"木材加工機械製造業","E-26-264-2642","製造業その他"]
[null,"E",{"$f":"VLOOKUP(日本標準産業分類!B585,作業シート!$C$2:$D$21,2)","v":"製造業"},26,{"$f":"VLOOKUP(D585,作業シート!$F$2:$G$100,2)","v":"生産用機械器具製造業"},264,{"$f":"VLOOKUP(F585,作業シート!$I$2:$J$531,2)","v":"生活関連産業用機械製造業"},2643,"パルプ装置・製紙機械製造業","E-26-264-2643","製造業その他"]
[null,"E",{"$f":"VLOOKUP(日本標準産業分類!B586,作業シート!$C$2:$D$21,2)","v":"製造業"},26,{"$f":"VLOOKUP(D586,作業シート!$F$2:$G$100,2)","v":"生産用機械器具製造業"},264,{"$f":"VLOOKUP(F586,作業シート!$I$2:$J$531,2)","v":"生活関連産業用機械製造業"},2644,"印刷・製本・紙工機械製造業","E-26-264-2644","製造業その他"]
[null,"E",{"$f":"VLOOKUP(日本標準産業分類!B587,作業シート!$C$2:$D$21,2)","v":"製造業"},26,{"$f":"VLOOKUP(D587,作業シート!$F$2:$G$100,2)","v":"生産用機械器具製造業"},264,{"$f":"VLOOKUP(F587,作業シート!$I$2:$J$531,2)","v":"生活関連産業用機械製造業"},2645,"包装・荷造機械製造業","E-26-264-2645","製造業その他"]
[null,"E",{"$f":"VLOOKUP(日本標準産業分類!B588,作業シート!$C$2:$D$21,2)","v":"製造業"},26,{"$f":"VLOOKUP(D588,作業シート!$F$2:$G$100,2)","v":"生産用機械器具製造業"},265,{"$f":"VLOOKUP(F588,作業シート!$I$2:$J$531,2)","v":"基礎素材産業用機械製造業"},2651,"鋳造装置製造業","E-26-265-2651","製造業その他"]
[null,"E",{"$f":"VLOOKUP(日本標準産業分類!B589,作業シート!$C$2:$D$21,2)","v":"製造業"},26,{"$f":"VLOOKUP(D589,作業シート!$F$2:$G$100,2)","v":"生産用機械器具製造業"},265,{"$f":"VLOOKUP(F589,作業シート!$I$2:$J$531,2)","v":"基礎素材産業用機械製造業"},2652,"化学機械・同装置製造業","E-26-265-2652","製造業その他"]
[null,"E",{"$f":"VLOOKUP(日本標準産業分類!B590,作業シート!$C$2:$D$21,2)","v":"製造業"},26,{"$f":"VLOOKUP(D590,作業シート!$F$2:$G$100,2)","v":"生産用機械器具製造業"},265,{"$f":"VLOOKUP(F590,作業シート!$I$2:$J$531,2)","v":"基礎素材産業用機械製造業"},2653,"プラスチック加工機械・同附属装置製造業","E-26-265-2653","製造業その他"]
[null,"E",{"$f":"VLOOKUP(日本標準産業分類!B591,作業シート!$C$2:$D$21,2)","v":"製造業"},26,{"$f":"VLOOKUP(D591,作業シート!$F$2:$G$100,2)","v":"生産用機械器具製造業"},266,{"$f":"VLOOKUP(F591,作業シート!$I$2:$J$531,2)","v":"金属加工機械製造業"},2661,"金属工作機械製造業","E-26-266-2661","製造業その他"]
[null,"E",{"$f":"VLOOKUP(日本標準産業分類!B592,作業シート!$C$2:$D$21,2)","v":"製造業"},26,{"$f":"VLOOKUP(D592,作業シート!$F$2:$G$100,2)","v":"生産用機械器具製造業"},266,{"$f":"VLOOKUP(F592,作業シート!$I$2:$J$531,2)","v":"金属加工機械製造業"},2662,"金属加工機械製造業（金属工作機械を除く）","E-26-266-2662","製造業その他"]
[null,"E",{"$f":"VLOOKUP(日本標準産業分類!B593,作業シート!$C$2:$D$21,2)","v":"製造業"},26,{"$f":"VLOOKUP(D593,作業シート!$F$2:$G$100,2)","v":"生産用機械器具製造業"},266,{"$f":"VLOOKUP(F593,作業シート!$I$2:$J$531,2)","v":"金属加工機械製造業"},2663,"金属工作機械用・金属加工機械用部分品・附属品製造業（機械工具，金型を除く）","E-26-266-2663","製造業その他"]
[null,"E",{"$f":"VLOOKUP(日本標準産業分類!B594,作業シート!$C$2:$D$21,2)","v":"製造業"},26,{"$f":"VLOOKUP(D594,作業シート!$F$2:$G$100,2)","v":"生産用機械器具製造業"},266,{"$f":"VLOOKUP(F594,作業シート!$I$2:$J$531,2)","v":"金属加工機械製造業"},2664,"機械工具製造業（粉末や金業を除く）","E-26-266-2664","製造業その他"]
[null,"E",{"$f":"VLOOKUP(日本標準産業分類!B595,作業シート!$C$2:$D$21,2)","v":"製造業"},26,{"$f":"VLOOKUP(D595,作業シート!$F$2:$G$100,2)","v":"生産用機械器具製造業"},267,{"$f":"VLOOKUP(F595,作業シート!$I$2:$J$531,2)","v":"半導体・フラットパネルディスプレイ製造装置製造業"},2671,"半導体製造装置製造業","E-26-267-2671","製造業その他"]
[null,"E",{"$f":"VLOOKUP(日本標準産業分類!B596,作業シート!$C$2:$D$21,2)","v":"製造業"},26,{"$f":"VLOOKUP(D596,作業シート!$F$2:$G$100,2)","v":"生産用機械器具製造業"},267,{"$f":"VLOOKUP(F596,作業シート!$I$2:$J$531,2)","v":"半導体・フラットパネルディスプレイ製造装置製造業"},2672,"フラットパネルディスプレイ製造装置製造業","E-26-267-2672","製造業その他"]
[null,"E",{"$f":"VLOOKUP(日本標準産業分類!B597,作業シート!$C$2:$D$21,2)","v":"製造業"},26,{"$f":"VLOOKUP(D597,作業シート!$F$2:$G$100,2)","v":"生産用機械器具製造業"},269,{"$f":"VLOOKUP(F597,作業シート!$I$2:$J$531,2)","v":"その他の生産用機械・同部分品製造業"},2691,"金属用金型・同部分品・附属品製造業","E-26-269-2691","製造業その他"]
[null,"E",{"$f":"VLOOKUP(日本標準産業分類!B598,作業シート!$C$2:$D$21,2)","v":"製造業"},26,{"$f":"VLOOKUP(D598,作業シート!$F$2:$G$100,2)","v":"生産用機械器具製造業"},269,{"$f":"VLOOKUP(F598,作業シート!$I$2:$J$531,2)","v":"その他の生産用機械・同部分品製造業"},2692,"非金属用金型・同部分品・附属品製造業","E-26-269-2692","製造業その他"]
[null,"E",{"$f":"VLOOKUP(日本標準産業分類!B599,作業シート!$C$2:$D$21,2)","v":"製造業"},26,{"$f":"VLOOKUP(D599,作業シート!$F$2:$G$100,2)","v":"生産用機械器具製造業"},269,{"$f":"VLOOKUP(F599,作業シート!$I$2:$J$531,2)","v":"その他の生産用機械・同部分品製造業"},2693,"真空装置・真空機器製造業","E-26-269-2693","製造業その他"]
[null,"E",{"$f":"VLOOKUP(日本標準産業分類!B600,作業シート!$C$2:$D$21,2)","v":"製造業"},26,{"$f":"VLOOKUP(D600,作業シート!$F$2:$G$100,2)","v":"生産用機械器具製造業"},269,{"$f":"VLOOKUP(F600,作業シート!$I$2:$J$531,2)","v":"その他の生産用機械・同部分品製造業"},2694,"ロボット製造業","E-26-269-2694","製造業その他"]
[null,"E",{"$f":"VLOOKUP(日本標準産業分類!B601,作業シート!$C$2:$D$21,2)","v":"製造業"},26,{"$f":"VLOOKUP(D601,作業シート!$F$2:$G$100,2)","v":"生産用機械器具製造業"},269,{"$f":"VLOOKUP(F601,作業シート!$I$2:$J$531,2)","v":"その他の生産用機械・同部分品製造業"},2699,"他に分類されない生産用機械・同部分品製造業","E-26-269-2699","製造業その他"]
[null,"E",{"$f":"VLOOKUP(日本標準産業分類!B602,作業シート!$C$2:$D$21,2)","v":"製造業"},27,{"$f":"VLOOKUP(D602,作業シート!$F$2:$G$100,2)","v":"業務用機械器具製造業"},270,{"$f":"VLOOKUP(F602,作業シート!$I$2:$J$531,2)","v":"管理，補助的経済活動を行う事業所（27業務用機械器具製造業）"},2700,"主として管理事務を行う本社等","E-27-270-2700","製造業その他"]
[null,"E",{"$f":"VLOOKUP(日本標準産業分類!B603,作業シート!$C$2:$D$21,2)","v":"製造業"},27,{"$f":"VLOOKUP(D603,作業シート!$F$2:$G$100,2)","v":"業務用機械器具製造業"},270,{"$f":"VLOOKUP(F603,作業シート!$I$2:$J$531,2)","v":"管理，補助的経済活動を行う事業所（27業務用機械器具製造業）"},2709,"その他の管理，補助的経済活動を行う事業所","E-27-270-2709","製造業その他"]
[null,"E",{"$f":"VLOOKUP(日本標準産業分類!B604,作業シート!$C$2:$D$21,2)","v":"製造業"},27,{"$f":"VLOOKUP(D604,作業シート!$F$2:$G$100,2)","v":"業務用機械器具製造業"},271,{"$f":"VLOOKUP(F604,作業シート!$I$2:$J$531,2)","v":"事務用機械器具製造業"},2711,"複写機製造業","E-27-271-2711","製造業その他"]
[null,"E",{"$f":"VLOOKUP(日本標準産業分類!B605,作業シート!$C$2:$D$21,2)","v":"製造業"},27,{"$f":"VLOOKUP(D605,作業シート!$F$2:$G$100,2)","v":"業務用機械器具製造業"},271,{"$f":"VLOOKUP(F605,作業シート!$I$2:$J$531,2)","v":"事務用機械器具製造業"},2719,"その他の事務用機械器具製造業","E-27-271-2719","製造業その他"]
[null,"E",{"$f":"VLOOKUP(日本標準産業分類!B606,作業シート!$C$2:$D$21,2)","v":"製造業"},27,{"$f":"VLOOKUP(D606,作業シート!$F$2:$G$100,2)","v":"業務用機械器具製造業"},272,{"$f":"VLOOKUP(F606,作業シート!$I$2:$J$531,2)","v":"サービス用・娯楽用機械器具製造業"},2721,"サービス用機械器具製造業","E-27-272-2721","製造業その他"]
[null,"E",{"$f":"VLOOKUP(日本標準産業分類!B607,作業シート!$C$2:$D$21,2)","v":"製造業"},27,{"$f":"VLOOKUP(D607,作業シート!$F$2:$G$100,2)","v":"業務用機械器具製造業"},272,{"$f":"VLOOKUP(F607,作業シート!$I$2:$J$531,2)","v":"サービス用・娯楽用機械器具製造業"},2722,"娯楽用機械製造業","E-27-272-2722","製造業その他"]
[null,"E",{"$f":"VLOOKUP(日本標準産業分類!B608,作業シート!$C$2:$D$21,2)","v":"製造業"},27,{"$f":"VLOOKUP(D608,作業シート!$F$2:$G$100,2)","v":"業務用機械器具製造業"},272,{"$f":"VLOOKUP(F608,作業シート!$I$2:$J$531,2)","v":"サービス用・娯楽用機械器具製造業"},2723,"自動販売機製造業","E-27-272-2723","製造業その他"]
[null,"E",{"$f":"VLOOKUP(日本標準産業分類!B609,作業シート!$C$2:$D$21,2)","v":"製造業"},27,{"$f":"VLOOKUP(D609,作業シート!$F$2:$G$100,2)","v":"業務用機械器具製造業"},272,{"$f":"VLOOKUP(F609,作業シート!$I$2:$J$531,2)","v":"サービス用・娯楽用機械器具製造業"},2729,"その他のサービス用・娯楽用機械器具製造業","E-27-272-2729","製造業その他"]
[null,"E",{"$f":"VLOOKUP(日本標準産業分類!B610,作業シート!$C$2:$D$21,2)","v":"製造業"},27,{"$f":"VLOOKUP(D610,作業シート!$F$2:$G$100,2)","v":"業務用機械器具製造業"},273,{"$f":"VLOOKUP(F610,作業シート!$I$2:$J$531,2)","v":"計量器・測定器・分析機器・試験機・測量機械器具・理化学機械器具製造業"},2731,"体積計製造業","E-27-273-2731","製造業その他"]
[null,"E",{"$f":"VLOOKUP(日本標準産業分類!B611,作業シート!$C$2:$D$21,2)","v":"製造業"},27,{"$f":"VLOOKUP(D611,作業シート!$F$2:$G$100,2)","v":"業務用機械器具製造業"},273,{"$f":"VLOOKUP(F611,作業シート!$I$2:$J$531,2)","v":"計量器・測定器・分析機器・試験機・測量機械器具・理化学機械器具製造業"},2732,"はかり製造業","E-27-273-2732","製造業その他"]
[null,"E",{"$f":"VLOOKUP(日本標準産業分類!B612,作業シート!$C$2:$D$21,2)","v":"製造業"},27,{"$f":"VLOOKUP(D612,作業シート!$F$2:$G$100,2)","v":"業務用機械器具製造業"},273,{"$f":"VLOOKUP(F612,作業シート!$I$2:$J$531,2)","v":"計量器・測定器・分析機器・試験機・測量機械器具・理化学機械器具製造業"},2733,"圧力計・流量計・液面計等製造業","E-27-273-2733","製造業その他"]
[null,"E",{"$f":"VLOOKUP(日本標準産業分類!B613,作業シート!$C$2:$D$21,2)","v":"製造業"},27,{"$f":"VLOOKUP(D613,作業シート!$F$2:$G$100,2)","v":"業務用機械器具製造業"},273,{"$f":"VLOOKUP(F613,作業シート!$I$2:$J$531,2)","v":"計量器・測定器・分析機器・試験機・測量機械器具・理化学機械器具製造業"},2734,"精密測定器製造業","E-27-273-2734","製造業その他"]
[null,"E",{"$f":"VLOOKUP(日本標準産業分類!B614,作業シート!$C$2:$D$21,2)","v":"製造業"},27,{"$f":"VLOOKUP(D614,作業シート!$F$2:$G$100,2)","v":"業務用機械器具製造業"},273,{"$f":"VLOOKUP(F614,作業シート!$I$2:$J$531,2)","v":"計量器・測定器・分析機器・試験機・測量機械器具・理化学機械器具製造業"},2735,"分析機器製造業","E-27-273-2735","製造業その他"]
[null,"E",{"$f":"VLOOKUP(日本標準産業分類!B615,作業シート!$C$2:$D$21,2)","v":"製造業"},27,{"$f":"VLOOKUP(D615,作業シート!$F$2:$G$100,2)","v":"業務用機械器具製造業"},273,{"$f":"VLOOKUP(F615,作業シート!$I$2:$J$531,2)","v":"計量器・測定器・分析機器・試験機・測量機械器具・理化学機械器具製造業"},2736,"試験機製造業","E-27-273-2736","製造業その他"]
[null,"E",{"$f":"VLOOKUP(日本標準産業分類!B616,作業シート!$C$2:$D$21,2)","v":"製造業"},27,{"$f":"VLOOKUP(D616,作業シート!$F$2:$G$100,2)","v":"業務用機械器具製造業"},273,{"$f":"VLOOKUP(F616,作業シート!$I$2:$J$531,2)","v":"計量器・測定器・分析機器・試験機・測量機械器具・理化学機械器具製造業"},2737,"測量機械器具製造業","E-27-273-2737","製造業その他"]
[null,"E",{"$f":"VLOOKUP(日本標準産業分類!B617,作業シート!$C$2:$D$21,2)","v":"製造業"},27,{"$f":"VLOOKUP(D617,作業シート!$F$2:$G$100,2)","v":"業務用機械器具製造業"},273,{"$f":"VLOOKUP(F617,作業シート!$I$2:$J$531,2)","v":"計量器・測定器・分析機器・試験機・測量機械器具・理化学機械器具製造業"},2738,"理化学機械器具製造業","E-27-273-2738","製造業その他"]
[null,"E",{"$f":"VLOOKUP(日本標準産業分類!B618,作業シート!$C$2:$D$21,2)","v":"製造業"},27,{"$f":"VLOOKUP(D618,作業シート!$F$2:$G$100,2)","v":"業務用機械器具製造業"},273,{"$f":"VLOOKUP(F618,作業シート!$I$2:$J$531,2)","v":"計量器・測定器・分析機器・試験機・測量機械器具・理化学機械器具製造業"},2739,"その他の計量器・測定器・分析機器・試験機・測量機械器具・理化学機械器具製造業","E-27-273-2739","製造業その他"]
[null,"E",{"$f":"VLOOKUP(日本標準産業分類!B619,作業シート!$C$2:$D$21,2)","v":"製造業"},27,{"$f":"VLOOKUP(D619,作業シート!$F$2:$G$100,2)","v":"業務用機械器具製造業"},274,{"$f":"VLOOKUP(F619,作業シート!$I$2:$J$531,2)","v":"医療用機械器具・医療用品製造業"},2741,"医療用機械器具製造業",{"$f":"CONCATENATE(B619,\"-\",D619,\"-\",F619,\"-\",H619)","v":"E-27-274-2741"},"製造業その他"]
[null,"E",{"$f":"VLOOKUP(日本標準産業分類!B620,作業シート!$C$2:$D$21,2)","v":"製造業"},27,{"$f":"VLOOKUP(D620,作業シート!$F$2:$G$100,2)","v":"業務用機械器具製造業"},274,{"$f":"VLOOKUP(F620,作業シート!$I$2:$J$531,2)","v":"医療用機械器具・医療用品製造業"},2742,"歯科用機械器具製造業","E-27-274-2742","製造業その他"]
[null,"E",{"$f":"VLOOKUP(日本標準産業分類!B621,作業シート!$C$2:$D$21,2)","v":"製造業"},27,{"$f":"VLOOKUP(D621,作業シート!$F$2:$G$100,2)","v":"業務用機械器具製造業"},274,{"$f":"VLOOKUP(F621,作業シート!$I$2:$J$531,2)","v":"医療用機械器具・医療用品製造業"},2743,"医療用品製造業（動物用医療機械器具を含む）","E-27-274-2743","製造業その他"]
[null,"E",{"$f":"VLOOKUP(日本標準産業分類!B622,作業シート!$C$2:$D$21,2)","v":"製造業"},27,{"$f":"VLOOKUP(D622,作業シート!$F$2:$G$100,2)","v":"業務用機械器具製造業"},274,{"$f":"VLOOKUP(F622,作業シート!$I$2:$J$531,2)","v":"医療用機械器具・医療用品製造業"},2744,"歯科材料製造業","E-27-274-2744","製造業その他"]
[null,"E",{"$f":"VLOOKUP(日本標準産業分類!B623,作業シート!$C$2:$D$21,2)","v":"製造業"},27,{"$f":"VLOOKUP(D623,作業シート!$F$2:$G$100,2)","v":"業務用機械器具製造業"},275,{"$f":"VLOOKUP(F623,作業シート!$I$2:$J$531,2)","v":"光学機械器具・レンズ製造業"},2751,"顕微鏡・望遠鏡等製造業","E-27-275-2751","製造業その他"]
[null,"E",{"$f":"VLOOKUP(日本標準産業分類!B624,作業シート!$C$2:$D$21,2)","v":"製造業"},27,{"$f":"VLOOKUP(D624,作業シート!$F$2:$G$100,2)","v":"業務用機械器具製造業"},275,{"$f":"VLOOKUP(F624,作業シート!$I$2:$J$531,2)","v":"光学機械器具・レンズ製造業"},2752,"写真機・映画用機械・同附属品製造業","E-27-275-2752","製造業その他"]
[null,"E",{"$f":"VLOOKUP(日本標準産業分類!B625,作業シート!$C$2:$D$21,2)","v":"製造業"},27,{"$f":"VLOOKUP(D625,作業シート!$F$2:$G$100,2)","v":"業務用機械器具製造業"},275,{"$f":"VLOOKUP(F625,作業シート!$I$2:$J$531,2)","v":"光学機械器具・レンズ製造業"},2753,"光学機械用レンズ・プリズム製造業","E-27-275-2753","製造業その他"]
[null,"E",{"$f":"VLOOKUP(日本標準産業分類!B626,作業シート!$C$2:$D$21,2)","v":"製造業"},27,{"$f":"VLOOKUP(D626,作業シート!$F$2:$G$100,2)","v":"業務用機械器具製造業"},276,{"$f":"VLOOKUP(F626,作業シート!$I$2:$J$531,2)","v":"武器製造業"},2761,"武器製造業","E-27-276-2761","製造業その他"]
[null,"E",{"$f":"VLOOKUP(日本標準産業分類!B627,作業シート!$C$2:$D$21,2)","v":"製造業"},28,{"$f":"VLOOKUP(D627,作業シート!$F$2:$G$100,2)","v":"電子部品・デバイス・電子回路製造業"},280,{"$f":"VLOOKUP(F627,作業シート!$I$2:$J$531,2)","v":"管理，補助的経済活動を行う事業所（28電子部品・デバイス・電子回路製造業）"},2800,"主として管理事務を行う本社等","E-28-280-2800","製造業その他"]
[null,"E",{"$f":"VLOOKUP(日本標準産業分類!B628,作業シート!$C$2:$D$21,2)","v":"製造業"},28,{"$f":"VLOOKUP(D628,作業シート!$F$2:$G$100,2)","v":"電子部品・デバイス・電子回路製造業"},280,{"$f":"VLOOKUP(F628,作業シート!$I$2:$J$531,2)","v":"管理，補助的経済活動を行う事業所（28電子部品・デバイス・電子回路製造業）"},2809,"その他の管理，補助的経済活動を行う事業所","E-28-280-2809","製造業その他"]
[null,"E",{"$f":"VLOOKUP(日本標準産業分類!B629,作業シート!$C$2:$D$21,2)","v":"製造業"},28,{"$f":"VLOOKUP(D629,作業シート!$F$2:$G$100,2)","v":"電子部品・デバイス・電子回路製造業"},281,{"$f":"VLOOKUP(F629,作業シート!$I$2:$J$531,2)","v":"電子デバイス製造業"},2811,"電子管製造業","E-28-281-2811","製造業その他"]
[null,"E",{"$f":"VLOOKUP(日本標準産業分類!B630,作業シート!$C$2:$D$21,2)","v":"製造業"},28,{"$f":"VLOOKUP(D630,作業シート!$F$2:$G$100,2)","v":"電子部品・デバイス・電子回路製造業"},281,{"$f":"VLOOKUP(F630,作業シート!$I$2:$J$531,2)","v":"電子デバイス製造業"},2812,"光電変換素子製造業","E-28-281-2812","製造業その他"]
[null,"E",{"$f":"VLOOKUP(日本標準産業分類!B631,作業シート!$C$2:$D$21,2)","v":"製造業"},28,{"$f":"VLOOKUP(D631,作業シート!$F$2:$G$100,2)","v":"電子部品・デバイス・電子回路製造業"},281,{"$f":"VLOOKUP(F631,作業シート!$I$2:$J$531,2)","v":"電子デバイス製造業"},2813,"半導体素子製造業（光電変換素子を除く）","E-28-281-2813","製造業その他"]
[null,"E",{"$f":"VLOOKUP(日本標準産業分類!B632,作業シート!$C$2:$D$21,2)","v":"製造業"},28,{"$f":"VLOOKUP(D632,作業シート!$F$2:$G$100,2)","v":"電子部品・デバイス・電子回路製造業"},281,{"$f":"VLOOKUP(F632,作業シート!$I$2:$J$531,2)","v":"電子デバイス製造業"},2814,"集積回路製造業","E-28-281-2814","製造業その他"]
[null,"E",{"$f":"VLOOKUP(日本標準産業分類!B633,作業シート!$C$2:$D$21,2)","v":"製造業"},28,{"$f":"VLOOKUP(D633,作業シート!$F$2:$G$100,2)","v":"電子部品・デバイス・電子回路製造業"},281,{"$f":"VLOOKUP(F633,作業シート!$I$2:$J$531,2)","v":"電子デバイス製造業"},2815,"液晶パネル・フラットパネル製造業","E-28-281-2815","製造業その他"]
[null,"E",{"$f":"VLOOKUP(日本標準産業分類!B634,作業シート!$C$2:$D$21,2)","v":"製造業"},28,{"$f":"VLOOKUP(D634,作業シート!$F$2:$G$100,2)","v":"電子部品・デバイス・電子回路製造業"},282,{"$f":"VLOOKUP(F634,作業シート!$I$2:$J$531,2)","v":"電子部品製造業"},2821,"抵抗器・コンデンサ・変成器・複合部品製造業","E-28-282-2821","製造業その他"]
[null,"E",{"$f":"VLOOKUP(日本標準産業分類!B635,作業シート!$C$2:$D$21,2)","v":"製造業"},28,{"$f":"VLOOKUP(D635,作業シート!$F$2:$G$100,2)","v":"電子部品・デバイス・電子回路製造業"},282,{"$f":"VLOOKUP(F635,作業シート!$I$2:$J$531,2)","v":"電子部品製造業"},2822,"音響部品・磁気ヘッド・小形モータ製造業","E-28-282-2822","製造業その他"]
[null,"E",{"$f":"VLOOKUP(日本標準産業分類!B636,作業シート!$C$2:$D$21,2)","v":"製造業"},28,{"$f":"VLOOKUP(D636,作業シート!$F$2:$G$100,2)","v":"電子部品・デバイス・電子回路製造業"},282,{"$f":"VLOOKUP(F636,作業シート!$I$2:$J$531,2)","v":"電子部品製造業"},2823,"コネクタ・スイッチ・リレー製造業","E-28-282-2823","製造業その他"]
[null,"E",{"$f":"VLOOKUP(日本標準産業分類!B637,作業シート!$C$2:$D$21,2)","v":"製造業"},28,{"$f":"VLOOKUP(D637,作業シート!$F$2:$G$100,2)","v":"電子部品・デバイス・電子回路製造業"},283,{"$f":"VLOOKUP(F637,作業シート!$I$2:$J$531,2)","v":"記録メディア製造業"},2831,"半導体メモリメディア製造業","E-28-283-2831","製造業その他"]
[null,"E",{"$f":"VLOOKUP(日本標準産業分類!B638,作業シート!$C$2:$D$21,2)","v":"製造業"},28,{"$f":"VLOOKUP(D638,作業シート!$F$2:$G$100,2)","v":"電子部品・デバイス・電子回路製造業"},283,{"$f":"VLOOKUP(F638,作業シート!$I$2:$J$531,2)","v":"記録メディア製造業"},2832,"光ディスク・磁気ディスク・磁気テープ製造業","E-28-283-2832","製造業その他"]
[null,"E",{"$f":"VLOOKUP(日本標準産業分類!B639,作業シート!$C$2:$D$21,2)","v":"製造業"},28,{"$f":"VLOOKUP(D639,作業シート!$F$2:$G$100,2)","v":"電子部品・デバイス・電子回路製造業"},284,{"$f":"VLOOKUP(F639,作業シート!$I$2:$J$531,2)","v":"電子回路製造業"},2841,"電子回路基板製造業","E-28-284-2841","製造業その他"]
[null,"E",{"$f":"VLOOKUP(日本標準産業分類!B640,作業シート!$C$2:$D$21,2)","v":"製造業"},28,{"$f":"VLOOKUP(D640,作業シート!$F$2:$G$100,2)","v":"電子部品・デバイス・電子回路製造業"},284,{"$f":"VLOOKUP(F640,作業シート!$I$2:$J$531,2)","v":"電子回路製造業"},2842,"電子回路実装基板製造業","E-28-284-2842","製造業その他"]
[null,"E",{"$f":"VLOOKUP(日本標準産業分類!B641,作業シート!$C$2:$D$21,2)","v":"製造業"},28,{"$f":"VLOOKUP(D641,作業シート!$F$2:$G$100,2)","v":"電子部品・デバイス・電子回路製造業"},285,{"$f":"VLOOKUP(F641,作業シート!$I$2:$J$531,2)","v":"ユニット部品製造業"},2851,"電源ユニット・高周波ユニット・コントロールユニット製造業","E-28-285-2851","製造業その他"]
[null,"E",{"$f":"VLOOKUP(日本標準産業分類!B642,作業シート!$C$2:$D$21,2)","v":"製造業"},28,{"$f":"VLOOKUP(D642,作業シート!$F$2:$G$100,2)","v":"電子部品・デバイス・電子回路製造業"},285,{"$f":"VLOOKUP(F642,作業シート!$I$2:$J$531,2)","v":"ユニット部品製造業"},2859,"その他のユニット部品製造業","E-28-285-2859","製造業その他"]
[null,"E",{"$f":"VLOOKUP(日本標準産業分類!B643,作業シート!$C$2:$D$21,2)","v":"製造業"},28,{"$f":"VLOOKUP(D643,作業シート!$F$2:$G$100,2)","v":"電子部品・デバイス・電子回路製造業"},289,{"$f":"VLOOKUP(F643,作業シート!$I$2:$J$531,2)","v":"その他の電子部品・デバイス・電子回路製造業"},2899,"その他の電子部品・デバイス・電子回路製造業","E-28-289-2899","製造業その他"]
[null,"E",{"$f":"VLOOKUP(日本標準産業分類!B644,作業シート!$C$2:$D$21,2)","v":"製造業"},29,{"$f":"VLOOKUP(D644,作業シート!$F$2:$G$100,2)","v":"電気機械器具製造業"},290,{"$f":"VLOOKUP(F644,作業シート!$I$2:$J$531,2)","v":"管理，補助的経済活動を行う事業所（29電気機械器具製造業）"},2900,"主として管理事務を行う本社等","E-29-290-2900","製造業その他"]
[null,"E",{"$f":"VLOOKUP(日本標準産業分類!B645,作業シート!$C$2:$D$21,2)","v":"製造業"},29,{"$f":"VLOOKUP(D645,作業シート!$F$2:$G$100,2)","v":"電気機械器具製造業"},290,{"$f":"VLOOKUP(F645,作業シート!$I$2:$J$531,2)","v":"管理，補助的経済活動を行う事業所（29電気機械器具製造業）"},2909,"その他の管理，補助的経済活動を行う事業所","E-29-290-2909","製造業その他"]
[null,"E",{"$f":"VLOOKUP(日本標準産業分類!B646,作業シート!$C$2:$D$21,2)","v":"製造業"},29,{"$f":"VLOOKUP(D646,作業シート!$F$2:$G$100,2)","v":"電気機械器具製造業"},291,{"$f":"VLOOKUP(F646,作業シート!$I$2:$J$531,2)","v":"発電用・送電用・配電用電気機械器具製造業"},2911,"発電機・電動機・その他の回転電気機械製造業","E-29-291-2911","製造業その他"]
[null,"E",{"$f":"VLOOKUP(日本標準産業分類!B647,作業シート!$C$2:$D$21,2)","v":"製造業"},29,{"$f":"VLOOKUP(D647,作業シート!$F$2:$G$100,2)","v":"電気機械器具製造業"},291,{"$f":"VLOOKUP(F647,作業シート!$I$2:$J$531,2)","v":"発電用・送電用・配電用電気機械器具製造業"},2912,"変圧器類製造業（電子機器用を除く)","E-29-291-2912","製造業その他"]
[null,"E",{"$f":"VLOOKUP(日本標準産業分類!B648,作業シート!$C$2:$D$21,2)","v":"製造業"},29,{"$f":"VLOOKUP(D648,作業シート!$F$2:$G$100,2)","v":"電気機械器具製造業"},291,{"$f":"VLOOKUP(F648,作業シート!$I$2:$J$531,2)","v":"発電用・送電用・配電用電気機械器具製造業"},2913,"電力開閉装置製造業","E-29-291-2913","製造業その他"]
[null,"E",{"$f":"VLOOKUP(日本標準産業分類!B649,作業シート!$C$2:$D$21,2)","v":"製造業"},29,{"$f":"VLOOKUP(D649,作業シート!$F$2:$G$100,2)","v":"電気機械器具製造業"},291,{"$f":"VLOOKUP(F649,作業シート!$I$2:$J$531,2)","v":"発電用・送電用・配電用電気機械器具製造業"},2914,"配電盤・電力制御装置製造業","E-29-291-2914","製造業その他"]
[null,"E",{"$f":"VLOOKUP(日本標準産業分類!B650,作業シート!$C$2:$D$21,2)","v":"製造業"},29,{"$f":"VLOOKUP(D650,作業シート!$F$2:$G$100,2)","v":"電気機械器具製造業"},291,{"$f":"VLOOKUP(F650,作業シート!$I$2:$J$531,2)","v":"発電用・送電用・配電用電気機械器具製造業"},2915,"配線器具・配線附属品製造業","E-29-291-2915","製造業その他"]
[null,"E",{"$f":"VLOOKUP(日本標準産業分類!B651,作業シート!$C$2:$D$21,2)","v":"製造業"},29,{"$f":"VLOOKUP(D651,作業シート!$F$2:$G$100,2)","v":"電気機械器具製造業"},292,{"$f":"VLOOKUP(F651,作業シート!$I$2:$J$531,2)","v":"産業用電気機械器具製造業"},2921,"電気溶接機製造業","E-29-292-2921","製造業その他"]
[null,"E",{"$f":"VLOOKUP(日本標準産業分類!B652,作業シート!$C$2:$D$21,2)","v":"製造業"},29,{"$f":"VLOOKUP(D652,作業シート!$F$2:$G$100,2)","v":"電気機械器具製造業"},292,{"$f":"VLOOKUP(F652,作業シート!$I$2:$J$531,2)","v":"産業用電気機械器具製造業"},2922,"内燃機関電装品製造業","E-29-292-2922","製造業その他"]
[null,"E",{"$f":"VLOOKUP(日本標準産業分類!B653,作業シート!$C$2:$D$21,2)","v":"製造業"},29,{"$f":"VLOOKUP(D653,作業シート!$F$2:$G$100,2)","v":"電気機械器具製造業"},292,{"$f":"VLOOKUP(F653,作業シート!$I$2:$J$531,2)","v":"産業用電気機械器具製造業"},2929,"その他の産業用電気機械器具製造業（車両用，船舶用を含む）","E-29-292-2929","製造業その他"]
[null,"E",{"$f":"VLOOKUP(日本標準産業分類!B654,作業シート!$C$2:$D$21,2)","v":"製造業"},29,{"$f":"VLOOKUP(D654,作業シート!$F$2:$G$100,2)","v":"電気機械器具製造業"},293,{"$f":"VLOOKUP(F654,作業シート!$I$2:$J$531,2)","v":"民生用電気機械器具製造業"},2931,"ちゅう房機器製造業","E-29-293-2931","製造業その他"]
[null,"E",{"$f":"VLOOKUP(日本標準産業分類!B655,作業シート!$C$2:$D$21,2)","v":"製造業"},29,{"$f":"VLOOKUP(D655,作業シート!$F$2:$G$100,2)","v":"電気機械器具製造業"},293,{"$f":"VLOOKUP(F655,作業シート!$I$2:$J$531,2)","v":"民生用電気機械器具製造業"},2932,"空調・住宅関連機器製造業","E-29-293-2932","製造業その他"]
[null,"E",{"$f":"VLOOKUP(日本標準産業分類!B656,作業シート!$C$2:$D$21,2)","v":"製造業"},29,{"$f":"VLOOKUP(D656,作業シート!$F$2:$G$100,2)","v":"電気機械器具製造業"},293,{"$f":"VLOOKUP(F656,作業シート!$I$2:$J$531,2)","v":"民生用電気機械器具製造業"},2933,"衣料衛生関連機器製造業","E-29-293-2933","製造業その他"]
[null,"E",{"$f":"VLOOKUP(日本標準産業分類!B657,作業シート!$C$2:$D$21,2)","v":"製造業"},29,{"$f":"VLOOKUP(D657,作業シート!$F$2:$G$100,2)","v":"電気機械器具製造業"},293,{"$f":"VLOOKUP(F657,作業シート!$I$2:$J$531,2)","v":"民生用電気機械器具製造業"},2939,"その他の民生用電気機械器具製造業","E-29-293-2939","製造業その他"]
[null,"E",{"$f":"VLOOKUP(日本標準産業分類!B658,作業シート!$C$2:$D$21,2)","v":"製造業"},29,{"$f":"VLOOKUP(D658,作業シート!$F$2:$G$100,2)","v":"電気機械器具製造業"},294,{"$f":"VLOOKUP(F658,作業シート!$I$2:$J$531,2)","v":"電球・電気照明器具製造業"},2941,"電球製造業","E-29-294-2941","製造業その他"]
[null,"E",{"$f":"VLOOKUP(日本標準産業分類!B659,作業シート!$C$2:$D$21,2)","v":"製造業"},29,{"$f":"VLOOKUP(D659,作業シート!$F$2:$G$100,2)","v":"電気機械器具製造業"},294,{"$f":"VLOOKUP(F659,作業シート!$I$2:$J$531,2)","v":"電球・電気照明器具製造業"},2942,"電気照明器具製造業","E-29-294-2942","製造業その他"]
[null,"E",{"$f":"VLOOKUP(日本標準産業分類!B660,作業シート!$C$2:$D$21,2)","v":"製造業"},29,{"$f":"VLOOKUP(D660,作業シート!$F$2:$G$100,2)","v":"電気機械器具製造業"},295,{"$f":"VLOOKUP(F660,作業シート!$I$2:$J$531,2)","v":"電池製造業"},2951,"蓄電池製造業","E-29-295-2951","製造業その他"]
[null,"E",{"$f":"VLOOKUP(日本標準産業分類!B661,作業シート!$C$2:$D$21,2)","v":"製造業"},29,{"$f":"VLOOKUP(D661,作業シート!$F$2:$G$100,2)","v":"電気機械器具製造業"},295,{"$f":"VLOOKUP(F661,作業シート!$I$2:$J$531,2)","v":"電池製造業"},2952,"一次電池（乾電池，湿電池）製造業","E-29-295-2952","製造業その他"]
[null,"E",{"$f":"VLOOKUP(日本標準産業分類!B662,作業シート!$C$2:$D$21,2)","v":"製造業"},29,{"$f":"VLOOKUP(D662,作業シート!$F$2:$G$100,2)","v":"電気機械器具製造業"},296,{"$f":"VLOOKUP(F662,作業シート!$I$2:$J$531,2)","v":"電子応用装置製造業"},2961,"X線装置製造業","E-29-296-2961","製造業その他"]
[null,"E",{"$f":"VLOOKUP(日本標準産業分類!B663,作業シート!$C$2:$D$21,2)","v":"製造業"},29,{"$f":"VLOOKUP(D663,作業シート!$F$2:$G$100,2)","v":"電気機械器具製造業"},296,{"$f":"VLOOKUP(F663,作業シート!$I$2:$J$531,2)","v":"電子応用装置製造業"},2962,"医療用電子応用装置製造業","E-29-296-2962","製造業その他"]
[null,"E",{"$f":"VLOOKUP(日本標準産業分類!B664,作業シート!$C$2:$D$21,2)","v":"製造業"},29,{"$f":"VLOOKUP(D664,作業シート!$F$2:$G$100,2)","v":"電気機械器具製造業"},296,{"$f":"VLOOKUP(F664,作業シート!$I$2:$J$531,2)","v":"電子応用装置製造業"},2969,"その他の電子応用装置製造業",{"$f":"CONCATENATE(B664,\"-\",D664,\"-\",F664,\"-\",H664)","v":"E-29-296-2969"},"製造業その他"]
[null,"E",{"$f":"VLOOKUP(日本標準産業分類!B665,作業シート!$C$2:$D$21,2)","v":"製造業"},29,{"$f":"VLOOKUP(D665,作業シート!$F$2:$G$100,2)","v":"電気機械器具製造業"},297,{"$f":"VLOOKUP(F665,作業シート!$I$2:$J$531,2)","v":"電気計測器製造業"},2971,"電気計測器製造業（別掲を除く）","E-29-297-2971","製造業その他"]
[null,"E",{"$f":"VLOOKUP(日本標準産業分類!B666,作業シート!$C$2:$D$21,2)","v":"製造業"},29,{"$f":"VLOOKUP(D666,作業シート!$F$2:$G$100,2)","v":"電気機械器具製造業"},297,{"$f":"VLOOKUP(F666,作業シート!$I$2:$J$531,2)","v":"電気計測器製造業"},2972,"工業計器製造業","E-29-297-2972","製造業その他"]
[null,"E",{"$f":"VLOOKUP(日本標準産業分類!B667,作業シート!$C$2:$D$21,2)","v":"製造業"},29,{"$f":"VLOOKUP(D667,作業シート!$F$2:$G$100,2)","v":"電気機械器具製造業"},297,{"$f":"VLOOKUP(F667,作業シート!$I$2:$J$531,2)","v":"電気計測器製造業"},2973,"医療用計測器製造業","E-29-297-2973","製造業その他"]
[null,"E",{"$f":"VLOOKUP(日本標準産業分類!B668,作業シート!$C$2:$D$21,2)","v":"製造業"},29,{"$f":"VLOOKUP(D668,作業シート!$F$2:$G$100,2)","v":"電気機械器具製造業"},299,{"$f":"VLOOKUP(F668,作業シート!$I$2:$J$531,2)","v":"その他の電気機械器具製造業"},2999,"その他の電気機械器具製造業","E-29-299-2999","製造業その他"]
[null,"E",{"$f":"VLOOKUP(日本標準産業分類!B669,作業シート!$C$2:$D$21,2)","v":"製造業"},30,{"$f":"VLOOKUP(D669,作業シート!$F$2:$G$100,2)","v":"情報通信機械器具製造業"},300,{"$f":"VLOOKUP(F669,作業シート!$I$2:$J$531,2)","v":"管理，補助的経済活動を行う事業所（30情報通信機械器具製造業）"},3000,"主として管理事務を行う本社等","E-30-300-3000","製造業その他"]
[null,"E",{"$f":"VLOOKUP(日本標準産業分類!B670,作業シート!$C$2:$D$21,2)","v":"製造業"},30,{"$f":"VLOOKUP(D670,作業シート!$F$2:$G$100,2)","v":"情報通信機械器具製造業"},300,{"$f":"VLOOKUP(F670,作業シート!$I$2:$J$531,2)","v":"管理，補助的経済活動を行う事業所（30情報通信機械器具製造業）"},3009,"その他の管理，補助的経済活動を行う事業所","E-30-300-3009","製造業その他"]
[null,"E",{"$f":"VLOOKUP(日本標準産業分類!B671,作業シート!$C$2:$D$21,2)","v":"製造業"},30,{"$f":"VLOOKUP(D671,作業シート!$F$2:$G$100,2)","v":"情報通信機械器具製造業"},301,{"$f":"VLOOKUP(F671,作業シート!$I$2:$J$531,2)","v":"通信機械器具・同関連機械器具製造業"},3011,"有線通信機械器具製造業","E-30-301-3011","製造業その他"]
[null,"E",{"$f":"VLOOKUP(日本標準産業分類!B672,作業シート!$C$2:$D$21,2)","v":"製造業"},30,{"$f":"VLOOKUP(D672,作業シート!$F$2:$G$100,2)","v":"情報通信機械器具製造業"},301,{"$f":"VLOOKUP(F672,作業シート!$I$2:$J$531,2)","v":"通信機械器具・同関連機械器具製造業"},3012,"携帯電話機・PHS電話機製造業","E-30-301-3012","製造業その他"]
[null,"E",{"$f":"VLOOKUP(日本標準産業分類!B673,作業シート!$C$2:$D$21,2)","v":"製造業"},30,{"$f":"VLOOKUP(D673,作業シート!$F$2:$G$100,2)","v":"情報通信機械器具製造業"},301,{"$f":"VLOOKUP(F673,作業シート!$I$2:$J$531,2)","v":"通信機械器具・同関連機械器具製造業"},3013,"無線通信機械器具製造業","E-30-301-3013","製造業その他"]
[null,"E",{"$f":"VLOOKUP(日本標準産業分類!B674,作業シート!$C$2:$D$21,2)","v":"製造業"},30,{"$f":"VLOOKUP(D674,作業シート!$F$2:$G$100,2)","v":"情報通信機械器具製造業"},301,{"$f":"VLOOKUP(F674,作業シート!$I$2:$J$531,2)","v":"通信機械器具・同関連機械器具製造業"},3014,"ラジオ受信機・テレビジョン受信機製造業","E-30-301-3014","製造業その他"]
[null,"E",{"$f":"VLOOKUP(日本標準産業分類!B675,作業シート!$C$2:$D$21,2)","v":"製造業"},30,{"$f":"VLOOKUP(D675,作業シート!$F$2:$G$100,2)","v":"情報通信機械器具製造業"},301,{"$f":"VLOOKUP(F675,作業シート!$I$2:$J$531,2)","v":"通信機械器具・同関連機械器具製造業"},3015,"交通信号保安装置製造業","E-30-301-3015","製造業その他"]
[null,"E",{"$f":"VLOOKUP(日本標準産業分類!B676,作業シート!$C$2:$D$21,2)","v":"製造業"},30,{"$f":"VLOOKUP(D676,作業シート!$F$2:$G$100,2)","v":"情報通信機械器具製造業"},301,{"$f":"VLOOKUP(F676,作業シート!$I$2:$J$531,2)","v":"通信機械器具・同関連機械器具製造業"},3019,"その他の通信機械器具・同関連機械器具製造業","E-30-301-3019","製造業その他"]
[null,"E",{"$f":"VLOOKUP(日本標準産業分類!B677,作業シート!$C$2:$D$21,2)","v":"製造業"},30,{"$f":"VLOOKUP(D677,作業シート!$F$2:$G$100,2)","v":"情報通信機械器具製造業"},302,{"$f":"VLOOKUP(F677,作業シート!$I$2:$J$531,2)","v":"映像・音響機械器具製造業"},3021,"ビデオ機器製造業","E-30-302-3021","製造業その他"]
[null,"E",{"$f":"VLOOKUP(日本標準産業分類!B678,作業シート!$C$2:$D$21,2)","v":"製造業"},30,{"$f":"VLOOKUP(D678,作業シート!$F$2:$G$100,2)","v":"情報通信機械器具製造業"},302,{"$f":"VLOOKUP(F678,作業シート!$I$2:$J$531,2)","v":"映像・音響機械器具製造業"},3022,"デジタルカメラ製造業","E-30-302-3022","製造業その他"]
[null,"E",{"$f":"VLOOKUP(日本標準産業分類!B679,作業シート!$C$2:$D$21,2)","v":"製造業"},30,{"$f":"VLOOKUP(D679,作業シート!$F$2:$G$100,2)","v":"情報通信機械器具製造業"},302,{"$f":"VLOOKUP(F679,作業シート!$I$2:$J$531,2)","v":"映像・音響機械器具製造業"},3023,"電気音響機械器具製造業","E-30-302-3023","製造業その他"]
[null,"E",{"$f":"VLOOKUP(日本標準産業分類!B680,作業シート!$C$2:$D$21,2)","v":"製造業"},30,{"$f":"VLOOKUP(D680,作業シート!$F$2:$G$100,2)","v":"情報通信機械器具製造業"},303,{"$f":"VLOOKUP(F680,作業シート!$I$2:$J$531,2)","v":"電子計算機・同附属装置製造業"},3031,"電子計算機製造業（パーソナルコンピュータを除く）","E-30-303-3031","製造業その他"]
[null,"E",{"$f":"VLOOKUP(日本標準産業分類!B681,作業シート!$C$2:$D$21,2)","v":"製造業"},30,{"$f":"VLOOKUP(D681,作業シート!$F$2:$G$100,2)","v":"情報通信機械器具製造業"},303,{"$f":"VLOOKUP(F681,作業シート!$I$2:$J$531,2)","v":"電子計算機・同附属装置製造業"},3032,"パーソナルコンピュータ製造業","E-30-303-3032","製造業その他"]
[null,"E",{"$f":"VLOOKUP(日本標準産業分類!B682,作業シート!$C$2:$D$21,2)","v":"製造業"},30,{"$f":"VLOOKUP(D682,作業シート!$F$2:$G$100,2)","v":"情報通信機械器具製造業"},303,{"$f":"VLOOKUP(F682,作業シート!$I$2:$J$531,2)","v":"電子計算機・同附属装置製造業"},3033,"外部記憶装置製造業","E-30-303-3033","製造業その他"]
[null,"E",{"$f":"VLOOKUP(日本標準産業分類!B683,作業シート!$C$2:$D$21,2)","v":"製造業"},30,{"$f":"VLOOKUP(D683,作業シート!$F$2:$G$100,2)","v":"情報通信機械器具製造業"},303,{"$f":"VLOOKUP(F683,作業シート!$I$2:$J$531,2)","v":"電子計算機・同附属装置製造業"},3034,"印刷装置製造業","E-30-303-3034","製造業その他"]
[null,"E",{"$f":"VLOOKUP(日本標準産業分類!B684,作業シート!$C$2:$D$21,2)","v":"製造業"},30,{"$f":"VLOOKUP(D684,作業シート!$F$2:$G$100,2)","v":"情報通信機械器具製造業"},303,{"$f":"VLOOKUP(F684,作業シート!$I$2:$J$531,2)","v":"電子計算機・同附属装置製造業"},3035,"表示装置製造業","E-30-303-3035","製造業その他"]
[null,"E",{"$f":"VLOOKUP(日本標準産業分類!B685,作業シート!$C$2:$D$21,2)","v":"製造業"},30,{"$f":"VLOOKUP(D685,作業シート!$F$2:$G$100,2)","v":"情報通信機械器具製造業"},303,{"$f":"VLOOKUP(F685,作業シート!$I$2:$J$531,2)","v":"電子計算機・同附属装置製造業"},3039,"その他の附属装置製造業","E-30-303-3039","製造業その他"]
[null,"E",{"$f":"VLOOKUP(日本標準産業分類!B686,作業シート!$C$2:$D$21,2)","v":"製造業"},31,{"$f":"VLOOKUP(D686,作業シート!$F$2:$G$100,2)","v":"輸送用機械器具製造業"},310,{"$f":"VLOOKUP(F686,作業シート!$I$2:$J$531,2)","v":"管理，補助的経済活動を行う事業所（31輸送用機械器具製造業）"},3100,"主として管理事務を行う本社等","E-31-310-3100","製造業その他"]
[null,"E",{"$f":"VLOOKUP(日本標準産業分類!B687,作業シート!$C$2:$D$21,2)","v":"製造業"},31,{"$f":"VLOOKUP(D687,作業シート!$F$2:$G$100,2)","v":"輸送用機械器具製造業"},310,{"$f":"VLOOKUP(F687,作業シート!$I$2:$J$531,2)","v":"管理，補助的経済活動を行う事業所（31輸送用機械器具製造業）"},3109,"その他の管理，補助的経済活動を行う事業所","E-31-310-3109","製造業その他"]
[null,"E",{"$f":"VLOOKUP(日本標準産業分類!B688,作業シート!$C$2:$D$21,2)","v":"製造業"},31,{"$f":"VLOOKUP(D688,作業シート!$F$2:$G$100,2)","v":"輸送用機械器具製造業"},311,{"$f":"VLOOKUP(F688,作業シート!$I$2:$J$531,2)","v":"自動車・同附属品製造業"},3111,"自動車製造業（二輪自動車を含む）","E-31-311-3111","製造業その他"]
[null,"E",{"$f":"VLOOKUP(日本標準産業分類!B689,作業シート!$C$2:$D$21,2)","v":"製造業"},31,{"$f":"VLOOKUP(D689,作業シート!$F$2:$G$100,2)","v":"輸送用機械器具製造業"},311,{"$f":"VLOOKUP(F689,作業シート!$I$2:$J$531,2)","v":"自動車・同附属品製造業"},3112,"自動車車体・附随車製造業","E-31-311-3112","製造業その他"]
[null,"E",{"$f":"VLOOKUP(日本標準産業分類!B690,作業シート!$C$2:$D$21,2)","v":"製造業"},31,{"$f":"VLOOKUP(D690,作業シート!$F$2:$G$100,2)","v":"輸送用機械器具製造業"},311,{"$f":"VLOOKUP(F690,作業シート!$I$2:$J$531,2)","v":"自動車・同附属品製造業"},3113,"自動車部分品・附属品製造業","E-31-311-3113","製造業その他"]
[null,"E",{"$f":"VLOOKUP(日本標準産業分類!B691,作業シート!$C$2:$D$21,2)","v":"製造業"},31,{"$f":"VLOOKUP(D691,作業シート!$F$2:$G$100,2)","v":"輸送用機械器具製造業"},312,{"$f":"VLOOKUP(F691,作業シート!$I$2:$J$531,2)","v":"鉄道車両・同部分品製造業"},3121,"鉄道車両製造業","E-31-312-3121","製造業その他"]
[null,"E",{"$f":"VLOOKUP(日本標準産業分類!B692,作業シート!$C$2:$D$21,2)","v":"製造業"},31,{"$f":"VLOOKUP(D692,作業シート!$F$2:$G$100,2)","v":"輸送用機械器具製造業"},312,{"$f":"VLOOKUP(F692,作業シート!$I$2:$J$531,2)","v":"鉄道車両・同部分品製造業"},3122,"鉄道車両用部分品製造業","E-31-312-3122","製造業その他"]
[null,"E",{"$f":"VLOOKUP(日本標準産業分類!B693,作業シート!$C$2:$D$21,2)","v":"製造業"},31,{"$f":"VLOOKUP(D693,作業シート!$F$2:$G$100,2)","v":"輸送用機械器具製造業"},313,{"$f":"VLOOKUP(F693,作業シート!$I$2:$J$531,2)","v":"船舶製造・修理業，舶用機関製造業"},3131,"船舶製造・修理業","E-31-313-3131","製造業その他"]
[null,"E",{"$f":"VLOOKUP(日本標準産業分類!B694,作業シート!$C$2:$D$21,2)","v":"製造業"},31,{"$f":"VLOOKUP(D694,作業シート!$F$2:$G$100,2)","v":"輸送用機械器具製造業"},313,{"$f":"VLOOKUP(F694,作業シート!$I$2:$J$531,2)","v":"船舶製造・修理業，舶用機関製造業"},3132,"船体ブロック製造業","E-31-313-3132","製造業その他"]
[null,"E",{"$f":"VLOOKUP(日本標準産業分類!B695,作業シート!$C$2:$D$21,2)","v":"製造業"},31,{"$f":"VLOOKUP(D695,作業シート!$F$2:$G$100,2)","v":"輸送用機械器具製造業"},313,{"$f":"VLOOKUP(F695,作業シート!$I$2:$J$531,2)","v":"船舶製造・修理業，舶用機関製造業"},3133,"舟艇製造・修理業","E-31-313-3133","製造業その他"]
[null,"E",{"$f":"VLOOKUP(日本標準産業分類!B696,作業シート!$C$2:$D$21,2)","v":"製造業"},31,{"$f":"VLOOKUP(D696,作業シート!$F$2:$G$100,2)","v":"輸送用機械器具製造業"},313,{"$f":"VLOOKUP(F696,作業シート!$I$2:$J$531,2)","v":"船舶製造・修理業，舶用機関製造業"},3134,"舶用機関製造業","E-31-313-3134","製造業その他"]
[null,"E",{"$f":"VLOOKUP(日本標準産業分類!B697,作業シート!$C$2:$D$21,2)","v":"製造業"},31,{"$f":"VLOOKUP(D697,作業シート!$F$2:$G$100,2)","v":"輸送用機械器具製造業"},314,{"$f":"VLOOKUP(F697,作業シート!$I$2:$J$531,2)","v":"航空機・同附属品製造業"},3141,"航空機製造業","E-31-314-3141","製造業その他"]
[null,"E",{"$f":"VLOOKUP(日本標準産業分類!B698,作業シート!$C$2:$D$21,2)","v":"製造業"},31,{"$f":"VLOOKUP(D698,作業シート!$F$2:$G$100,2)","v":"輸送用機械器具製造業"},314,{"$f":"VLOOKUP(F698,作業シート!$I$2:$J$531,2)","v":"航空機・同附属品製造業"},3142,"航空機用原動機製造業","E-31-314-3142","製造業その他"]
[null,"E",{"$f":"VLOOKUP(日本標準産業分類!B699,作業シート!$C$2:$D$21,2)","v":"製造業"},31,{"$f":"VLOOKUP(D699,作業シート!$F$2:$G$100,2)","v":"輸送用機械器具製造業"},314,{"$f":"VLOOKUP(F699,作業シート!$I$2:$J$531,2)","v":"航空機・同附属品製造業"},3149,"その他の航空機部分品・補助装置製造業","E-31-314-3149","製造業その他"]
[null,"E",{"$f":"VLOOKUP(日本標準産業分類!B700,作業シート!$C$2:$D$21,2)","v":"製造業"},31,{"$f":"VLOOKUP(D700,作業シート!$F$2:$G$100,2)","v":"輸送用機械器具製造業"},315,{"$f":"VLOOKUP(F700,作業シート!$I$2:$J$531,2)","v":"産業用運搬車両・同部分品・附属品製造業"},3151,"フォークリフトトラック・同部分品・附属品製造業","E-31-315-3151","製造業その他"]
[null,"E",{"$f":"VLOOKUP(日本標準産業分類!B701,作業シート!$C$2:$D$21,2)","v":"製造業"},31,{"$f":"VLOOKUP(D701,作業シート!$F$2:$G$100,2)","v":"輸送用機械器具製造業"},315,{"$f":"VLOOKUP(F701,作業シート!$I$2:$J$531,2)","v":"産業用運搬車両・同部分品・附属品製造業"},3159,"その他の産業用運搬車両・同部分品・附属品製造業","E-31-315-3159","製造業その他"]
[null,"E",{"$f":"VLOOKUP(日本標準産業分類!B702,作業シート!$C$2:$D$21,2)","v":"製造業"},31,{"$f":"VLOOKUP(D702,作業シート!$F$2:$G$100,2)","v":"輸送用機械器具製造業"},319,{"$f":"VLOOKUP(F702,作業シート!$I$2:$J$531,2)","v":"その他の輸送用機械器具製造業"},3191,"自転車・同部分品製造業","E-31-319-3191","製造業その他"]
[null,"E",{"$f":"VLOOKUP(日本標準産業分類!B703,作業シート!$C$2:$D$21,2)","v":"製造業"},31,{"$f":"VLOOKUP(D703,作業シート!$F$2:$G$100,2)","v":"輸送用機械器具製造業"},319,{"$f":"VLOOKUP(F703,作業シート!$I$2:$J$531,2)","v":"その他の輸送用機械器具製造業"},3199,"他に分類されない輸送用機械器具製造業","E-31-319-3199","製造業その他"]
[null,"E",{"$f":"VLOOKUP(日本標準産業分類!B704,作業シート!$C$2:$D$21,2)","v":"製造業"},32,{"$f":"VLOOKUP(D704,作業シート!$F$2:$G$100,2)","v":"その他の製造業"},320,{"$f":"VLOOKUP(F704,作業シート!$I$2:$J$531,2)","v":"管理，補助的経済活動を行う事業所（32その他の製造業）"},3200,"主として管理事務を行う本社等","E-32-320-3200","製造業その他"]
[null,"E",{"$f":"VLOOKUP(日本標準産業分類!B705,作業シート!$C$2:$D$21,2)","v":"製造業"},32,{"$f":"VLOOKUP(D705,作業シート!$F$2:$G$100,2)","v":"その他の製造業"},320,{"$f":"VLOOKUP(F705,作業シート!$I$2:$J$531,2)","v":"管理，補助的経済活動を行う事業所（32その他の製造業）"},3209,"その他の管理，補助的経済活動を行う事業所","E-32-320-3209","製造業その他"]
[null,"E",{"$f":"VLOOKUP(日本標準産業分類!B706,作業シート!$C$2:$D$21,2)","v":"製造業"},32,{"$f":"VLOOKUP(D706,作業シート!$F$2:$G$100,2)","v":"その他の製造業"},321,{"$f":"VLOOKUP(F706,作業シート!$I$2:$J$531,2)","v":"貴金属・宝石製品製造業"},3211,"貴金属・宝石製装身具（ジュエリー）製品製造業","E-32-321-3211","製造業その他"]
[null,"E",{"$f":"VLOOKUP(日本標準産業分類!B707,作業シート!$C$2:$D$21,2)","v":"製造業"},32,{"$f":"VLOOKUP(D707,作業シート!$F$2:$G$100,2)","v":"その他の製造業"},321,{"$f":"VLOOKUP(F707,作業シート!$I$2:$J$531,2)","v":"貴金属・宝石製品製造業"},3212,"貴金属・宝石製装身具（ジュエリー）附属品・同材料加工業","E-32-321-3212","製造業その他"]
[null,"E",{"$f":"VLOOKUP(日本標準産業分類!B708,作業シート!$C$2:$D$21,2)","v":"製造業"},32,{"$f":"VLOOKUP(D708,作業シート!$F$2:$G$100,2)","v":"その他の製造業"},321,{"$f":"VLOOKUP(F708,作業シート!$I$2:$J$531,2)","v":"貴金属・宝石製品製造業"},3219,"その他の貴金属製品製造業","E-32-321-3219","製造業その他"]
[null,"E",{"$f":"VLOOKUP(日本標準産業分類!B709,作業シート!$C$2:$D$21,2)","v":"製造業"},32,{"$f":"VLOOKUP(D709,作業シート!$F$2:$G$100,2)","v":"その他の製造業"},322,{"$f":"VLOOKUP(F709,作業シート!$I$2:$J$531,2)","v":"装身具・装飾品・ボタン・同関連品製造業（貴金属・宝石製を除く）"},3221,"装身具・装飾品製造業（貴金属・宝石製を除く）",{"$f":"CONCATENATE(B709,\"-\",D709,\"-\",F709,\"-\",H709)","v":"E-32-322-3221"},"製造業その他"]
[null,"E",{"$f":"VLOOKUP(日本標準産業分類!B710,作業シート!$C$2:$D$21,2)","v":"製造業"},32,{"$f":"VLOOKUP(D710,作業シート!$F$2:$G$100,2)","v":"その他の製造業"},322,{"$f":"VLOOKUP(F710,作業シート!$I$2:$J$531,2)","v":"装身具・装飾品・ボタン・同関連品製造業（貴金属・宝石製を除く）"},3222,"造花・装飾用羽毛製造業","E-32-322-3222","製造業その他"]
[null,"E",{"$f":"VLOOKUP(日本標準産業分類!B711,作業シート!$C$2:$D$21,2)","v":"製造業"},32,{"$f":"VLOOKUP(D711,作業シート!$F$2:$G$100,2)","v":"その他の製造業"},322,{"$f":"VLOOKUP(F711,作業シート!$I$2:$J$531,2)","v":"装身具・装飾品・ボタン・同関連品製造業（貴金属・宝石製を除く）"},3223,"ボタン製造業","E-32-322-3223","製造業その他"]
[null,"E",{"$f":"VLOOKUP(日本標準産業分類!B712,作業シート!$C$2:$D$21,2)","v":"製造業"},32,{"$f":"VLOOKUP(D712,作業シート!$F$2:$G$100,2)","v":"その他の製造業"},322,{"$f":"VLOOKUP(F712,作業シート!$I$2:$J$531,2)","v":"装身具・装飾品・ボタン・同関連品製造業（貴金属・宝石製を除く）"},3224,"針・ピン・ホック・スナップ・同関連品製造業","E-32-322-3224","製造業その他"]
[null,"E",{"$f":"VLOOKUP(日本標準産業分類!B713,作業シート!$C$2:$D$21,2)","v":"製造業"},32,{"$f":"VLOOKUP(D713,作業シート!$F$2:$G$100,2)","v":"その他の製造業"},322,{"$f":"VLOOKUP(F713,作業シート!$I$2:$J$531,2)","v":"装身具・装飾品・ボタン・同関連品製造業（貴金属・宝石製を除く）"},3229,"その他の装身具・装飾品製造業","E-32-322-3229","製造業その他"]
[null,"E",{"$f":"VLOOKUP(日本標準産業分類!B714,作業シート!$C$2:$D$21,2)","v":"製造業"},32,{"$f":"VLOOKUP(D714,作業シート!$F$2:$G$100,2)","v":"その他の製造業"},323,{"$f":"VLOOKUP(F714,作業シート!$I$2:$J$531,2)","v":"時計・同部分品製造業"},3231,"時計・同部分品製造業","E-32-323-3231","製造業その他"]
[null,"E",{"$f":"VLOOKUP(日本標準産業分類!B715,作業シート!$C$2:$D$21,2)","v":"製造業"},32,{"$f":"VLOOKUP(D715,作業シート!$F$2:$G$100,2)","v":"その他の製造業"},324,{"$f":"VLOOKUP(F715,作業シート!$I$2:$J$531,2)","v":"楽器製造業"},3241,"ピアノ製造業","E-32-324-3241","製造業その他"]
[null,"E",{"$f":"VLOOKUP(日本標準産業分類!B716,作業シート!$C$2:$D$21,2)","v":"製造業"},32,{"$f":"VLOOKUP(D716,作業シート!$F$2:$G$100,2)","v":"その他の製造業"},324,{"$f":"VLOOKUP(F716,作業シート!$I$2:$J$531,2)","v":"楽器製造業"},3249,"その他の楽器・楽器部品・同材料製造業","E-32-324-3249","製造業その他"]
[null,"E",{"$f":"VLOOKUP(日本標準産業分類!B717,作業シート!$C$2:$D$21,2)","v":"製造業"},32,{"$f":"VLOOKUP(D717,作業シート!$F$2:$G$100,2)","v":"その他の製造業"},325,{"$f":"VLOOKUP(F717,作業シート!$I$2:$J$531,2)","v":"がん具・運動用具製造業"},3251,"娯楽用具・がん具製造業（人形を除く）","E-32-325-3251","製造業その他"]
[null,"E",{"$f":"VLOOKUP(日本標準産業分類!B718,作業シート!$C$2:$D$21,2)","v":"製造業"},32,{"$f":"VLOOKUP(D718,作業シート!$F$2:$G$100,2)","v":"その他の製造業"},325,{"$f":"VLOOKUP(F718,作業シート!$I$2:$J$531,2)","v":"がん具・運動用具製造業"},3252,"人形製造業","E-32-325-3252","製造業その他"]
[null,"E",{"$f":"VLOOKUP(日本標準産業分類!B719,作業シート!$C$2:$D$21,2)","v":"製造業"},32,{"$f":"VLOOKUP(D719,作業シート!$F$2:$G$100,2)","v":"その他の製造業"},325,{"$f":"VLOOKUP(F719,作業シート!$I$2:$J$531,2)","v":"がん具・運動用具製造業"},3253,"運動用具製造業","E-32-325-3253","製造業その他"]
[null,"E",{"$f":"VLOOKUP(日本標準産業分類!B720,作業シート!$C$2:$D$21,2)","v":"製造業"},32,{"$f":"VLOOKUP(D720,作業シート!$F$2:$G$100,2)","v":"その他の製造業"},326,{"$f":"VLOOKUP(F720,作業シート!$I$2:$J$531,2)","v":"ペン・鉛筆・絵画用品・その他の事務用品製造業"},3261,"万年筆・ペン類・鉛筆製造業","E-32-326-3261","製造業その他"]
[null,"E",{"$f":"VLOOKUP(日本標準産業分類!B721,作業シート!$C$2:$D$21,2)","v":"製造業"},32,{"$f":"VLOOKUP(D721,作業シート!$F$2:$G$100,2)","v":"その他の製造業"},326,{"$f":"VLOOKUP(F721,作業シート!$I$2:$J$531,2)","v":"ペン・鉛筆・絵画用品・その他の事務用品製造業"},3262,"毛筆・絵画用品製造業（鉛筆を除く）","E-32-326-3262","製造業その他"]
[null,"E",{"$f":"VLOOKUP(日本標準産業分類!B722,作業シート!$C$2:$D$21,2)","v":"製造業"},32,{"$f":"VLOOKUP(D722,作業シート!$F$2:$G$100,2)","v":"その他の製造業"},326,{"$f":"VLOOKUP(F722,作業シート!$I$2:$J$531,2)","v":"ペン・鉛筆・絵画用品・その他の事務用品製造業"},3269,"その他の事務用品製造業","E-32-326-3269","製造業その他"]
[null,"E",{"$f":"VLOOKUP(日本標準産業分類!B723,作業シート!$C$2:$D$21,2)","v":"製造業"},32,{"$f":"VLOOKUP(D723,作業シート!$F$2:$G$100,2)","v":"その他の製造業"},327,{"$f":"VLOOKUP(F723,作業シート!$I$2:$J$531,2)","v":"漆器製造業"},3271,"漆器製造業","E-32-327-3271","製造業その他"]
[null,"E",{"$f":"VLOOKUP(日本標準産業分類!B724,作業シート!$C$2:$D$21,2)","v":"製造業"},32,{"$f":"VLOOKUP(D724,作業シート!$F$2:$G$100,2)","v":"その他の製造業"},328,{"$f":"VLOOKUP(F724,作業シート!$I$2:$J$531,2)","v":"畳等生活雑貨製品製造業"},3281,"麦わら・パナマ類帽子・わら工品製造業","E-32-328-3281","製造業その他"]
[null,"E",{"$f":"VLOOKUP(日本標準産業分類!B725,作業シート!$C$2:$D$21,2)","v":"製造業"},32,{"$f":"VLOOKUP(D725,作業シート!$F$2:$G$100,2)","v":"その他の製造業"},328,{"$f":"VLOOKUP(F725,作業シート!$I$2:$J$531,2)","v":"畳等生活雑貨製品製造業"},3282,"畳製造業","E-32-328-3282","製造業その他"]
[null,"E",{"$f":"VLOOKUP(日本標準産業分類!B726,作業シート!$C$2:$D$21,2)","v":"製造業"},32,{"$f":"VLOOKUP(D726,作業シート!$F$2:$G$100,2)","v":"その他の製造業"},328,{"$f":"VLOOKUP(F726,作業シート!$I$2:$J$531,2)","v":"畳等生活雑貨製品製造業"},3283,"うちわ・扇子・ちょうちん製造業","E-32-328-3283","製造業その他"]
[null,"E",{"$f":"VLOOKUP(日本標準産業分類!B727,作業シート!$C$2:$D$21,2)","v":"製造業"},32,{"$f":"VLOOKUP(D727,作業シート!$F$2:$G$100,2)","v":"その他の製造業"},328,{"$f":"VLOOKUP(F727,作業シート!$I$2:$J$531,2)","v":"畳等生活雑貨製品製造業"},3284,"ほうき・ブラシ製造業","E-32-328-3284","製造業その他"]
[null,"E",{"$f":"VLOOKUP(日本標準産業分類!B728,作業シート!$C$2:$D$21,2)","v":"製造業"},32,{"$f":"VLOOKUP(D728,作業シート!$F$2:$G$100,2)","v":"その他の製造業"},328,{"$f":"VLOOKUP(F728,作業シート!$I$2:$J$531,2)","v":"畳等生活雑貨製品製造業"},3285,"喫煙用具製造業（貴金属・宝石製を除く）","E-32-328-3285","製造業その他"]
[null,"E",{"$f":"VLOOKUP(日本標準産業分類!B729,作業シート!$C$2:$D$21,2)","v":"製造業"},32,{"$f":"VLOOKUP(D729,作業シート!$F$2:$G$100,2)","v":"その他の製造業"},328,{"$f":"VLOOKUP(F729,作業シート!$I$2:$J$531,2)","v":"畳等生活雑貨製品製造業"},3289,"その他の生活雑貨製品製造業","E-32-328-3289","製造業その他"]
[null,"E",{"$f":"VLOOKUP(日本標準産業分類!B730,作業シート!$C$2:$D$21,2)","v":"製造業"},32,{"$f":"VLOOKUP(D730,作業シート!$F$2:$G$100,2)","v":"その他の製造業"},329,{"$f":"VLOOKUP(F730,作業シート!$I$2:$J$531,2)","v":"他に分類されない製造業"},3291,"煙火製造業","E-32-329-3291","製造業その他"]
[null,"E",{"$f":"VLOOKUP(日本標準産業分類!B731,作業シート!$C$2:$D$21,2)","v":"製造業"},32,{"$f":"VLOOKUP(D731,作業シート!$F$2:$G$100,2)","v":"その他の製造業"},329,{"$f":"VLOOKUP(F731,作業シート!$I$2:$J$531,2)","v":"他に分類されない製造業"},3292,"看板・標識機製造業","E-32-329-3292","製造業その他"]
[null,"E",{"$f":"VLOOKUP(日本標準産業分類!B732,作業シート!$C$2:$D$21,2)","v":"製造業"},32,{"$f":"VLOOKUP(D732,作業シート!$F$2:$G$100,2)","v":"その他の製造業"},329,{"$f":"VLOOKUP(F732,作業シート!$I$2:$J$531,2)","v":"他に分類されない製造業"},3293,"パレット製造業","E-32-329-3293","製造業その他"]
[null,"E",{"$f":"VLOOKUP(日本標準産業分類!B733,作業シート!$C$2:$D$21,2)","v":"製造業"},32,{"$f":"VLOOKUP(D733,作業シート!$F$2:$G$100,2)","v":"その他の製造業"},329,{"$f":"VLOOKUP(F733,作業シート!$I$2:$J$531,2)","v":"他に分類されない製造業"},3294,"モデル・模型製造業","E-32-329-3294","製造業その他"]
[null,"E",{"$f":"VLOOKUP(日本標準産業分類!B734,作業シート!$C$2:$D$21,2)","v":"製造業"},32,{"$f":"VLOOKUP(D734,作業シート!$F$2:$G$100,2)","v":"その他の製造業"},329,{"$f":"VLOOKUP(F734,作業シート!$I$2:$J$531,2)","v":"他に分類されない製造業"},3295,"工業用模型製造業","E-32-329-3295","製造業その他"]
[null,"E",{"$f":"VLOOKUP(日本標準産業分類!B735,作業シート!$C$2:$D$21,2)","v":"製造業"},32,{"$f":"VLOOKUP(D735,作業シート!$F$2:$G$100,2)","v":"その他の製造業"},329,{"$f":"VLOOKUP(F735,作業シート!$I$2:$J$531,2)","v":"他に分類されない製造業"},3296,"情報記録物製造業（新聞，書籍等の印刷物を除く）","E-32-329-3296","製造業その他"]
[null,"E",{"$f":"VLOOKUP(日本標準産業分類!B736,作業シート!$C$2:$D$21,2)","v":"製造業"},32,{"$f":"VLOOKUP(D736,作業シート!$F$2:$G$100,2)","v":"その他の製造業"},329,{"$f":"VLOOKUP(F736,作業シート!$I$2:$J$531,2)","v":"他に分類されない製造業"},3297,"眼鏡製造業（枠を含む）","E-32-329-3297","製造業その他"]
[null,"E",{"$f":"VLOOKUP(日本標準産業分類!B737,作業シート!$C$2:$D$21,2)","v":"製造業"},32,{"$f":"VLOOKUP(D737,作業シート!$F$2:$G$100,2)","v":"その他の製造業"},329,{"$f":"VLOOKUP(F737,作業シート!$I$2:$J$531,2)","v":"他に分類されない製造業"},3299,"他に分類されないその他の製造業","E-32-329-3299","製造業その他"]
[null,"F",{"$f":"VLOOKUP(日本標準産業分類!B738,作業シート!$C$2:$D$21,2)","v":"電気・ガス・熱供給・水道業"},33,{"$f":"VLOOKUP(D738,作業シート!$F$2:$G$100,2)","v":"電気業"},330,{"$f":"VLOOKUP(F738,作業シート!$I$2:$J$531,2)","v":"管理，補助的経済活動を行う事業所（33電気業）"},3300,"主として管理事務を行う本社等","F-33-330-3300","製造業その他"]
[null,"F",{"$f":"VLOOKUP(日本標準産業分類!B739,作業シート!$C$2:$D$21,2)","v":"電気・ガス・熱供給・水道業"},33,{"$f":"VLOOKUP(D739,作業シート!$F$2:$G$100,2)","v":"電気業"},330,{"$f":"VLOOKUP(F739,作業シート!$I$2:$J$531,2)","v":"管理，補助的経済活動を行う事業所（33電気業）"},3309,"その他の管理，補助的経済活動を行う事業所","F-33-330-3309","製造業その他"]
[null,"F",{"$f":"VLOOKUP(日本標準産業分類!B740,作業シート!$C$2:$D$21,2)","v":"電気・ガス・熱供給・水道業"},33,{"$f":"VLOOKUP(D740,作業シート!$F$2:$G$100,2)","v":"電気業"},331,{"$f":"VLOOKUP(F740,作業シート!$I$2:$J$531,2)","v":"電気業"},3311,"発電所","F-33-331-3311","製造業その他"]
[null,"F",{"$f":"VLOOKUP(日本標準産業分類!B741,作業シート!$C$2:$D$21,2)","v":"電気・ガス・熱供給・水道業"},33,{"$f":"VLOOKUP(D741,作業シート!$F$2:$G$100,2)","v":"電気業"},331,{"$f":"VLOOKUP(F741,作業シート!$I$2:$J$531,2)","v":"電気業"},3312,"変電所","F-33-331-3312","製造業その他"]
[null,"F",{"$f":"VLOOKUP(日本標準産業分類!B742,作業シート!$C$2:$D$21,2)","v":"電気・ガス・熱供給・水道業"},34,{"$f":"VLOOKUP(D742,作業シート!$F$2:$G$100,2)","v":"ガス業"},340,{"$f":"VLOOKUP(F742,作業シート!$I$2:$J$531,2)","v":"管理，補助的経済活動を行う事業所（34ガス業）"},3400,"主として管理事務を行う本社等","F-34-340-3400","製造業その他"]
[null,"F",{"$f":"VLOOKUP(日本標準産業分類!B743,作業シート!$C$2:$D$21,2)","v":"電気・ガス・熱供給・水道業"},34,{"$f":"VLOOKUP(D743,作業シート!$F$2:$G$100,2)","v":"ガス業"},340,{"$f":"VLOOKUP(F743,作業シート!$I$2:$J$531,2)","v":"管理，補助的経済活動を行う事業所（34ガス業）"},3409,"その他の管理，補助的経済活動を行う事業所","F-34-340-3409","製造業その他"]
[null,"F",{"$f":"VLOOKUP(日本標準産業分類!B744,作業シート!$C$2:$D$21,2)","v":"電気・ガス・熱供給・水道業"},34,{"$f":"VLOOKUP(D744,作業シート!$F$2:$G$100,2)","v":"ガス業"},341,{"$f":"VLOOKUP(F744,作業シート!$I$2:$J$531,2)","v":"ガス業"},3411,"ガス製造工場","F-34-341-3411","製造業その他"]
[null,"F",{"$f":"VLOOKUP(日本標準産業分類!B745,作業シート!$C$2:$D$21,2)","v":"電気・ガス・熱供給・水道業"},34,{"$f":"VLOOKUP(D745,作業シート!$F$2:$G$100,2)","v":"ガス業"},341,{"$f":"VLOOKUP(F745,作業シート!$I$2:$J$531,2)","v":"ガス業"},3412,"ガス供給所","F-34-341-3412","製造業その他"]
[null,"F",{"$f":"VLOOKUP(日本標準産業分類!B746,作業シート!$C$2:$D$21,2)","v":"電気・ガス・熱供給・水道業"},35,{"$f":"VLOOKUP(D746,作業シート!$F$2:$G$100,2)","v":"熱供給業"},350,{"$f":"VLOOKUP(F746,作業シート!$I$2:$J$531,2)","v":"管理，補助的経済活動を行う事業所（35熱供給業）"},3500,"主として管理事務を行う本社等","F-35-350-3500","製造業その他"]
[null,"F",{"$f":"VLOOKUP(日本標準産業分類!B747,作業シート!$C$2:$D$21,2)","v":"電気・ガス・熱供給・水道業"},35,{"$f":"VLOOKUP(D747,作業シート!$F$2:$G$100,2)","v":"熱供給業"},350,{"$f":"VLOOKUP(F747,作業シート!$I$2:$J$531,2)","v":"管理，補助的経済活動を行う事業所（35熱供給業）"},3509,"その他の管理，補助的経済活動を行う事業所","F-35-350-3509","製造業その他"]
[null,"F",{"$f":"VLOOKUP(日本標準産業分類!B748,作業シート!$C$2:$D$21,2)","v":"電気・ガス・熱供給・水道業"},35,{"$f":"VLOOKUP(D748,作業シート!$F$2:$G$100,2)","v":"熱供給業"},351,{"$f":"VLOOKUP(F748,作業シート!$I$2:$J$531,2)","v":"熱供給業"},3511,"熱供給業","F-35-351-3511","製造業その他"]
[null,"F",{"$f":"VLOOKUP(日本標準産業分類!B749,作業シート!$C$2:$D$21,2)","v":"電気・ガス・熱供給・水道業"},36,{"$f":"VLOOKUP(D749,作業シート!$F$2:$G$100,2)","v":"水道業"},360,{"$f":"VLOOKUP(F749,作業シート!$I$2:$J$531,2)","v":"管理，補助的経済活動を行う事業所（36水道業）"},3600,"主として管理事務を行う本社等","F-36-360-3600","製造業その他"]
[null,"F",{"$f":"VLOOKUP(日本標準産業分類!B750,作業シート!$C$2:$D$21,2)","v":"電気・ガス・熱供給・水道業"},36,{"$f":"VLOOKUP(D750,作業シート!$F$2:$G$100,2)","v":"水道業"},360,{"$f":"VLOOKUP(F750,作業シート!$I$2:$J$531,2)","v":"管理，補助的経済活動を行う事業所（36水道業）"},3609,"その他の管理，補助的経済活動を行う事業所","F-36-360-3609","製造業その他"]
[null,"F",{"$f":"VLOOKUP(日本標準産業分類!B751,作業シート!$C$2:$D$21,2)","v":"電気・ガス・熱供給・水道業"},36,{"$f":"VLOOKUP(D751,作業シート!$F$2:$G$100,2)","v":"水道業"},361,{"$f":"VLOOKUP(F751,作業シート!$I$2:$J$531,2)","v":"上水道業"},3611,"上水道業","F-36-361-3611","製造業その他"]
[null,"F",{"$f":"VLOOKUP(日本標準産業分類!B752,作業シート!$C$2:$D$21,2)","v":"電気・ガス・熱供給・水道業"},36,{"$f":"VLOOKUP(D752,作業シート!$F$2:$G$100,2)","v":"水道業"},362,{"$f":"VLOOKUP(F752,作業シート!$I$2:$J$531,2)","v":"工業用水道業"},3621,"工業用水道業",{"$f":"CONCATENATE(B752,\"-\",D752,\"-\",F752,\"-\",H752)","v":"F-36-362-3621"},"製造業その他"]
[null,"F",{"$f":"VLOOKUP(日本標準産業分類!B753,作業シート!$C$2:$D$21,2)","v":"電気・ガス・熱供給・水道業"},36,{"$f":"VLOOKUP(D753,作業シート!$F$2:$G$100,2)","v":"水道業"},363,{"$f":"VLOOKUP(F753,作業シート!$I$2:$J$531,2)","v":"下水道業"},3631,"下水道処理施設維持管理業","F-36-363-3631","製造業その他"]
[null,"F",{"$f":"VLOOKUP(日本標準産業分類!B754,作業シート!$C$2:$D$21,2)","v":"電気・ガス・熱供給・水道業"},36,{"$f":"VLOOKUP(D754,作業シート!$F$2:$G$100,2)","v":"水道業"},363,{"$f":"VLOOKUP(F754,作業シート!$I$2:$J$531,2)","v":"下水道業"},3632,"下水道管路施設維持管理業","F-36-363-3632","製造業その他"]
[null,"G",{"$f":"VLOOKUP(日本標準産業分類!B755,作業シート!$C$2:$D$21,2)","v":"情報通信業"},37,{"$f":"VLOOKUP(D755,作業シート!$F$2:$G$100,2)","v":"通信業"},370,{"$f":"VLOOKUP(F755,作業シート!$I$2:$J$531,2)","v":"管理，補助的経済活動を行う事業所（37通信業）"},3700,"主として管理事務を行う本社等","G-37-370-3700","製造業その他"]
[null,"G",{"$f":"VLOOKUP(日本標準産業分類!B756,作業シート!$C$2:$D$21,2)","v":"情報通信業"},37,{"$f":"VLOOKUP(D756,作業シート!$F$2:$G$100,2)","v":"通信業"},370,{"$f":"VLOOKUP(F756,作業シート!$I$2:$J$531,2)","v":"管理，補助的経済活動を行う事業所（37通信業）"},3709,"その他の管理，補助的経済活動を行う事業所","G-37-370-3709","製造業その他"]
[null,"G",{"$f":"VLOOKUP(日本標準産業分類!B757,作業シート!$C$2:$D$21,2)","v":"情報通信業"},37,{"$f":"VLOOKUP(D757,作業シート!$F$2:$G$100,2)","v":"通信業"},371,{"$f":"VLOOKUP(F757,作業シート!$I$2:$J$531,2)","v":"固定電気通信業"},3711,"地域電気通信業（有線放送電話業を除く）","G-37-371-3711","製造業その他"]
[null,"G",{"$f":"VLOOKUP(日本標準産業分類!B758,作業シート!$C$2:$D$21,2)","v":"情報通信業"},37,{"$f":"VLOOKUP(D758,作業シート!$F$2:$G$100,2)","v":"通信業"},371,{"$f":"VLOOKUP(F758,作業シート!$I$2:$J$531,2)","v":"固定電気通信業"},3712,"長距離電気通信業","G-37-371-3712","製造業その他"]
[null,"G",{"$f":"VLOOKUP(日本標準産業分類!B759,作業シート!$C$2:$D$21,2)","v":"情報通信業"},37,{"$f":"VLOOKUP(D759,作業シート!$F$2:$G$100,2)","v":"通信業"},371,{"$f":"VLOOKUP(F759,作業シート!$I$2:$J$531,2)","v":"固定電気通信業"},3713,"有線放送電話業","G-37-371-3713","製造業その他"]
[null,"G",{"$f":"VLOOKUP(日本標準産業分類!B760,作業シート!$C$2:$D$21,2)","v":"情報通信業"},37,{"$f":"VLOOKUP(D760,作業シート!$F$2:$G$100,2)","v":"通信業"},371,{"$f":"VLOOKUP(F760,作業シート!$I$2:$J$531,2)","v":"固定電気通信業"},3719,"その他の固定電気通信業","G-37-371-3719","製造業その他"]
[null,"G",{"$f":"VLOOKUP(日本標準産業分類!B761,作業シート!$C$2:$D$21,2)","v":"情報通信業"},37,{"$f":"VLOOKUP(D761,作業シート!$F$2:$G$100,2)","v":"通信業"},372,{"$f":"VLOOKUP(F761,作業シート!$I$2:$J$531,2)","v":"移動電気通信業"},3721,"移動電気通信業","G-37-372-3721","製造業その他"]
[null,"G",{"$f":"VLOOKUP(日本標準産業分類!B762,作業シート!$C$2:$D$21,2)","v":"情報通信業"},37,{"$f":"VLOOKUP(D762,作業シート!$F$2:$G$100,2)","v":"通信業"},373,{"$f":"VLOOKUP(F762,作業シート!$I$2:$J$531,2)","v":"電気通信に附帯するサービス業"},3731,"電気通信に附帯するサービス業","G-37-373-3731","製造業その他"]
[null,"G",{"$f":"VLOOKUP(日本標準産業分類!B763,作業シート!$C$2:$D$21,2)","v":"情報通信業"},38,{"$f":"VLOOKUP(D763,作業シート!$F$2:$G$100,2)","v":"放送業"},380,{"$f":"VLOOKUP(F763,作業シート!$I$2:$J$531,2)","v":"管理，補助的経済活動を行う事業所（38放送業）"},3800,"主として管理事務を行う本社等","G-38-380-3800","サービス業"]
[null,"G",{"$f":"VLOOKUP(日本標準産業分類!B764,作業シート!$C$2:$D$21,2)","v":"情報通信業"},38,{"$f":"VLOOKUP(D764,作業シート!$F$2:$G$100,2)","v":"放送業"},380,{"$f":"VLOOKUP(F764,作業シート!$I$2:$J$531,2)","v":"管理，補助的経済活動を行う事業所（38放送業）"},3809,"その他の管理，補助的経済活動を行う事業所","G-38-380-3809","サービス業"]
[null,"G",{"$f":"VLOOKUP(日本標準産業分類!B765,作業シート!$C$2:$D$21,2)","v":"情報通信業"},38,{"$f":"VLOOKUP(D765,作業シート!$F$2:$G$100,2)","v":"放送業"},381,{"$f":"VLOOKUP(F765,作業シート!$I$2:$J$531,2)","v":"公共放送業（有線放送業を除く）"},3811,"公共放送業（有線放送業を除く）","G-38-381-3811","サービス業"]
[null,"G",{"$f":"VLOOKUP(日本標準産業分類!B766,作業シート!$C$2:$D$21,2)","v":"情報通信業"},38,{"$f":"VLOOKUP(D766,作業シート!$F$2:$G$100,2)","v":"放送業"},382,{"$f":"VLOOKUP(F766,作業シート!$I$2:$J$531,2)","v":"民間放送業（有線放送業を除く）"},3821,"テレビジョン放送業（衛星放送業を除く）","G-38-382-3821","サービス業"]
[null,"G",{"$f":"VLOOKUP(日本標準産業分類!B767,作業シート!$C$2:$D$21,2)","v":"情報通信業"},38,{"$f":"VLOOKUP(D767,作業シート!$F$2:$G$100,2)","v":"放送業"},382,{"$f":"VLOOKUP(F767,作業シート!$I$2:$J$531,2)","v":"民間放送業（有線放送業を除く）"},3822,"ラジオ放送業（衛星放送業を除く）","G-38-382-3822","サービス業"]
[null,"G",{"$f":"VLOOKUP(日本標準産業分類!B768,作業シート!$C$2:$D$21,2)","v":"情報通信業"},38,{"$f":"VLOOKUP(D768,作業シート!$F$2:$G$100,2)","v":"放送業"},382,{"$f":"VLOOKUP(F768,作業シート!$I$2:$J$531,2)","v":"民間放送業（有線放送業を除く）"},3823,"衛星放送業","G-38-382-3823","サービス業"]
[null,"G",{"$f":"VLOOKUP(日本標準産業分類!B769,作業シート!$C$2:$D$21,2)","v":"情報通信業"},38,{"$f":"VLOOKUP(D769,作業シート!$F$2:$G$100,2)","v":"放送業"},382,{"$f":"VLOOKUP(F769,作業シート!$I$2:$J$531,2)","v":"民間放送業（有線放送業を除く）"},3829,"その他の民間放送業","G-38-382-3829","サービス業"]
[null,"G",{"$f":"VLOOKUP(日本標準産業分類!B770,作業シート!$C$2:$D$21,2)","v":"情報通信業"},38,{"$f":"VLOOKUP(D770,作業シート!$F$2:$G$100,2)","v":"放送業"},383,{"$f":"VLOOKUP(F770,作業シート!$I$2:$J$531,2)","v":"有線放送業"},3831,"有線テレビジョン放送業","G-38-383-3831","サービス業"]
[null,"G",{"$f":"VLOOKUP(日本標準産業分類!B771,作業シート!$C$2:$D$21,2)","v":"情報通信業"},38,{"$f":"VLOOKUP(D771,作業シート!$F$2:$G$100,2)","v":"放送業"},383,{"$f":"VLOOKUP(F771,作業シート!$I$2:$J$531,2)","v":"有線放送業"},3832,"有線ラジオ放送業","G-38-383-3832","サービス業"]
[null,"G",{"$f":"VLOOKUP(日本標準産業分類!B772,作業シート!$C$2:$D$21,2)","v":"情報通信業"},39,{"$f":"VLOOKUP(D772,作業シート!$F$2:$G$100,2)","v":"情報サービス業"},390,{"$f":"VLOOKUP(F772,作業シート!$I$2:$J$531,2)","v":"管理，補助的経済活動を行う事業所（39情報サービス業）"},3900,"主として管理事務を行う本社等","G-39-390-3900","サービス業"]
[null,"G",{"$f":"VLOOKUP(日本標準産業分類!B773,作業シート!$C$2:$D$21,2)","v":"情報通信業"},39,{"$f":"VLOOKUP(D773,作業シート!$F$2:$G$100,2)","v":"情報サービス業"},390,{"$f":"VLOOKUP(F773,作業シート!$I$2:$J$531,2)","v":"管理，補助的経済活動を行う事業所（39情報サービス業）"},3909,"その他の管理，補助的経済活動を行う事業所","G-39-390-3909","サービス業"]
[null,"G",{"$f":"VLOOKUP(日本標準産業分類!B774,作業シート!$C$2:$D$21,2)","v":"情報通信業"},39,{"$f":"VLOOKUP(D774,作業シート!$F$2:$G$100,2)","v":"情報サービス業"},391,{"$f":"VLOOKUP(F774,作業シート!$I$2:$J$531,2)","v":"ソフトウェア業"},3911,"受託開発ソフトウェア業","G-39-391-3911","サービス業"]
[null,"G",{"$f":"VLOOKUP(日本標準産業分類!B775,作業シート!$C$2:$D$21,2)","v":"情報通信業"},39,{"$f":"VLOOKUP(D775,作業シート!$F$2:$G$100,2)","v":"情報サービス業"},391,{"$f":"VLOOKUP(F775,作業シート!$I$2:$J$531,2)","v":"ソフトウェア業"},3912,"組込みソフトウェア業","G-39-391-3912","サービス業"]
[null,"G",{"$f":"VLOOKUP(日本標準産業分類!B776,作業シート!$C$2:$D$21,2)","v":"情報通信業"},39,{"$f":"VLOOKUP(D776,作業シート!$F$2:$G$100,2)","v":"情報サービス業"},391,{"$f":"VLOOKUP(F776,作業シート!$I$2:$J$531,2)","v":"ソフトウェア業"},3913,"パッケージソフトウェア業","G-39-391-3913","サービス業"]
[null,"G",{"$f":"VLOOKUP(日本標準産業分類!B777,作業シート!$C$2:$D$21,2)","v":"情報通信業"},39,{"$f":"VLOOKUP(D777,作業シート!$F$2:$G$100,2)","v":"情報サービス業"},391,{"$f":"VLOOKUP(F777,作業シート!$I$2:$J$531,2)","v":"ソフトウェア業"},3914,"ゲームソフトウェア業","G-39-391-3914","サービス業"]
[null,"G",{"$f":"VLOOKUP(日本標準産業分類!B778,作業シート!$C$2:$D$21,2)","v":"情報通信業"},39,{"$f":"VLOOKUP(D778,作業シート!$F$2:$G$100,2)","v":"情報サービス業"},392,{"$f":"VLOOKUP(F778,作業シート!$I$2:$J$531,2)","v":"情報処理・提供サービス業"},3921,"情報処理サービス業","G-39-392-3921","サービス業"]
[null,"G",{"$f":"VLOOKUP(日本標準産業分類!B779,作業シート!$C$2:$D$21,2)","v":"情報通信業"},39,{"$f":"VLOOKUP(D779,作業シート!$F$2:$G$100,2)","v":"情報サービス業"},392,{"$f":"VLOOKUP(F779,作業シート!$I$2:$J$531,2)","v":"情報処理・提供サービス業"},3922,"情報提供サービス業","G-39-392-3922","サービス業"]
[null,"G",{"$f":"VLOOKUP(日本標準産業分類!B780,作業シート!$C$2:$D$21,2)","v":"情報通信業"},39,{"$f":"VLOOKUP(D780,作業シート!$F$2:$G$100,2)","v":"情報サービス業"},392,{"$f":"VLOOKUP(F780,作業シート!$I$2:$J$531,2)","v":"情報処理・提供サービス業"},3923,"市場調査・世論調査・社会調査業","G-39-392-3923","サービス業"]
[null,"G",{"$f":"VLOOKUP(日本標準産業分類!B781,作業シート!$C$2:$D$21,2)","v":"情報通信業"},39,{"$f":"VLOOKUP(D781,作業シート!$F$2:$G$100,2)","v":"情報サービス業"},392,{"$f":"VLOOKUP(F781,作業シート!$I$2:$J$531,2)","v":"情報処理・提供サービス業"},3929,"その他の情報処理・提供サービス業","G-39-392-3929","サービス業"]
[null,"G",{"$f":"VLOOKUP(日本標準産業分類!B782,作業シート!$C$2:$D$21,2)","v":"情報通信業"},40,{"$f":"VLOOKUP(D782,作業シート!$F$2:$G$100,2)","v":"インターネット附随サービス業"},400,{"$f":"VLOOKUP(F782,作業シート!$I$2:$J$531,2)","v":"管理，補助的経済活動を行う事業所（40インターネット附随サービス業）"},4000,"主として管理事務を行う本社等","G-40-400-4000","製造業その他"]
[null,"G",{"$f":"VLOOKUP(日本標準産業分類!B783,作業シート!$C$2:$D$21,2)","v":"情報通信業"},40,{"$f":"VLOOKUP(D783,作業シート!$F$2:$G$100,2)","v":"インターネット附随サービス業"},400,{"$f":"VLOOKUP(F783,作業シート!$I$2:$J$531,2)","v":"管理，補助的経済活動を行う事業所（40インターネット附随サービス業）"},4009,"その他の管理，補助的経済活動を行う事業所","G-40-400-4009","製造業その他"]
[null,"G",{"$f":"VLOOKUP(日本標準産業分類!B784,作業シート!$C$2:$D$21,2)","v":"情報通信業"},40,{"$f":"VLOOKUP(D784,作業シート!$F$2:$G$100,2)","v":"インターネット附随サービス業"},401,{"$f":"VLOOKUP(F784,作業シート!$I$2:$J$531,2)","v":"インターネット附随サービス業"},4011,"ポータルサイト・サーバ運営業","G-40-401-4011","製造業その他"]
[null,"G",{"$f":"VLOOKUP(日本標準産業分類!B785,作業シート!$C$2:$D$21,2)","v":"情報通信業"},40,{"$f":"VLOOKUP(D785,作業シート!$F$2:$G$100,2)","v":"インターネット附随サービス業"},401,{"$f":"VLOOKUP(F785,作業シート!$I$2:$J$531,2)","v":"インターネット附随サービス業"},4012,"アプリケーション・サービス・コンテンツ・プロバイダ","G-40-401-4012","製造業その他"]
[null,"G",{"$f":"VLOOKUP(日本標準産業分類!B786,作業シート!$C$2:$D$21,2)","v":"情報通信業"},40,{"$f":"VLOOKUP(D786,作業シート!$F$2:$G$100,2)","v":"インターネット附随サービス業"},401,{"$f":"VLOOKUP(F786,作業シート!$I$2:$J$531,2)","v":"インターネット附随サービス業"},4013,"インターネット利用サポート業","G-40-401-4013","製造業その他"]
[null,"G",{"$f":"VLOOKUP(日本標準産業分類!B787,作業シート!$C$2:$D$21,2)","v":"情報通信業"},41,{"$f":"VLOOKUP(D787,作業シート!$F$2:$G$100,2)","v":"映像・音声・文字情報制作業"},410,{"$f":"VLOOKUP(F787,作業シート!$I$2:$J$531,2)","v":"管理，補助的経済活動を行う事業所（41映像・音声・文字情報制作業）"},4100,"主として管理事務を行う本社等","G-41-410-4100","製造業その他"]
[null,"G",{"$f":"VLOOKUP(日本標準産業分類!B788,作業シート!$C$2:$D$21,2)","v":"情報通信業"},41,{"$f":"VLOOKUP(D788,作業シート!$F$2:$G$100,2)","v":"映像・音声・文字情報制作業"},410,{"$f":"VLOOKUP(F788,作業シート!$I$2:$J$531,2)","v":"管理，補助的経済活動を行う事業所（41映像・音声・文字情報制作業）"},4109,"その他の管理，補助的経済活動を行う事業所","G-41-410-4109","製造業その他"]
[null,"G",{"$f":"VLOOKUP(日本標準産業分類!B789,作業シート!$C$2:$D$21,2)","v":"情報通信業"},41,{"$f":"VLOOKUP(D789,作業シート!$F$2:$G$100,2)","v":"映像・音声・文字情報制作業"},411,{"$f":"VLOOKUP(F789,作業シート!$I$2:$J$531,2)","v":"映像情報制作・配給業"},4111,"映画・ビデオ制作業（テレビジョン番組制作業，アニメーション制作業を除く）","G-41-411-4111","サービス業"]
[null,"G",{"$f":"VLOOKUP(日本標準産業分類!B790,作業シート!$C$2:$D$21,2)","v":"情報通信業"},41,{"$f":"VLOOKUP(D790,作業シート!$F$2:$G$100,2)","v":"映像・音声・文字情報制作業"},411,{"$f":"VLOOKUP(F790,作業シート!$I$2:$J$531,2)","v":"映像情報制作・配給業"},4112,"テレビジョン番組制作業（アニメーション制作業を除く）","G-41-411-4112","サービス業"]
[null,"G",{"$f":"VLOOKUP(日本標準産業分類!B791,作業シート!$C$2:$D$21,2)","v":"情報通信業"},41,{"$f":"VLOOKUP(D791,作業シート!$F$2:$G$100,2)","v":"映像・音声・文字情報制作業"},411,{"$f":"VLOOKUP(F791,作業シート!$I$2:$J$531,2)","v":"映像情報制作・配給業"},4113,"アニメーション制作業","G-41-411-4113","サービス業"]
[null,"G",{"$f":"VLOOKUP(日本標準産業分類!B792,作業シート!$C$2:$D$21,2)","v":"情報通信業"},41,{"$f":"VLOOKUP(D792,作業シート!$F$2:$G$100,2)","v":"映像・音声・文字情報制作業"},411,{"$f":"VLOOKUP(F792,作業シート!$I$2:$J$531,2)","v":"映像情報制作・配給業"},4114,"映画・ビデオ・テレビジョン番組配給業","G-41-411-4114","サービス業"]
[null,"G",{"$f":"VLOOKUP(日本標準産業分類!B793,作業シート!$C$2:$D$21,2)","v":"情報通信業"},41,{"$f":"VLOOKUP(D793,作業シート!$F$2:$G$100,2)","v":"映像・音声・文字情報制作業"},412,{"$f":"VLOOKUP(F793,作業シート!$I$2:$J$531,2)","v":"音声情報制作業"},4121,"レコード制作業",{"$f":"CONCATENATE(B793,\"-\",D793,\"-\",F793,\"-\",H793)","v":"G-41-412-4121"},"サービス業"]
[null,"G",{"$f":"VLOOKUP(日本標準産業分類!B794,作業シート!$C$2:$D$21,2)","v":"情報通信業"},41,{"$f":"VLOOKUP(D794,作業シート!$F$2:$G$100,2)","v":"映像・音声・文字情報制作業"},412,{"$f":"VLOOKUP(F794,作業シート!$I$2:$J$531,2)","v":"音声情報制作業"},4122,"ラジオ番組制作業","G-41-412-4122","サービス業"]
[null,"G",{"$f":"VLOOKUP(日本標準産業分類!B795,作業シート!$C$2:$D$21,2)","v":"情報通信業"},41,{"$f":"VLOOKUP(D795,作業シート!$F$2:$G$100,2)","v":"映像・音声・文字情報制作業"},413,{"$f":"VLOOKUP(F795,作業シート!$I$2:$J$531,2)","v":"新聞業"},4131,"新聞業","G-41-413-4131","製造業その他"]
[null,"G",{"$f":"VLOOKUP(日本標準産業分類!B796,作業シート!$C$2:$D$21,2)","v":"情報通信業"},41,{"$f":"VLOOKUP(D796,作業シート!$F$2:$G$100,2)","v":"映像・音声・文字情報制作業"},414,{"$f":"VLOOKUP(F796,作業シート!$I$2:$J$531,2)","v":"出版業"},4141,"出版業","G-41-414-4141","製造業その他"]
[null,"G",{"$f":"VLOOKUP(日本標準産業分類!B797,作業シート!$C$2:$D$21,2)","v":"情報通信業"},41,{"$f":"VLOOKUP(D797,作業シート!$F$2:$G$100,2)","v":"映像・音声・文字情報制作業"},415,{"$f":"VLOOKUP(F797,作業シート!$I$2:$J$531,2)","v":"広告制作業"},4151,"広告制作業","G-41-415-4151","サービス業"]
[null,"G",{"$f":"VLOOKUP(日本標準産業分類!B798,作業シート!$C$2:$D$21,2)","v":"情報通信業"},41,{"$f":"VLOOKUP(D798,作業シート!$F$2:$G$100,2)","v":"映像・音声・文字情報制作業"},416,{"$f":"VLOOKUP(F798,作業シート!$I$2:$J$531,2)","v":"映像・音声・文字情報制作に附帯するサービス業"},4161,"ニュース供給業","G-41-416-4161","サービス業"]
[null,"G",{"$f":"VLOOKUP(日本標準産業分類!B799,作業シート!$C$2:$D$21,2)","v":"情報通信業"},41,{"$f":"VLOOKUP(D799,作業シート!$F$2:$G$100,2)","v":"映像・音声・文字情報制作業"},416,{"$f":"VLOOKUP(F799,作業シート!$I$2:$J$531,2)","v":"映像・音声・文字情報制作に附帯するサービス業"},4169,"その他の映像・音声・文字情報制作に附帯するサービス業","G-41-416-4169","サービス業"]
[null,"H",{"$f":"VLOOKUP(日本標準産業分類!B800,作業シート!$C$2:$D$21,2)","v":"運輸業，郵便業"},42,{"$f":"VLOOKUP(D800,作業シート!$F$2:$G$100,2)","v":"鉄道業"},420,{"$f":"VLOOKUP(F800,作業シート!$I$2:$J$531,2)","v":"管理，補助的経済活動を行う事業所（42鉄道業）"},4200,"主として管理事務を行う本社等","H-42-420-4200","製造業その他"]
[null,"H",{"$f":"VLOOKUP(日本標準産業分類!B801,作業シート!$C$2:$D$21,2)","v":"運輸業，郵便業"},42,{"$f":"VLOOKUP(D801,作業シート!$F$2:$G$100,2)","v":"鉄道業"},420,{"$f":"VLOOKUP(F801,作業シート!$I$2:$J$531,2)","v":"管理，補助的経済活動を行う事業所（42鉄道業）"},4209,"その他の管理，補助的経済活動を行う事業所","H-42-420-4209","製造業その他"]
[null,"H",{"$f":"VLOOKUP(日本標準産業分類!B802,作業シート!$C$2:$D$21,2)","v":"運輸業，郵便業"},42,{"$f":"VLOOKUP(D802,作業シート!$F$2:$G$100,2)","v":"鉄道業"},421,{"$f":"VLOOKUP(F802,作業シート!$I$2:$J$531,2)","v":"鉄道業"},4211,"普通鉄道業","H-42-421-4211","製造業その他"]
[null,"H",{"$f":"VLOOKUP(日本標準産業分類!B803,作業シート!$C$2:$D$21,2)","v":"運輸業，郵便業"},42,{"$f":"VLOOKUP(D803,作業シート!$F$2:$G$100,2)","v":"鉄道業"},421,{"$f":"VLOOKUP(F803,作業シート!$I$2:$J$531,2)","v":"鉄道業"},4212,"軌道業","H-42-421-4212","製造業その他"]
[null,"H",{"$f":"VLOOKUP(日本標準産業分類!B804,作業シート!$C$2:$D$21,2)","v":"運輸業，郵便業"},42,{"$f":"VLOOKUP(D804,作業シート!$F$2:$G$100,2)","v":"鉄道業"},421,{"$f":"VLOOKUP(F804,作業シート!$I$2:$J$531,2)","v":"鉄道業"},4213,"地下鉄道業","H-42-421-4213","製造業その他"]
[null,"H",{"$f":"VLOOKUP(日本標準産業分類!B805,作業シート!$C$2:$D$21,2)","v":"運輸業，郵便業"},42,{"$f":"VLOOKUP(D805,作業シート!$F$2:$G$100,2)","v":"鉄道業"},421,{"$f":"VLOOKUP(F805,作業シート!$I$2:$J$531,2)","v":"鉄道業"},4214,"モノレール鉄道業（地下鉄道業を除く）","H-42-421-4214","製造業その他"]
[null,"H",{"$f":"VLOOKUP(日本標準産業分類!B806,作業シート!$C$2:$D$21,2)","v":"運輸業，郵便業"},42,{"$f":"VLOOKUP(D806,作業シート!$F$2:$G$100,2)","v":"鉄道業"},421,{"$f":"VLOOKUP(F806,作業シート!$I$2:$J$531,2)","v":"鉄道業"},4215,"案内軌条式鉄道業（地下鉄道業を除く）","H-42-421-4215","製造業その他"]
[null,"H",{"$f":"VLOOKUP(日本標準産業分類!B807,作業シート!$C$2:$D$21,2)","v":"運輸業，郵便業"},42,{"$f":"VLOOKUP(D807,作業シート!$F$2:$G$100,2)","v":"鉄道業"},421,{"$f":"VLOOKUP(F807,作業シート!$I$2:$J$531,2)","v":"鉄道業"},4216,"鋼索鉄道業","H-42-421-4216","製造業その他"]
[null,"H",{"$f":"VLOOKUP(日本標準産業分類!B808,作業シート!$C$2:$D$21,2)","v":"運輸業，郵便業"},42,{"$f":"VLOOKUP(D808,作業シート!$F$2:$G$100,2)","v":"鉄道業"},421,{"$f":"VLOOKUP(F808,作業シート!$I$2:$J$531,2)","v":"鉄道業"},4217,"索道業","H-42-421-4217","製造業その他"]
[null,"H",{"$f":"VLOOKUP(日本標準産業分類!B809,作業シート!$C$2:$D$21,2)","v":"運輸業，郵便業"},42,{"$f":"VLOOKUP(D809,作業シート!$F$2:$G$100,2)","v":"鉄道業"},421,{"$f":"VLOOKUP(F809,作業シート!$I$2:$J$531,2)","v":"鉄道業"},4219,"その他の鉄道業","H-42-421-4219","製造業その他"]
[null,"H",{"$f":"VLOOKUP(日本標準産業分類!B810,作業シート!$C$2:$D$21,2)","v":"運輸業，郵便業"},43,{"$f":"VLOOKUP(D810,作業シート!$F$2:$G$100,2)","v":"道路旅客運送業"},430,{"$f":"VLOOKUP(F810,作業シート!$I$2:$J$531,2)","v":"管理，補助的経済活動を行う事業所（43道路旅客運送業）"},4300,"主として管理事務を行う本社等","H-43-430-4300","製造業その他"]
[null,"H",{"$f":"VLOOKUP(日本標準産業分類!B811,作業シート!$C$2:$D$21,2)","v":"運輸業，郵便業"},43,{"$f":"VLOOKUP(D811,作業シート!$F$2:$G$100,2)","v":"道路旅客運送業"},430,{"$f":"VLOOKUP(F811,作業シート!$I$2:$J$531,2)","v":"管理，補助的経済活動を行う事業所（43道路旅客運送業）"},4309,"その他の管理，補助的経済活動を行う事業所","H-43-430-4309","製造業その他"]
[null,"H",{"$f":"VLOOKUP(日本標準産業分類!B812,作業シート!$C$2:$D$21,2)","v":"運輸業，郵便業"},43,{"$f":"VLOOKUP(D812,作業シート!$F$2:$G$100,2)","v":"道路旅客運送業"},431,{"$f":"VLOOKUP(F812,作業シート!$I$2:$J$531,2)","v":"一般乗合旅客自動車運送業"},4311,"一般乗合旅客自動車運送業","H-43-431-4311","製造業その他"]
[null,"H",{"$f":"VLOOKUP(日本標準産業分類!B813,作業シート!$C$2:$D$21,2)","v":"運輸業，郵便業"},43,{"$f":"VLOOKUP(D813,作業シート!$F$2:$G$100,2)","v":"道路旅客運送業"},432,{"$f":"VLOOKUP(F813,作業シート!$I$2:$J$531,2)","v":"一般乗用旅客自動車運送業"},4321,"一般乗用旅客自動車運送業","H-43-432-4321","製造業その他"]
[null,"H",{"$f":"VLOOKUP(日本標準産業分類!B814,作業シート!$C$2:$D$21,2)","v":"運輸業，郵便業"},43,{"$f":"VLOOKUP(D814,作業シート!$F$2:$G$100,2)","v":"道路旅客運送業"},433,{"$f":"VLOOKUP(F814,作業シート!$I$2:$J$531,2)","v":"一般貸切旅客自動車運送業"},4331,"一般貸切旅客自動車運送業","H-43-433-4331","製造業その他"]
[null,"H",{"$f":"VLOOKUP(日本標準産業分類!B815,作業シート!$C$2:$D$21,2)","v":"運輸業，郵便業"},43,{"$f":"VLOOKUP(D815,作業シート!$F$2:$G$100,2)","v":"道路旅客運送業"},439,{"$f":"VLOOKUP(F815,作業シート!$I$2:$J$531,2)","v":"その他の道路旅客運送業"},4391,"特定旅客自動車運送業","H-43-439-4391","製造業その他"]
[null,"H",{"$f":"VLOOKUP(日本標準産業分類!B816,作業シート!$C$2:$D$21,2)","v":"運輸業，郵便業"},43,{"$f":"VLOOKUP(D816,作業シート!$F$2:$G$100,2)","v":"道路旅客運送業"},439,{"$f":"VLOOKUP(F816,作業シート!$I$2:$J$531,2)","v":"その他の道路旅客運送業"},4399,"他に分類されない道路旅客運送業","H-43-439-4399","製造業その他"]
[null,"H",{"$f":"VLOOKUP(日本標準産業分類!B817,作業シート!$C$2:$D$21,2)","v":"運輸業，郵便業"},44,{"$f":"VLOOKUP(D817,作業シート!$F$2:$G$100,2)","v":"道路貨物運送業"},440,{"$f":"VLOOKUP(F817,作業シート!$I$2:$J$531,2)","v":"管理，補助的経済活動を行う事業所（44道路貨物運送業）"},4400,"主として管理事務を行う本社等","H-44-440-4400","製造業その他"]
[null,"H",{"$f":"VLOOKUP(日本標準産業分類!B818,作業シート!$C$2:$D$21,2)","v":"運輸業，郵便業"},44,{"$f":"VLOOKUP(D818,作業シート!$F$2:$G$100,2)","v":"道路貨物運送業"},440,{"$f":"VLOOKUP(F818,作業シート!$I$2:$J$531,2)","v":"管理，補助的経済活動を行う事業所（44道路貨物運送業）"},4409,"その他の管理，補助的経済活動を行う事業所","H-44-440-4409","製造業その他"]
[null,"H",{"$f":"VLOOKUP(日本標準産業分類!B819,作業シート!$C$2:$D$21,2)","v":"運輸業，郵便業"},44,{"$f":"VLOOKUP(D819,作業シート!$F$2:$G$100,2)","v":"道路貨物運送業"},441,{"$f":"VLOOKUP(F819,作業シート!$I$2:$J$531,2)","v":"一般貨物自動車運送業"},4411,"一般貨物自動車運送業（特別積合せ貨物運送業を除く）","H-44-441-4411","製造業その他"]
[null,"H",{"$f":"VLOOKUP(日本標準産業分類!B820,作業シート!$C$2:$D$21,2)","v":"運輸業，郵便業"},44,{"$f":"VLOOKUP(D820,作業シート!$F$2:$G$100,2)","v":"道路貨物運送業"},441,{"$f":"VLOOKUP(F820,作業シート!$I$2:$J$531,2)","v":"一般貨物自動車運送業"},4412,"特別積合せ貨物運送業","H-44-441-4412","製造業その他"]
[null,"H",{"$f":"VLOOKUP(日本標準産業分類!B821,作業シート!$C$2:$D$21,2)","v":"運輸業，郵便業"},44,{"$f":"VLOOKUP(D821,作業シート!$F$2:$G$100,2)","v":"道路貨物運送業"},442,{"$f":"VLOOKUP(F821,作業シート!$I$2:$J$531,2)","v":"特定貨物自動車運送業"},4421,"特定貨物自動車運送業","H-44-442-4421","製造業その他"]
[null,"H",{"$f":"VLOOKUP(日本標準産業分類!B822,作業シート!$C$2:$D$21,2)","v":"運輸業，郵便業"},44,{"$f":"VLOOKUP(D822,作業シート!$F$2:$G$100,2)","v":"道路貨物運送業"},443,{"$f":"VLOOKUP(F822,作業シート!$I$2:$J$531,2)","v":"貨物軽自動車運送業"},4431,"貨物軽自動車運送業","H-44-443-4431","製造業その他"]
[null,"H",{"$f":"VLOOKUP(日本標準産業分類!B823,作業シート!$C$2:$D$21,2)","v":"運輸業，郵便業"},44,{"$f":"VLOOKUP(D823,作業シート!$F$2:$G$100,2)","v":"道路貨物運送業"},444,{"$f":"VLOOKUP(F823,作業シート!$I$2:$J$531,2)","v":"集配利用運送業"},4441,"集配利用運送業","H-44-444-4441","製造業その他"]
[null,"H",{"$f":"VLOOKUP(日本標準産業分類!B824,作業シート!$C$2:$D$21,2)","v":"運輸業，郵便業"},44,{"$f":"VLOOKUP(D824,作業シート!$F$2:$G$100,2)","v":"道路貨物運送業"},449,{"$f":"VLOOKUP(F824,作業シート!$I$2:$J$531,2)","v":"その他の道路貨物運送業"},4499,"その他の道路貨物運送業","H-44-449-4499","製造業その他"]
[null,"H",{"$f":"VLOOKUP(日本標準産業分類!B825,作業シート!$C$2:$D$21,2)","v":"運輸業，郵便業"},45,{"$f":"VLOOKUP(D825,作業シート!$F$2:$G$100,2)","v":"水運業"},450,{"$f":"VLOOKUP(F825,作業シート!$I$2:$J$531,2)","v":"管理，補助的経済活動を行う事業所（45水運業）"},4500,"主として管理事務を行う本社等","H-45-450-4500","製造業その他"]
[null,"H",{"$f":"VLOOKUP(日本標準産業分類!B826,作業シート!$C$2:$D$21,2)","v":"運輸業，郵便業"},45,{"$f":"VLOOKUP(D826,作業シート!$F$2:$G$100,2)","v":"水運業"},450,{"$f":"VLOOKUP(F826,作業シート!$I$2:$J$531,2)","v":"管理，補助的経済活動を行う事業所（45水運業）"},4509,"その他の管理，補助的経済活動を行う事業所","H-45-450-4509","製造業その他"]
[null,"H",{"$f":"VLOOKUP(日本標準産業分類!B827,作業シート!$C$2:$D$21,2)","v":"運輸業，郵便業"},45,{"$f":"VLOOKUP(D827,作業シート!$F$2:$G$100,2)","v":"水運業"},451,{"$f":"VLOOKUP(F827,作業シート!$I$2:$J$531,2)","v":"外航海運業"},4511,"外航旅客海運業","H-45-451-4511","製造業その他"]
[null,"H",{"$f":"VLOOKUP(日本標準産業分類!B828,作業シート!$C$2:$D$21,2)","v":"運輸業，郵便業"},45,{"$f":"VLOOKUP(D828,作業シート!$F$2:$G$100,2)","v":"水運業"},451,{"$f":"VLOOKUP(F828,作業シート!$I$2:$J$531,2)","v":"外航海運業"},4512,"外航貨物海運業","H-45-451-4512","製造業その他"]
[null,"H",{"$f":"VLOOKUP(日本標準産業分類!B829,作業シート!$C$2:$D$21,2)","v":"運輸業，郵便業"},45,{"$f":"VLOOKUP(D829,作業シート!$F$2:$G$100,2)","v":"水運業"},452,{"$f":"VLOOKUP(F829,作業シート!$I$2:$J$531,2)","v":"沿海海運業"},4521,"沿海旅客海運業","H-45-452-4521","製造業その他"]
[null,"H",{"$f":"VLOOKUP(日本標準産業分類!B830,作業シート!$C$2:$D$21,2)","v":"運輸業，郵便業"},45,{"$f":"VLOOKUP(D830,作業シート!$F$2:$G$100,2)","v":"水運業"},452,{"$f":"VLOOKUP(F830,作業シート!$I$2:$J$531,2)","v":"沿海海運業"},4522,"沿海貨物海運業","H-45-452-4522","製造業その他"]
[null,"H",{"$f":"VLOOKUP(日本標準産業分類!B831,作業シート!$C$2:$D$21,2)","v":"運輸業，郵便業"},45,{"$f":"VLOOKUP(D831,作業シート!$F$2:$G$100,2)","v":"水運業"},453,{"$f":"VLOOKUP(F831,作業シート!$I$2:$J$531,2)","v":"内陸水運業"},4531,"港湾旅客海運業",{"$f":"CONCATENATE(B831,\"-\",D831,\"-\",F831,\"-\",H831)","v":"H-45-453-4531"},"製造業その他"]
[null,"H",{"$f":"VLOOKUP(日本標準産業分類!B832,作業シート!$C$2:$D$21,2)","v":"運輸業，郵便業"},45,{"$f":"VLOOKUP(D832,作業シート!$F$2:$G$100,2)","v":"水運業"},453,{"$f":"VLOOKUP(F832,作業シート!$I$2:$J$531,2)","v":"内陸水運業"},4532,"河川水運業","H-45-453-4532","製造業その他"]
[null,"H",{"$f":"VLOOKUP(日本標準産業分類!B833,作業シート!$C$2:$D$21,2)","v":"運輸業，郵便業"},45,{"$f":"VLOOKUP(D833,作業シート!$F$2:$G$100,2)","v":"水運業"},453,{"$f":"VLOOKUP(F833,作業シート!$I$2:$J$531,2)","v":"内陸水運業"},4533,"湖沼水運業","H-45-453-4533","製造業その他"]
[null,"H",{"$f":"VLOOKUP(日本標準産業分類!B834,作業シート!$C$2:$D$21,2)","v":"運輸業，郵便業"},45,{"$f":"VLOOKUP(D834,作業シート!$F$2:$G$100,2)","v":"水運業"},454,{"$f":"VLOOKUP(F834,作業シート!$I$2:$J$531,2)","v":"船舶貸渡業"},4541,"船舶貸渡業（内航船舶貸渡業を除く）","H-45-454-4541","製造業その他"]
[null,"H",{"$f":"VLOOKUP(日本標準産業分類!B835,作業シート!$C$2:$D$21,2)","v":"運輸業，郵便業"},45,{"$f":"VLOOKUP(D835,作業シート!$F$2:$G$100,2)","v":"水運業"},454,{"$f":"VLOOKUP(F835,作業シート!$I$2:$J$531,2)","v":"船舶貸渡業"},4542,"内航船舶貸渡業","H-45-454-4542","製造業その他"]
[null,"H",{"$f":"VLOOKUP(日本標準産業分類!B836,作業シート!$C$2:$D$21,2)","v":"運輸業，郵便業"},46,{"$f":"VLOOKUP(D836,作業シート!$F$2:$G$100,2)","v":"航空運輸業"},460,{"$f":"VLOOKUP(F836,作業シート!$I$2:$J$531,2)","v":"管理，補助的経済活動を行う事業所（46航空運輸業）"},4600,"主として管理事務を行う本社等","H-46-460-4600","製造業その他"]
[null,"H",{"$f":"VLOOKUP(日本標準産業分類!B837,作業シート!$C$2:$D$21,2)","v":"運輸業，郵便業"},46,{"$f":"VLOOKUP(D837,作業シート!$F$2:$G$100,2)","v":"航空運輸業"},460,{"$f":"VLOOKUP(F837,作業シート!$I$2:$J$531,2)","v":"管理，補助的経済活動を行う事業所（46航空運輸業）"},4609,"その他の管理，補助的経済活動を行う事業所","H-46-460-4609","製造業その他"]
[null,"H",{"$f":"VLOOKUP(日本標準産業分類!B838,作業シート!$C$2:$D$21,2)","v":"運輸業，郵便業"},46,{"$f":"VLOOKUP(D838,作業シート!$F$2:$G$100,2)","v":"航空運輸業"},461,{"$f":"VLOOKUP(F838,作業シート!$I$2:$J$531,2)","v":"航空運送業"},4611,"航空運送業","H-46-461-4611","製造業その他"]
[null,"H",{"$f":"VLOOKUP(日本標準産業分類!B839,作業シート!$C$2:$D$21,2)","v":"運輸業，郵便業"},46,{"$f":"VLOOKUP(D839,作業シート!$F$2:$G$100,2)","v":"航空運輸業"},462,{"$f":"VLOOKUP(F839,作業シート!$I$2:$J$531,2)","v":"航空機使用業（航空運送業を除く）"},4621,"航空機使用業（航空運送業を除く）","H-46-462-4621","製造業その他"]
[null,"H",{"$f":"VLOOKUP(日本標準産業分類!B840,作業シート!$C$2:$D$21,2)","v":"運輸業，郵便業"},47,{"$f":"VLOOKUP(D840,作業シート!$F$2:$G$100,2)","v":"倉庫業"},470,{"$f":"VLOOKUP(F840,作業シート!$I$2:$J$531,2)","v":"管理，補助的経済活動を行う事業所（47倉庫業）"},4700,"主として管理事務を行う本社等","H-47-470-4700","製造業その他"]
[null,"H",{"$f":"VLOOKUP(日本標準産業分類!B841,作業シート!$C$2:$D$21,2)","v":"運輸業，郵便業"},47,{"$f":"VLOOKUP(D841,作業シート!$F$2:$G$100,2)","v":"倉庫業"},470,{"$f":"VLOOKUP(F841,作業シート!$I$2:$J$531,2)","v":"管理，補助的経済活動を行う事業所（47倉庫業）"},4709,"その他の管理，補助的経済活動を行う事業所","H-47-470-4709","製造業その他"]
[null,"H",{"$f":"VLOOKUP(日本標準産業分類!B842,作業シート!$C$2:$D$21,2)","v":"運輸業，郵便業"},47,{"$f":"VLOOKUP(D842,作業シート!$F$2:$G$100,2)","v":"倉庫業"},471,{"$f":"VLOOKUP(F842,作業シート!$I$2:$J$531,2)","v":"倉庫業（冷蔵倉庫業を除く）"},4711,"倉庫業（冷蔵倉庫業を除く）","H-47-471-4711","製造業その他"]
[null,"H",{"$f":"VLOOKUP(日本標準産業分類!B843,作業シート!$C$2:$D$21,2)","v":"運輸業，郵便業"},47,{"$f":"VLOOKUP(D843,作業シート!$F$2:$G$100,2)","v":"倉庫業"},472,{"$f":"VLOOKUP(F843,作業シート!$I$2:$J$531,2)","v":"冷蔵倉庫業"},4721,"冷蔵倉庫業","H-47-472-4721","製造業その他"]
[null,"H",{"$f":"VLOOKUP(日本標準産業分類!B844,作業シート!$C$2:$D$21,2)","v":"運輸業，郵便業"},48,{"$f":"VLOOKUP(D844,作業シート!$F$2:$G$100,2)","v":"運輸に附帯するサービス業"},480,{"$f":"VLOOKUP(F844,作業シート!$I$2:$J$531,2)","v":"管理，補助的経済活動を行う事業所（48運輸に附帯するサービス業）"},4800,"主として管理事務を行う本社等","H-48-480-4800","製造業その他"]
[null,"H",{"$f":"VLOOKUP(日本標準産業分類!B845,作業シート!$C$2:$D$21,2)","v":"運輸業，郵便業"},48,{"$f":"VLOOKUP(D845,作業シート!$F$2:$G$100,2)","v":"運輸に附帯するサービス業"},480,{"$f":"VLOOKUP(F845,作業シート!$I$2:$J$531,2)","v":"管理，補助的経済活動を行う事業所（48運輸に附帯するサービス業）"},4809,"その他の管理，補助的経済活動を行う事業所","H-48-480-4809","製造業その他"]
[null,"H",{"$f":"VLOOKUP(日本標準産業分類!B846,作業シート!$C$2:$D$21,2)","v":"運輸業，郵便業"},48,{"$f":"VLOOKUP(D846,作業シート!$F$2:$G$100,2)","v":"運輸に附帯するサービス業"},481,{"$f":"VLOOKUP(F846,作業シート!$I$2:$J$531,2)","v":"港湾運送業"},4811,"港湾運送業","H-48-481-4811","製造業その他"]
[null,"H",{"$f":"VLOOKUP(日本標準産業分類!B847,作業シート!$C$2:$D$21,2)","v":"運輸業，郵便業"},48,{"$f":"VLOOKUP(D847,作業シート!$F$2:$G$100,2)","v":"運輸に附帯するサービス業"},482,{"$f":"VLOOKUP(F847,作業シート!$I$2:$J$531,2)","v":"貨物運送取扱業（集配利用運送業を除く）"},4821,"利用運送業（集配利用運送業を除く）","H-48-482-4821","製造業その他"]
[null,"H",{"$f":"VLOOKUP(日本標準産業分類!B848,作業シート!$C$2:$D$21,2)","v":"運輸業，郵便業"},48,{"$f":"VLOOKUP(D848,作業シート!$F$2:$G$100,2)","v":"運輸に附帯するサービス業"},482,{"$f":"VLOOKUP(F848,作業シート!$I$2:$J$531,2)","v":"貨物運送取扱業（集配利用運送業を除く）"},4822,"運送取次業","H-48-482-4822","製造業その他"]
[null,"H",{"$f":"VLOOKUP(日本標準産業分類!B849,作業シート!$C$2:$D$21,2)","v":"運輸業，郵便業"},48,{"$f":"VLOOKUP(D849,作業シート!$F$2:$G$100,2)","v":"運輸に附帯するサービス業"},483,{"$f":"VLOOKUP(F849,作業シート!$I$2:$J$531,2)","v":"運送代理店"},4831,"運送代理店","H-48-483-4831","製造業その他"]
[null,"H",{"$f":"VLOOKUP(日本標準産業分類!B850,作業シート!$C$2:$D$21,2)","v":"運輸業，郵便業"},48,{"$f":"VLOOKUP(D850,作業シート!$F$2:$G$100,2)","v":"運輸に附帯するサービス業"},484,{"$f":"VLOOKUP(F850,作業シート!$I$2:$J$531,2)","v":"こん包業"},4841,"こん包業（組立こん包業を除く）","H-48-484-4841","製造業その他"]
[null,"H",{"$f":"VLOOKUP(日本標準産業分類!B851,作業シート!$C$2:$D$21,2)","v":"運輸業，郵便業"},48,{"$f":"VLOOKUP(D851,作業シート!$F$2:$G$100,2)","v":"運輸に附帯するサービス業"},484,{"$f":"VLOOKUP(F851,作業シート!$I$2:$J$531,2)","v":"こん包業"},4842,"組立こん包業","H-48-484-4842","製造業その他"]
[null,"H",{"$f":"VLOOKUP(日本標準産業分類!B852,作業シート!$C$2:$D$21,2)","v":"運輸業，郵便業"},48,{"$f":"VLOOKUP(D852,作業シート!$F$2:$G$100,2)","v":"運輸に附帯するサービス業"},485,{"$f":"VLOOKUP(F852,作業シート!$I$2:$J$531,2)","v":"運輸施設提供業"},4851,"鉄道施設提供業","H-48-485-4851","製造業その他"]
[null,"H",{"$f":"VLOOKUP(日本標準産業分類!B853,作業シート!$C$2:$D$21,2)","v":"運輸業，郵便業"},48,{"$f":"VLOOKUP(D853,作業シート!$F$2:$G$100,2)","v":"運輸に附帯するサービス業"},485,{"$f":"VLOOKUP(F853,作業シート!$I$2:$J$531,2)","v":"運輸施設提供業"},4852,"道路運送固定施設業","H-48-485-4852","製造業その他"]
[null,"H",{"$f":"VLOOKUP(日本標準産業分類!B854,作業シート!$C$2:$D$21,2)","v":"運輸業，郵便業"},48,{"$f":"VLOOKUP(D854,作業シート!$F$2:$G$100,2)","v":"運輸に附帯するサービス業"},485,{"$f":"VLOOKUP(F854,作業シート!$I$2:$J$531,2)","v":"運輸施設提供業"},4853,"自動車ターミナル業","H-48-485-4853","製造業その他"]
[null,"H",{"$f":"VLOOKUP(日本標準産業分類!B855,作業シート!$C$2:$D$21,2)","v":"運輸業，郵便業"},48,{"$f":"VLOOKUP(D855,作業シート!$F$2:$G$100,2)","v":"運輸に附帯するサービス業"},485,{"$f":"VLOOKUP(F855,作業シート!$I$2:$J$531,2)","v":"運輸施設提供業"},4854,"貨物荷扱固定施設業","H-48-485-4854","製造業その他"]
[null,"H",{"$f":"VLOOKUP(日本標準産業分類!B856,作業シート!$C$2:$D$21,2)","v":"運輸業，郵便業"},48,{"$f":"VLOOKUP(D856,作業シート!$F$2:$G$100,2)","v":"運輸に附帯するサービス業"},485,{"$f":"VLOOKUP(F856,作業シート!$I$2:$J$531,2)","v":"運輸施設提供業"},4855,"桟橋泊きょ業","H-48-485-4855","製造業その他"]
[null,"H",{"$f":"VLOOKUP(日本標準産業分類!B857,作業シート!$C$2:$D$21,2)","v":"運輸業，郵便業"},48,{"$f":"VLOOKUP(D857,作業シート!$F$2:$G$100,2)","v":"運輸に附帯するサービス業"},485,{"$f":"VLOOKUP(F857,作業シート!$I$2:$J$531,2)","v":"運輸施設提供業"},4856,"飛行場業","H-48-485-4856","製造業その他"]
[null,"H",{"$f":"VLOOKUP(日本標準産業分類!B858,作業シート!$C$2:$D$21,2)","v":"運輸業，郵便業"},48,{"$f":"VLOOKUP(D858,作業シート!$F$2:$G$100,2)","v":"運輸に附帯するサービス業"},489,{"$f":"VLOOKUP(F858,作業シート!$I$2:$J$531,2)","v":"その他の運輸に附帯するサービス業"},4891,"海運仲立業","H-48-489-4891","製造業その他"]
[null,"H",{"$f":"VLOOKUP(日本標準産業分類!B859,作業シート!$C$2:$D$21,2)","v":"運輸業，郵便業"},48,{"$f":"VLOOKUP(D859,作業シート!$F$2:$G$100,2)","v":"運輸に附帯するサービス業"},489,{"$f":"VLOOKUP(F859,作業シート!$I$2:$J$531,2)","v":"その他の運輸に附帯するサービス業"},4899,"他に分類されない運輸に附帯するサービス業","H-48-489-4899","製造業その他"]
[null,"H",{"$f":"VLOOKUP(日本標準産業分類!B860,作業シート!$C$2:$D$21,2)","v":"運輸業，郵便業"},49,{"$f":"VLOOKUP(D860,作業シート!$F$2:$G$100,2)","v":"郵便業（信書便事業を含む）"},490,{"$f":"VLOOKUP(F860,作業シート!$I$2:$J$531,2)","v":"管理，補助的経済活動を行う事業所（49郵便業）"},4901,"管理，補助的経済活動を行う事業所","H-49-490-4901","製造業その他"]
[null,"H",{"$f":"VLOOKUP(日本標準産業分類!B861,作業シート!$C$2:$D$21,2)","v":"運輸業，郵便業"},49,{"$f":"VLOOKUP(D861,作業シート!$F$2:$G$100,2)","v":"郵便業（信書便事業を含む）"},491,{"$f":"VLOOKUP(F861,作業シート!$I$2:$J$531,2)","v":"郵便業（信書便事業を含む）"},4911,"郵便業（信書便事業を含む）","H-49-491-4911","製造業その他"]
[null,"I",{"$f":"VLOOKUP(日本標準産業分類!B862,作業シート!$C$2:$D$21,2)","v":"卸売業，小売業"},50,{"$f":"VLOOKUP(D862,作業シート!$F$2:$G$100,2)","v":"各種商品卸売業"},500,{"$f":"VLOOKUP(F862,作業シート!$I$2:$J$531,2)","v":"管理，補助的経済活動を行う事業所（50各種商品卸売業）"},5000,"主として管理事務を行う本社等","I-50-500-5000","卸売業"]
[null,"I",{"$f":"VLOOKUP(日本標準産業分類!B863,作業シート!$C$2:$D$21,2)","v":"卸売業，小売業"},50,{"$f":"VLOOKUP(D863,作業シート!$F$2:$G$100,2)","v":"各種商品卸売業"},500,{"$f":"VLOOKUP(F863,作業シート!$I$2:$J$531,2)","v":"管理，補助的経済活動を行う事業所（50各種商品卸売業）"},5008,"自家用倉庫","I-50-500-5008","卸売業"]
[null,"I",{"$f":"VLOOKUP(日本標準産業分類!B864,作業シート!$C$2:$D$21,2)","v":"卸売業，小売業"},50,{"$f":"VLOOKUP(D864,作業シート!$F$2:$G$100,2)","v":"各種商品卸売業"},500,{"$f":"VLOOKUP(F864,作業シート!$I$2:$J$531,2)","v":"管理，補助的経済活動を行う事業所（50各種商品卸売業）"},5009,"その他の管理，補助的経済活動を行う事業所","I-50-500-5009","卸売業"]
[null,"I",{"$f":"VLOOKUP(日本標準産業分類!B865,作業シート!$C$2:$D$21,2)","v":"卸売業，小売業"},50,{"$f":"VLOOKUP(D865,作業シート!$F$2:$G$100,2)","v":"各種商品卸売業"},501,{"$f":"VLOOKUP(F865,作業シート!$I$2:$J$531,2)","v":"各種商品卸売業"},5011,"各種商品卸売業（従業者が常時100人以上のもの）","I-50-501-5011","卸売業"]
[null,"I",{"$f":"VLOOKUP(日本標準産業分類!B866,作業シート!$C$2:$D$21,2)","v":"卸売業，小売業"},50,{"$f":"VLOOKUP(D866,作業シート!$F$2:$G$100,2)","v":"各種商品卸売業"},501,{"$f":"VLOOKUP(F866,作業シート!$I$2:$J$531,2)","v":"各種商品卸売業"},5019,"その他の各種商品卸売業","I-50-501-5019","卸売業"]
[null,"I",{"$f":"VLOOKUP(日本標準産業分類!B867,作業シート!$C$2:$D$21,2)","v":"卸売業，小売業"},51,{"$f":"VLOOKUP(D867,作業シート!$F$2:$G$100,2)","v":"繊維・衣服等卸売業"},510,{"$f":"VLOOKUP(F867,作業シート!$I$2:$J$531,2)","v":"管理，補助的経済活動を行う事業所（51繊維・衣服等卸売業）"},5100,"主として管理事務を行う本社等","I-51-510-5100","卸売業"]
[null,"I",{"$f":"VLOOKUP(日本標準産業分類!B868,作業シート!$C$2:$D$21,2)","v":"卸売業，小売業"},51,{"$f":"VLOOKUP(D868,作業シート!$F$2:$G$100,2)","v":"繊維・衣服等卸売業"},510,{"$f":"VLOOKUP(F868,作業シート!$I$2:$J$531,2)","v":"管理，補助的経済活動を行う事業所（51繊維・衣服等卸売業）"},5108,"自家用倉庫","I-51-510-5108","卸売業"]
[null,"I",{"$f":"VLOOKUP(日本標準産業分類!B869,作業シート!$C$2:$D$21,2)","v":"卸売業，小売業"},51,{"$f":"VLOOKUP(D869,作業シート!$F$2:$G$100,2)","v":"繊維・衣服等卸売業"},510,{"$f":"VLOOKUP(F869,作業シート!$I$2:$J$531,2)","v":"管理，補助的経済活動を行う事業所（51繊維・衣服等卸売業）"},5109,"その他の管理，補助的経済活動を行う事業所",{"$f":"CONCATENATE(B869,\"-\",D869,\"-\",F869,\"-\",H869)","v":"I-51-510-5109"},"卸売業"]
[null,"I",{"$f":"VLOOKUP(日本標準産業分類!B870,作業シート!$C$2:$D$21,2)","v":"卸売業，小売業"},51,{"$f":"VLOOKUP(D870,作業シート!$F$2:$G$100,2)","v":"繊維・衣服等卸売業"},511,{"$f":"VLOOKUP(F870,作業シート!$I$2:$J$531,2)","v":"繊維品卸売業（衣服，身の回り品を除く）"},5111,"繊維原料卸売業","I-51-511-5111","卸売業"]
[null,"I",{"$f":"VLOOKUP(日本標準産業分類!B871,作業シート!$C$2:$D$21,2)","v":"卸売業，小売業"},51,{"$f":"VLOOKUP(D871,作業シート!$F$2:$G$100,2)","v":"繊維・衣服等卸売業"},511,{"$f":"VLOOKUP(F871,作業シート!$I$2:$J$531,2)","v":"繊維品卸売業（衣服，身の回り品を除く）"},5112,"糸卸売業","I-51-511-5112","卸売業"]
[null,"I",{"$f":"VLOOKUP(日本標準産業分類!B872,作業シート!$C$2:$D$21,2)","v":"卸売業，小売業"},51,{"$f":"VLOOKUP(D872,作業シート!$F$2:$G$100,2)","v":"繊維・衣服等卸売業"},511,{"$f":"VLOOKUP(F872,作業シート!$I$2:$J$531,2)","v":"繊維品卸売業（衣服，身の回り品を除く）"},5113,"織物卸売業（室内装飾繊維品を除く）","I-51-511-5113","卸売業"]
[null,"I",{"$f":"VLOOKUP(日本標準産業分類!B873,作業シート!$C$2:$D$21,2)","v":"卸売業，小売業"},51,{"$f":"VLOOKUP(D873,作業シート!$F$2:$G$100,2)","v":"繊維・衣服等卸売業"},512,{"$f":"VLOOKUP(F873,作業シート!$I$2:$J$531,2)","v":"衣服卸売業"},5121,"男子服卸売業","I-51-512-5121","卸売業"]
[null,"I",{"$f":"VLOOKUP(日本標準産業分類!B874,作業シート!$C$2:$D$21,2)","v":"卸売業，小売業"},51,{"$f":"VLOOKUP(D874,作業シート!$F$2:$G$100,2)","v":"繊維・衣服等卸売業"},512,{"$f":"VLOOKUP(F874,作業シート!$I$2:$J$531,2)","v":"衣服卸売業"},5122,"婦人・子供服卸売業","I-51-512-5122","卸売業"]
[null,"I",{"$f":"VLOOKUP(日本標準産業分類!B875,作業シート!$C$2:$D$21,2)","v":"卸売業，小売業"},51,{"$f":"VLOOKUP(D875,作業シート!$F$2:$G$100,2)","v":"繊維・衣服等卸売業"},512,{"$f":"VLOOKUP(F875,作業シート!$I$2:$J$531,2)","v":"衣服卸売業"},5123,"下着類卸売業","I-51-512-5123","卸売業"]
[null,"I",{"$f":"VLOOKUP(日本標準産業分類!B876,作業シート!$C$2:$D$21,2)","v":"卸売業，小売業"},51,{"$f":"VLOOKUP(D876,作業シート!$F$2:$G$100,2)","v":"繊維・衣服等卸売業"},512,{"$f":"VLOOKUP(F876,作業シート!$I$2:$J$531,2)","v":"衣服卸売業"},5129,"その他の衣服卸売業","I-51-512-5129","卸売業"]
[null,"I",{"$f":"VLOOKUP(日本標準産業分類!B877,作業シート!$C$2:$D$21,2)","v":"卸売業，小売業"},51,{"$f":"VLOOKUP(D877,作業シート!$F$2:$G$100,2)","v":"繊維・衣服等卸売業"},513,{"$f":"VLOOKUP(F877,作業シート!$I$2:$J$531,2)","v":"身の回り品卸売業"},5131,"寝具類卸売業","I-51-513-5131","卸売業"]
[null,"I",{"$f":"VLOOKUP(日本標準産業分類!B878,作業シート!$C$2:$D$21,2)","v":"卸売業，小売業"},51,{"$f":"VLOOKUP(D878,作業シート!$F$2:$G$100,2)","v":"繊維・衣服等卸売業"},513,{"$f":"VLOOKUP(F878,作業シート!$I$2:$J$531,2)","v":"身の回り品卸売業"},5132,"靴・履物卸売業","I-51-513-5132","卸売業"]
[null,"I",{"$f":"VLOOKUP(日本標準産業分類!B879,作業シート!$C$2:$D$21,2)","v":"卸売業，小売業"},51,{"$f":"VLOOKUP(D879,作業シート!$F$2:$G$100,2)","v":"繊維・衣服等卸売業"},513,{"$f":"VLOOKUP(F879,作業シート!$I$2:$J$531,2)","v":"身の回り品卸売業"},5133,"かばん・袋物卸売業","I-51-513-5133","卸売業"]
[null,"I",{"$f":"VLOOKUP(日本標準産業分類!B880,作業シート!$C$2:$D$21,2)","v":"卸売業，小売業"},51,{"$f":"VLOOKUP(D880,作業シート!$F$2:$G$100,2)","v":"繊維・衣服等卸売業"},513,{"$f":"VLOOKUP(F880,作業シート!$I$2:$J$531,2)","v":"身の回り品卸売業"},5139,"その他の身の回り品卸売業","I-51-513-5139","卸売業"]
[null,"I",{"$f":"VLOOKUP(日本標準産業分類!B881,作業シート!$C$2:$D$21,2)","v":"卸売業，小売業"},52,{"$f":"VLOOKUP(D881,作業シート!$F$2:$G$100,2)","v":"飲食料品卸売業"},520,{"$f":"VLOOKUP(F881,作業シート!$I$2:$J$531,2)","v":"管理，補助的経済活動を行う事業所（52飲食料品卸売業）"},5200,"主として管理事務を行う本社等","I-52-520-5200","卸売業"]
[null,"I",{"$f":"VLOOKUP(日本標準産業分類!B882,作業シート!$C$2:$D$21,2)","v":"卸売業，小売業"},52,{"$f":"VLOOKUP(D882,作業シート!$F$2:$G$100,2)","v":"飲食料品卸売業"},520,{"$f":"VLOOKUP(F882,作業シート!$I$2:$J$531,2)","v":"管理，補助的経済活動を行う事業所（52飲食料品卸売業）"},5208,"自家用倉庫","I-52-520-5208","卸売業"]
[null,"I",{"$f":"VLOOKUP(日本標準産業分類!B883,作業シート!$C$2:$D$21,2)","v":"卸売業，小売業"},52,{"$f":"VLOOKUP(D883,作業シート!$F$2:$G$100,2)","v":"飲食料品卸売業"},520,{"$f":"VLOOKUP(F883,作業シート!$I$2:$J$531,2)","v":"管理，補助的経済活動を行う事業所（52飲食料品卸売業）"},5209,"その他の管理，補助的経済活動を行う事業所","I-52-520-5209","卸売業"]
[null,"I",{"$f":"VLOOKUP(日本標準産業分類!B884,作業シート!$C$2:$D$21,2)","v":"卸売業，小売業"},52,{"$f":"VLOOKUP(D884,作業シート!$F$2:$G$100,2)","v":"飲食料品卸売業"},521,{"$f":"VLOOKUP(F884,作業シート!$I$2:$J$531,2)","v":"農畜産物・水産物卸売業"},5211,"米麦卸売業","I-52-521-5211","卸売業"]
[null,"I",{"$f":"VLOOKUP(日本標準産業分類!B885,作業シート!$C$2:$D$21,2)","v":"卸売業，小売業"},52,{"$f":"VLOOKUP(D885,作業シート!$F$2:$G$100,2)","v":"飲食料品卸売業"},521,{"$f":"VLOOKUP(F885,作業シート!$I$2:$J$531,2)","v":"農畜産物・水産物卸売業"},5212,"雑穀・豆類卸売業","I-52-521-5212","卸売業"]
[null,"I",{"$f":"VLOOKUP(日本標準産業分類!B886,作業シート!$C$2:$D$21,2)","v":"卸売業，小売業"},52,{"$f":"VLOOKUP(D886,作業シート!$F$2:$G$100,2)","v":"飲食料品卸売業"},521,{"$f":"VLOOKUP(F886,作業シート!$I$2:$J$531,2)","v":"農畜産物・水産物卸売業"},5213,"野菜卸売業","I-52-521-5213","卸売業"]
[null,"I",{"$f":"VLOOKUP(日本標準産業分類!B887,作業シート!$C$2:$D$21,2)","v":"卸売業，小売業"},52,{"$f":"VLOOKUP(D887,作業シート!$F$2:$G$100,2)","v":"飲食料品卸売業"},521,{"$f":"VLOOKUP(F887,作業シート!$I$2:$J$531,2)","v":"農畜産物・水産物卸売業"},5214,"果実卸売業","I-52-521-5214","卸売業"]
[null,"I",{"$f":"VLOOKUP(日本標準産業分類!B888,作業シート!$C$2:$D$21,2)","v":"卸売業，小売業"},52,{"$f":"VLOOKUP(D888,作業シート!$F$2:$G$100,2)","v":"飲食料品卸売業"},521,{"$f":"VLOOKUP(F888,作業シート!$I$2:$J$531,2)","v":"農畜産物・水産物卸売業"},5215,"食肉卸売業","I-52-521-5215","卸売業"]
[null,"I",{"$f":"VLOOKUP(日本標準産業分類!B889,作業シート!$C$2:$D$21,2)","v":"卸売業，小売業"},52,{"$f":"VLOOKUP(D889,作業シート!$F$2:$G$100,2)","v":"飲食料品卸売業"},521,{"$f":"VLOOKUP(F889,作業シート!$I$2:$J$531,2)","v":"農畜産物・水産物卸売業"},5216,"生鮮魚介卸売業","I-52-521-5216","卸売業"]
[null,"I",{"$f":"VLOOKUP(日本標準産業分類!B890,作業シート!$C$2:$D$21,2)","v":"卸売業，小売業"},52,{"$f":"VLOOKUP(D890,作業シート!$F$2:$G$100,2)","v":"飲食料品卸売業"},521,{"$f":"VLOOKUP(F890,作業シート!$I$2:$J$531,2)","v":"農畜産物・水産物卸売業"},5219,"その他の農畜産物・水産物卸売業","I-52-521-5219","卸売業"]
[null,"I",{"$f":"VLOOKUP(日本標準産業分類!B891,作業シート!$C$2:$D$21,2)","v":"卸売業，小売業"},52,{"$f":"VLOOKUP(D891,作業シート!$F$2:$G$100,2)","v":"飲食料品卸売業"},522,{"$f":"VLOOKUP(F891,作業シート!$I$2:$J$531,2)","v":"食料・飲料卸売業"},5221,"砂糖・味そ・しょう油卸売業","I-52-522-5221","卸売業"]
[null,"I",{"$f":"VLOOKUP(日本標準産業分類!B892,作業シート!$C$2:$D$21,2)","v":"卸売業，小売業"},52,{"$f":"VLOOKUP(D892,作業シート!$F$2:$G$100,2)","v":"飲食料品卸売業"},522,{"$f":"VLOOKUP(F892,作業シート!$I$2:$J$531,2)","v":"食料・飲料卸売業"},5222,"酒類卸売業","I-52-522-5222","卸売業"]
[null,"I",{"$f":"VLOOKUP(日本標準産業分類!B893,作業シート!$C$2:$D$21,2)","v":"卸売業，小売業"},52,{"$f":"VLOOKUP(D893,作業シート!$F$2:$G$100,2)","v":"飲食料品卸売業"},522,{"$f":"VLOOKUP(F893,作業シート!$I$2:$J$531,2)","v":"食料・飲料卸売業"},5223,"乾物卸売業","I-52-522-5223","卸売業"]
[null,"I",{"$f":"VLOOKUP(日本標準産業分類!B894,作業シート!$C$2:$D$21,2)","v":"卸売業，小売業"},52,{"$f":"VLOOKUP(D894,作業シート!$F$2:$G$100,2)","v":"飲食料品卸売業"},522,{"$f":"VLOOKUP(F894,作業シート!$I$2:$J$531,2)","v":"食料・飲料卸売業"},5224,"菓子・パン類卸売業","I-52-522-5224","卸売業"]
[null,"I",{"$f":"VLOOKUP(日本標準産業分類!B895,作業シート!$C$2:$D$21,2)","v":"卸売業，小売業"},52,{"$f":"VLOOKUP(D895,作業シート!$F$2:$G$100,2)","v":"飲食料品卸売業"},522,{"$f":"VLOOKUP(F895,作業シート!$I$2:$J$531,2)","v":"食料・飲料卸売業"},5225,"飲料卸売業（別掲を除く）","I-52-522-5225","卸売業"]
[null,"I",{"$f":"VLOOKUP(日本標準産業分類!B896,作業シート!$C$2:$D$21,2)","v":"卸売業，小売業"},52,{"$f":"VLOOKUP(D896,作業シート!$F$2:$G$100,2)","v":"飲食料品卸売業"},522,{"$f":"VLOOKUP(F896,作業シート!$I$2:$J$531,2)","v":"食料・飲料卸売業"},5226,"茶類卸売業","I-52-522-5226","卸売業"]
[null,"I",{"$f":"VLOOKUP(日本標準産業分類!B897,作業シート!$C$2:$D$21,2)","v":"卸売業，小売業"},52,{"$f":"VLOOKUP(D897,作業シート!$F$2:$G$100,2)","v":"飲食料品卸売業"},522,{"$f":"VLOOKUP(F897,作業シート!$I$2:$J$531,2)","v":"食料・飲料卸売業"},5227,"牛乳・乳製品卸売業","I-52-522-5227","卸売業"]
[null,"I",{"$f":"VLOOKUP(日本標準産業分類!B898,作業シート!$C$2:$D$21,2)","v":"卸売業，小売業"},52,{"$f":"VLOOKUP(D898,作業シート!$F$2:$G$100,2)","v":"飲食料品卸売業"},522,{"$f":"VLOOKUP(F898,作業シート!$I$2:$J$531,2)","v":"食料・飲料卸売業"},5229,"その他の食料・飲料卸売業","I-52-522-5229","卸売業"]
[null,"I",{"$f":"VLOOKUP(日本標準産業分類!B899,作業シート!$C$2:$D$21,2)","v":"卸売業，小売業"},53,{"$f":"VLOOKUP(D899,作業シート!$F$2:$G$100,2)","v":"建築材料，鉱物・金属材料等卸売業"},530,{"$f":"VLOOKUP(F899,作業シート!$I$2:$J$531,2)","v":"管理，補助的経済活動を行う事業所（53建築材料，鉱物・金属材料等卸売業）"},5300,"主として管理事務を行う本社等","I-53-530-5300","卸売業"]
[null,"I",{"$f":"VLOOKUP(日本標準産業分類!B900,作業シート!$C$2:$D$21,2)","v":"卸売業，小売業"},53,{"$f":"VLOOKUP(D900,作業シート!$F$2:$G$100,2)","v":"建築材料，鉱物・金属材料等卸売業"},530,{"$f":"VLOOKUP(F900,作業シート!$I$2:$J$531,2)","v":"管理，補助的経済活動を行う事業所（53建築材料，鉱物・金属材料等卸売業）"},5308,"自家用倉庫","I-53-530-5308","卸売業"]
[null,"I",{"$f":"VLOOKUP(日本標準産業分類!B901,作業シート!$C$2:$D$21,2)","v":"卸売業，小売業"},53,{"$f":"VLOOKUP(D901,作業シート!$F$2:$G$100,2)","v":"建築材料，鉱物・金属材料等卸売業"},530,{"$f":"VLOOKUP(F901,作業シート!$I$2:$J$531,2)","v":"管理，補助的経済活動を行う事業所（53建築材料，鉱物・金属材料等卸売業）"},5309,"その他の管理，補助的経済活動を行う事業所","I-53-530-5309","卸売業"]
[null,"I",{"$f":"VLOOKUP(日本標準産業分類!B902,作業シート!$C$2:$D$21,2)","v":"卸売業，小売業"},53,{"$f":"VLOOKUP(D902,作業シート!$F$2:$G$100,2)","v":"建築材料，鉱物・金属材料等卸売業"},531,{"$f":"VLOOKUP(F902,作業シート!$I$2:$J$531,2)","v":"建築材料卸売業"},5311,"木材・竹材卸売業","I-53-531-5311","卸売業"]
[null,"I",{"$f":"VLOOKUP(日本標準産業分類!B903,作業シート!$C$2:$D$21,2)","v":"卸売業，小売業"},53,{"$f":"VLOOKUP(D903,作業シート!$F$2:$G$100,2)","v":"建築材料，鉱物・金属材料等卸売業"},531,{"$f":"VLOOKUP(F903,作業シート!$I$2:$J$531,2)","v":"建築材料卸売業"},5312,"セメント卸売業","I-53-531-5312","卸売業"]
[null,"I",{"$f":"VLOOKUP(日本標準産業分類!B904,作業シート!$C$2:$D$21,2)","v":"卸売業，小売業"},53,{"$f":"VLOOKUP(D904,作業シート!$F$2:$G$100,2)","v":"建築材料，鉱物・金属材料等卸売業"},531,{"$f":"VLOOKUP(F904,作業シート!$I$2:$J$531,2)","v":"建築材料卸売業"},5313,"板ガラス卸売業","I-53-531-5313","卸売業"]
[null,"I",{"$f":"VLOOKUP(日本標準産業分類!B905,作業シート!$C$2:$D$21,2)","v":"卸売業，小売業"},53,{"$f":"VLOOKUP(D905,作業シート!$F$2:$G$100,2)","v":"建築材料，鉱物・金属材料等卸売業"},531,{"$f":"VLOOKUP(F905,作業シート!$I$2:$J$531,2)","v":"建築材料卸売業"},5314,"建築用金属製品卸売業（建築用金物を除く）","I-53-531-5314","卸売業"]
[null,"I",{"$f":"VLOOKUP(日本標準産業分類!B906,作業シート!$C$2:$D$21,2)","v":"卸売業，小売業"},53,{"$f":"VLOOKUP(D906,作業シート!$F$2:$G$100,2)","v":"建築材料，鉱物・金属材料等卸売業"},531,{"$f":"VLOOKUP(F906,作業シート!$I$2:$J$531,2)","v":"建築材料卸売業"},5319,"その他の建築材料卸売業","I-53-531-5319","卸売業"]
[null,"I",{"$f":"VLOOKUP(日本標準産業分類!B907,作業シート!$C$2:$D$21,2)","v":"卸売業，小売業"},53,{"$f":"VLOOKUP(D907,作業シート!$F$2:$G$100,2)","v":"建築材料，鉱物・金属材料等卸売業"},532,{"$f":"VLOOKUP(F907,作業シート!$I$2:$J$531,2)","v":"化学製品卸売業"},5321,"塗料卸売業","I-53-532-5321","卸売業"]
[null,"I",{"$f":"VLOOKUP(日本標準産業分類!B908,作業シート!$C$2:$D$21,2)","v":"卸売業，小売業"},53,{"$f":"VLOOKUP(D908,作業シート!$F$2:$G$100,2)","v":"建築材料，鉱物・金属材料等卸売業"},532,{"$f":"VLOOKUP(F908,作業シート!$I$2:$J$531,2)","v":"化学製品卸売業"},5322,"プラスチック卸売業","I-53-532-5322","卸売業"]
[null,"I",{"$f":"VLOOKUP(日本標準産業分類!B909,作業シート!$C$2:$D$21,2)","v":"卸売業，小売業"},53,{"$f":"VLOOKUP(D909,作業シート!$F$2:$G$100,2)","v":"建築材料，鉱物・金属材料等卸売業"},532,{"$f":"VLOOKUP(F909,作業シート!$I$2:$J$531,2)","v":"化学製品卸売業"},5329,"その他の化学製品卸売業","I-53-532-5329","卸売業"]
[null,"I",{"$f":"VLOOKUP(日本標準産業分類!B910,作業シート!$C$2:$D$21,2)","v":"卸売業，小売業"},53,{"$f":"VLOOKUP(D910,作業シート!$F$2:$G$100,2)","v":"建築材料，鉱物・金属材料等卸売業"},533,{"$f":"VLOOKUP(F910,作業シート!$I$2:$J$531,2)","v":"石油・鉱物卸売業"},5331,"石油卸売業","I-53-533-5331","卸売業"]
[null,"I",{"$f":"VLOOKUP(日本標準産業分類!B911,作業シート!$C$2:$D$21,2)","v":"卸売業，小売業"},53,{"$f":"VLOOKUP(D911,作業シート!$F$2:$G$100,2)","v":"建築材料，鉱物・金属材料等卸売業"},533,{"$f":"VLOOKUP(F911,作業シート!$I$2:$J$531,2)","v":"石油・鉱物卸売業"},5332,"鉱物卸売業（石油を除く）","I-53-533-5332","卸売業"]
[null,"I",{"$f":"VLOOKUP(日本標準産業分類!B912,作業シート!$C$2:$D$21,2)","v":"卸売業，小売業"},53,{"$f":"VLOOKUP(D912,作業シート!$F$2:$G$100,2)","v":"建築材料，鉱物・金属材料等卸売業"},534,{"$f":"VLOOKUP(F912,作業シート!$I$2:$J$531,2)","v":"鉄鋼製品卸売業"},5341,"鉄鋼粗製品卸売業","I-53-534-5341","卸売業"]
[null,"I",{"$f":"VLOOKUP(日本標準産業分類!B913,作業シート!$C$2:$D$21,2)","v":"卸売業，小売業"},53,{"$f":"VLOOKUP(D913,作業シート!$F$2:$G$100,2)","v":"建築材料，鉱物・金属材料等卸売業"},534,{"$f":"VLOOKUP(F913,作業シート!$I$2:$J$531,2)","v":"鉄鋼製品卸売業"},5342,"鉄鋼一次製品卸売業","I-53-534-5342","卸売業"]
[null,"I",{"$f":"VLOOKUP(日本標準産業分類!B914,作業シート!$C$2:$D$21,2)","v":"卸売業，小売業"},53,{"$f":"VLOOKUP(D914,作業シート!$F$2:$G$100,2)","v":"建築材料，鉱物・金属材料等卸売業"},534,{"$f":"VLOOKUP(F914,作業シート!$I$2:$J$531,2)","v":"鉄鋼製品卸売業"},5349,"その他の鉄鋼製品卸売業","I-53-534-5349","卸売業"]
[null,"I",{"$f":"VLOOKUP(日本標準産業分類!B915,作業シート!$C$2:$D$21,2)","v":"卸売業，小売業"},53,{"$f":"VLOOKUP(D915,作業シート!$F$2:$G$100,2)","v":"建築材料，鉱物・金属材料等卸売業"},535,{"$f":"VLOOKUP(F915,作業シート!$I$2:$J$531,2)","v":"非鉄金属卸売業"},5351,"非鉄金属地金卸売業","I-53-535-5351","卸売業"]
[null,"I",{"$f":"VLOOKUP(日本標準産業分類!B916,作業シート!$C$2:$D$21,2)","v":"卸売業，小売業"},53,{"$f":"VLOOKUP(D916,作業シート!$F$2:$G$100,2)","v":"建築材料，鉱物・金属材料等卸売業"},535,{"$f":"VLOOKUP(F916,作業シート!$I$2:$J$531,2)","v":"非鉄金属卸売業"},5352,"非鉄金属製品卸売業","I-53-535-5352","卸売業"]
[null,"I",{"$f":"VLOOKUP(日本標準産業分類!B917,作業シート!$C$2:$D$21,2)","v":"卸売業，小売業"},53,{"$f":"VLOOKUP(D917,作業シート!$F$2:$G$100,2)","v":"建築材料，鉱物・金属材料等卸売業"},536,{"$f":"VLOOKUP(F917,作業シート!$I$2:$J$531,2)","v":"再生資源卸売業"},5361,"空瓶・空缶等空容器卸売業","I-53-536-5361","卸売業"]
[null,"I",{"$f":"VLOOKUP(日本標準産業分類!B918,作業シート!$C$2:$D$21,2)","v":"卸売業，小売業"},53,{"$f":"VLOOKUP(D918,作業シート!$F$2:$G$100,2)","v":"建築材料，鉱物・金属材料等卸売業"},536,{"$f":"VLOOKUP(F918,作業シート!$I$2:$J$531,2)","v":"再生資源卸売業"},5362,"鉄スクラップ卸売業",{"$f":"CONCATENATE(B918,\"-\",D918,\"-\",F918,\"-\",H918)","v":"I-53-536-5362"},"卸売業"]
[null,"I",{"$f":"VLOOKUP(日本標準産業分類!B919,作業シート!$C$2:$D$21,2)","v":"卸売業，小売業"},53,{"$f":"VLOOKUP(D919,作業シート!$F$2:$G$100,2)","v":"建築材料，鉱物・金属材料等卸売業"},536,{"$f":"VLOOKUP(F919,作業シート!$I$2:$J$531,2)","v":"再生資源卸売業"},5363,"非鉄金属スクラップ卸売業","I-53-536-5363","卸売業"]
[null,"I",{"$f":"VLOOKUP(日本標準産業分類!B920,作業シート!$C$2:$D$21,2)","v":"卸売業，小売業"},53,{"$f":"VLOOKUP(D920,作業シート!$F$2:$G$100,2)","v":"建築材料，鉱物・金属材料等卸売業"},536,{"$f":"VLOOKUP(F920,作業シート!$I$2:$J$531,2)","v":"再生資源卸売業"},5364,"古紙卸売業","I-53-536-5364","卸売業"]
[null,"I",{"$f":"VLOOKUP(日本標準産業分類!B921,作業シート!$C$2:$D$21,2)","v":"卸売業，小売業"},53,{"$f":"VLOOKUP(D921,作業シート!$F$2:$G$100,2)","v":"建築材料，鉱物・金属材料等卸売業"},536,{"$f":"VLOOKUP(F921,作業シート!$I$2:$J$531,2)","v":"再生資源卸売業"},5369,"その他の再生資源卸売業","I-53-536-5369","卸売業"]
[null,"I",{"$f":"VLOOKUP(日本標準産業分類!B922,作業シート!$C$2:$D$21,2)","v":"卸売業，小売業"},54,{"$f":"VLOOKUP(D922,作業シート!$F$2:$G$100,2)","v":"機械器具卸売業"},540,{"$f":"VLOOKUP(F922,作業シート!$I$2:$J$531,2)","v":"管理，補助的経済活動を行う事業所（54機械器具卸売業）"},5400,"主として管理事務を行う本社等","I-54-540-5400","卸売業"]
[null,"I",{"$f":"VLOOKUP(日本標準産業分類!B923,作業シート!$C$2:$D$21,2)","v":"卸売業，小売業"},54,{"$f":"VLOOKUP(D923,作業シート!$F$2:$G$100,2)","v":"機械器具卸売業"},540,{"$f":"VLOOKUP(F923,作業シート!$I$2:$J$531,2)","v":"管理，補助的経済活動を行う事業所（54機械器具卸売業）"},5408,"自家用倉庫","I-54-540-5408","卸売業"]
[null,"I",{"$f":"VLOOKUP(日本標準産業分類!B924,作業シート!$C$2:$D$21,2)","v":"卸売業，小売業"},54,{"$f":"VLOOKUP(D924,作業シート!$F$2:$G$100,2)","v":"機械器具卸売業"},540,{"$f":"VLOOKUP(F924,作業シート!$I$2:$J$531,2)","v":"管理，補助的経済活動を行う事業所（54機械器具卸売業）"},5409,"その他の管理，補助的経済活動を行う事業所","I-54-540-5409","卸売業"]
[null,"I",{"$f":"VLOOKUP(日本標準産業分類!B925,作業シート!$C$2:$D$21,2)","v":"卸売業，小売業"},54,{"$f":"VLOOKUP(D925,作業シート!$F$2:$G$100,2)","v":"機械器具卸売業"},541,{"$f":"VLOOKUP(F925,作業シート!$I$2:$J$531,2)","v":"産業機械器具卸売業"},5411,"農業用機械器具卸売業","I-54-541-5411","卸売業"]
[null,"I",{"$f":"VLOOKUP(日本標準産業分類!B926,作業シート!$C$2:$D$21,2)","v":"卸売業，小売業"},54,{"$f":"VLOOKUP(D926,作業シート!$F$2:$G$100,2)","v":"機械器具卸売業"},541,{"$f":"VLOOKUP(F926,作業シート!$I$2:$J$531,2)","v":"産業機械器具卸売業"},5412,"建設機械・鉱山機械卸売業","I-54-541-5412","卸売業"]
[null,"I",{"$f":"VLOOKUP(日本標準産業分類!B927,作業シート!$C$2:$D$21,2)","v":"卸売業，小売業"},54,{"$f":"VLOOKUP(D927,作業シート!$F$2:$G$100,2)","v":"機械器具卸売業"},541,{"$f":"VLOOKUP(F927,作業シート!$I$2:$J$531,2)","v":"産業機械器具卸売業"},5413,"金属加工機械卸売業","I-54-541-5413","卸売業"]
[null,"I",{"$f":"VLOOKUP(日本標準産業分類!B928,作業シート!$C$2:$D$21,2)","v":"卸売業，小売業"},54,{"$f":"VLOOKUP(D928,作業シート!$F$2:$G$100,2)","v":"機械器具卸売業"},541,{"$f":"VLOOKUP(F928,作業シート!$I$2:$J$531,2)","v":"産業機械器具卸売業"},5414,"事務用機械器具卸売業","I-54-541-5414","卸売業"]
[null,"I",{"$f":"VLOOKUP(日本標準産業分類!B929,作業シート!$C$2:$D$21,2)","v":"卸売業，小売業"},54,{"$f":"VLOOKUP(D929,作業シート!$F$2:$G$100,2)","v":"機械器具卸売業"},541,{"$f":"VLOOKUP(F929,作業シート!$I$2:$J$531,2)","v":"産業機械器具卸売業"},5419,"その他の産業機械器具卸売業","I-54-541-5419","卸売業"]
[null,"I",{"$f":"VLOOKUP(日本標準産業分類!B930,作業シート!$C$2:$D$21,2)","v":"卸売業，小売業"},54,{"$f":"VLOOKUP(D930,作業シート!$F$2:$G$100,2)","v":"機械器具卸売業"},542,{"$f":"VLOOKUP(F930,作業シート!$I$2:$J$531,2)","v":"自動車卸売業"},5421,"自動車卸売業（二輪自動車を含む）","I-54-542-5421","卸売業"]
[null,"I",{"$f":"VLOOKUP(日本標準産業分類!B931,作業シート!$C$2:$D$21,2)","v":"卸売業，小売業"},54,{"$f":"VLOOKUP(D931,作業シート!$F$2:$G$100,2)","v":"機械器具卸売業"},542,{"$f":"VLOOKUP(F931,作業シート!$I$2:$J$531,2)","v":"自動車卸売業"},5422,"自動車部分品・附属品卸売業（中古品を除く）","I-54-542-5422","卸売業"]
[null,"I",{"$f":"VLOOKUP(日本標準産業分類!B932,作業シート!$C$2:$D$21,2)","v":"卸売業，小売業"},54,{"$f":"VLOOKUP(D932,作業シート!$F$2:$G$100,2)","v":"機械器具卸売業"},542,{"$f":"VLOOKUP(F932,作業シート!$I$2:$J$531,2)","v":"自動車卸売業"},5423,"自動車中古部品卸売業","I-54-542-5423","卸売業"]
[null,"I",{"$f":"VLOOKUP(日本標準産業分類!B933,作業シート!$C$2:$D$21,2)","v":"卸売業，小売業"},54,{"$f":"VLOOKUP(D933,作業シート!$F$2:$G$100,2)","v":"機械器具卸売業"},543,{"$f":"VLOOKUP(F933,作業シート!$I$2:$J$531,2)","v":"電気機械器具卸売業"},5431,"家庭用電気機械器具卸売業","I-54-543-5431","卸売業"]
[null,"I",{"$f":"VLOOKUP(日本標準産業分類!B934,作業シート!$C$2:$D$21,2)","v":"卸売業，小売業"},54,{"$f":"VLOOKUP(D934,作業シート!$F$2:$G$100,2)","v":"機械器具卸売業"},543,{"$f":"VLOOKUP(F934,作業シート!$I$2:$J$531,2)","v":"電気機械器具卸売業"},5432,"電気機械器具卸売業（家庭用電気機械器具を除く）","I-54-543-5432","卸売業"]
[null,"I",{"$f":"VLOOKUP(日本標準産業分類!B935,作業シート!$C$2:$D$21,2)","v":"卸売業，小売業"},54,{"$f":"VLOOKUP(D935,作業シート!$F$2:$G$100,2)","v":"機械器具卸売業"},549,{"$f":"VLOOKUP(F935,作業シート!$I$2:$J$531,2)","v":"その他の機械器具卸売業"},5491,"輸送用機械器具卸売業（自動車を除く）","I-54-549-5491","卸売業"]
[null,"I",{"$f":"VLOOKUP(日本標準産業分類!B936,作業シート!$C$2:$D$21,2)","v":"卸売業，小売業"},54,{"$f":"VLOOKUP(D936,作業シート!$F$2:$G$100,2)","v":"機械器具卸売業"},549,{"$f":"VLOOKUP(F936,作業シート!$I$2:$J$531,2)","v":"その他の機械器具卸売業"},5492,"計量器・理化学機械器具・光学機械器具等卸売業","I-54-549-5492","卸売業"]
[null,"I",{"$f":"VLOOKUP(日本標準産業分類!B937,作業シート!$C$2:$D$21,2)","v":"卸売業，小売業"},54,{"$f":"VLOOKUP(D937,作業シート!$F$2:$G$100,2)","v":"機械器具卸売業"},549,{"$f":"VLOOKUP(F937,作業シート!$I$2:$J$531,2)","v":"その他の機械器具卸売業"},5493,"医療用機械器具卸売業（歯科用機械器具を含む）","I-54-549-5493","卸売業"]
[null,"I",{"$f":"VLOOKUP(日本標準産業分類!B938,作業シート!$C$2:$D$21,2)","v":"卸売業，小売業"},55,{"$f":"VLOOKUP(D938,作業シート!$F$2:$G$100,2)","v":"その他の卸売業"},550,{"$f":"VLOOKUP(F938,作業シート!$I$2:$J$531,2)","v":"管理，補助的経済活動を行う事業所（55その他の卸売業）"},5500,"主として管理事務を行う本社等","I-55-550-5500","卸売業"]
[null,"I",{"$f":"VLOOKUP(日本標準産業分類!B939,作業シート!$C$2:$D$21,2)","v":"卸売業，小売業"},55,{"$f":"VLOOKUP(D939,作業シート!$F$2:$G$100,2)","v":"その他の卸売業"},550,{"$f":"VLOOKUP(F939,作業シート!$I$2:$J$531,2)","v":"管理，補助的経済活動を行う事業所（55その他の卸売業）"},5508,"自家用倉庫","I-55-550-5508","卸売業"]
[null,"I",{"$f":"VLOOKUP(日本標準産業分類!B940,作業シート!$C$2:$D$21,2)","v":"卸売業，小売業"},55,{"$f":"VLOOKUP(D940,作業シート!$F$2:$G$100,2)","v":"その他の卸売業"},550,{"$f":"VLOOKUP(F940,作業シート!$I$2:$J$531,2)","v":"管理，補助的経済活動を行う事業所（55その他の卸売業）"},5509,"その他の管理，補助的経済活動を行う事業所","I-55-550-5509","卸売業"]
[null,"I",{"$f":"VLOOKUP(日本標準産業分類!B941,作業シート!$C$2:$D$21,2)","v":"卸売業，小売業"},55,{"$f":"VLOOKUP(D941,作業シート!$F$2:$G$100,2)","v":"その他の卸売業"},551,{"$f":"VLOOKUP(F941,作業シート!$I$2:$J$531,2)","v":"家具・建具・じゅう器等卸売業"},5511,"家具・建具卸売業","I-55-551-5511","卸売業"]
[null,"I",{"$f":"VLOOKUP(日本標準産業分類!B942,作業シート!$C$2:$D$21,2)","v":"卸売業，小売業"},55,{"$f":"VLOOKUP(D942,作業シート!$F$2:$G$100,2)","v":"その他の卸売業"},551,{"$f":"VLOOKUP(F942,作業シート!$I$2:$J$531,2)","v":"家具・建具・じゅう器等卸売業"},5512,"荒物卸売業","I-55-551-5512","卸売業"]
[null,"I",{"$f":"VLOOKUP(日本標準産業分類!B943,作業シート!$C$2:$D$21,2)","v":"卸売業，小売業"},55,{"$f":"VLOOKUP(D943,作業シート!$F$2:$G$100,2)","v":"その他の卸売業"},551,{"$f":"VLOOKUP(F943,作業シート!$I$2:$J$531,2)","v":"家具・建具・じゅう器等卸売業"},5513,"畳卸売業","I-55-551-5513","卸売業"]
[null,"I",{"$f":"VLOOKUP(日本標準産業分類!B944,作業シート!$C$2:$D$21,2)","v":"卸売業，小売業"},55,{"$f":"VLOOKUP(D944,作業シート!$F$2:$G$100,2)","v":"その他の卸売業"},551,{"$f":"VLOOKUP(F944,作業シート!$I$2:$J$531,2)","v":"家具・建具・じゅう器等卸売業"},5514,"室内装飾繊維品卸売業","I-55-551-5514","卸売業"]
[null,"I",{"$f":"VLOOKUP(日本標準産業分類!B945,作業シート!$C$2:$D$21,2)","v":"卸売業，小売業"},55,{"$f":"VLOOKUP(D945,作業シート!$F$2:$G$100,2)","v":"その他の卸売業"},551,{"$f":"VLOOKUP(F945,作業シート!$I$2:$J$531,2)","v":"家具・建具・じゅう器等卸売業"},5515,"陶磁器・ガラス器卸売業","I-55-551-5515","卸売業"]
[null,"I",{"$f":"VLOOKUP(日本標準産業分類!B946,作業シート!$C$2:$D$21,2)","v":"卸売業，小売業"},55,{"$f":"VLOOKUP(D946,作業シート!$F$2:$G$100,2)","v":"その他の卸売業"},551,{"$f":"VLOOKUP(F946,作業シート!$I$2:$J$531,2)","v":"家具・建具・じゅう器等卸売業"},5519,"その他のじゅう器卸売業","I-55-551-5519","卸売業"]
[null,"I",{"$f":"VLOOKUP(日本標準産業分類!B947,作業シート!$C$2:$D$21,2)","v":"卸売業，小売業"},55,{"$f":"VLOOKUP(D947,作業シート!$F$2:$G$100,2)","v":"その他の卸売業"},552,{"$f":"VLOOKUP(F947,作業シート!$I$2:$J$531,2)","v":"医薬品・化粧品等卸売業"},5521,"医薬品卸売業","I-55-552-5521","卸売業"]
[null,"I",{"$f":"VLOOKUP(日本標準産業分類!B948,作業シート!$C$2:$D$21,2)","v":"卸売業，小売業"},55,{"$f":"VLOOKUP(D948,作業シート!$F$2:$G$100,2)","v":"その他の卸売業"},552,{"$f":"VLOOKUP(F948,作業シート!$I$2:$J$531,2)","v":"医薬品・化粧品等卸売業"},5522,"医療用品卸売業","I-55-552-5522","卸売業"]
[null,"I",{"$f":"VLOOKUP(日本標準産業分類!B949,作業シート!$C$2:$D$21,2)","v":"卸売業，小売業"},55,{"$f":"VLOOKUP(D949,作業シート!$F$2:$G$100,2)","v":"その他の卸売業"},552,{"$f":"VLOOKUP(F949,作業シート!$I$2:$J$531,2)","v":"医薬品・化粧品等卸売業"},5523,"化粧品卸売業","I-55-552-5523","卸売業"]
[null,"I",{"$f":"VLOOKUP(日本標準産業分類!B950,作業シート!$C$2:$D$21,2)","v":"卸売業，小売業"},55,{"$f":"VLOOKUP(D950,作業シート!$F$2:$G$100,2)","v":"その他の卸売業"},552,{"$f":"VLOOKUP(F950,作業シート!$I$2:$J$531,2)","v":"医薬品・化粧品等卸売業"},5524,"合成洗剤卸売業","I-55-552-5524","卸売業"]
[null,"I",{"$f":"VLOOKUP(日本標準産業分類!B951,作業シート!$C$2:$D$21,2)","v":"卸売業，小売業"},55,{"$f":"VLOOKUP(D951,作業シート!$F$2:$G$100,2)","v":"その他の卸売業"},553,{"$f":"VLOOKUP(F951,作業シート!$I$2:$J$531,2)","v":"紙・紙製品卸売業"},5531,"紙卸売業","I-55-553-5531","卸売業"]
[null,"I",{"$f":"VLOOKUP(日本標準産業分類!B952,作業シート!$C$2:$D$21,2)","v":"卸売業，小売業"},55,{"$f":"VLOOKUP(D952,作業シート!$F$2:$G$100,2)","v":"その他の卸売業"},553,{"$f":"VLOOKUP(F952,作業シート!$I$2:$J$531,2)","v":"紙・紙製品卸売業"},5532,"紙製品卸売業","I-55-553-5532","卸売業"]
[null,"I",{"$f":"VLOOKUP(日本標準産業分類!B953,作業シート!$C$2:$D$21,2)","v":"卸売業，小売業"},55,{"$f":"VLOOKUP(D953,作業シート!$F$2:$G$100,2)","v":"その他の卸売業"},559,{"$f":"VLOOKUP(F953,作業シート!$I$2:$J$531,2)","v":"他に分類されない卸売業"},5591,"金物卸売業","I-55-559-5591","卸売業"]
[null,"I",{"$f":"VLOOKUP(日本標準産業分類!B954,作業シート!$C$2:$D$21,2)","v":"卸売業，小売業"},55,{"$f":"VLOOKUP(D954,作業シート!$F$2:$G$100,2)","v":"その他の卸売業"},559,{"$f":"VLOOKUP(F954,作業シート!$I$2:$J$531,2)","v":"他に分類されない卸売業"},5592,"肥料・飼料卸売業","I-55-559-5592","卸売業"]
[null,"I",{"$f":"VLOOKUP(日本標準産業分類!B955,作業シート!$C$2:$D$21,2)","v":"卸売業，小売業"},55,{"$f":"VLOOKUP(D955,作業シート!$F$2:$G$100,2)","v":"その他の卸売業"},559,{"$f":"VLOOKUP(F955,作業シート!$I$2:$J$531,2)","v":"他に分類されない卸売業"},5593,"スポーツ用品卸売業","I-55-559-5593","卸売業"]
[null,"I",{"$f":"VLOOKUP(日本標準産業分類!B956,作業シート!$C$2:$D$21,2)","v":"卸売業，小売業"},55,{"$f":"VLOOKUP(D956,作業シート!$F$2:$G$100,2)","v":"その他の卸売業"},559,{"$f":"VLOOKUP(F956,作業シート!$I$2:$J$531,2)","v":"他に分類されない卸売業"},5594,"娯楽用品・がん具卸売業","I-55-559-5594","卸売業"]
[null,"I",{"$f":"VLOOKUP(日本標準産業分類!B957,作業シート!$C$2:$D$21,2)","v":"卸売業，小売業"},55,{"$f":"VLOOKUP(D957,作業シート!$F$2:$G$100,2)","v":"その他の卸売業"},559,{"$f":"VLOOKUP(F957,作業シート!$I$2:$J$531,2)","v":"他に分類されない卸売業"},5595,"たばこ卸売業","I-55-559-5595","卸売業"]
[null,"I",{"$f":"VLOOKUP(日本標準産業分類!B958,作業シート!$C$2:$D$21,2)","v":"卸売業，小売業"},55,{"$f":"VLOOKUP(D958,作業シート!$F$2:$G$100,2)","v":"その他の卸売業"},559,{"$f":"VLOOKUP(F958,作業シート!$I$2:$J$531,2)","v":"他に分類されない卸売業"},5596,"ジュエリー製品卸売業","I-55-559-5596","卸売業"]
[null,"I",{"$f":"VLOOKUP(日本標準産業分類!B959,作業シート!$C$2:$D$21,2)","v":"卸売業，小売業"},55,{"$f":"VLOOKUP(D959,作業シート!$F$2:$G$100,2)","v":"その他の卸売業"},559,{"$f":"VLOOKUP(F959,作業シート!$I$2:$J$531,2)","v":"他に分類されない卸売業"},5597,"書籍・雑誌卸売業","I-55-559-5597","卸売業"]
[null,"I",{"$f":"VLOOKUP(日本標準産業分類!B960,作業シート!$C$2:$D$21,2)","v":"卸売業，小売業"},55,{"$f":"VLOOKUP(D960,作業シート!$F$2:$G$100,2)","v":"その他の卸売業"},559,{"$f":"VLOOKUP(F960,作業シート!$I$2:$J$531,2)","v":"他に分類されない卸売業"},5598,"代理商，仲立業","I-55-559-5598","卸売業"]
[null,"I",{"$f":"VLOOKUP(日本標準産業分類!B961,作業シート!$C$2:$D$21,2)","v":"卸売業，小売業"},55,{"$f":"VLOOKUP(D961,作業シート!$F$2:$G$100,2)","v":"その他の卸売業"},559,{"$f":"VLOOKUP(F961,作業シート!$I$2:$J$531,2)","v":"他に分類されない卸売業"},5599,"他に分類されないその他の卸売業","I-55-559-5599","卸売業"]
[null,"I",{"$f":"VLOOKUP(日本標準産業分類!B962,作業シート!$C$2:$D$21,2)","v":"卸売業，小売業"},56,{"$f":"VLOOKUP(D962,作業シート!$F$2:$G$100,2)","v":"各種商品小売業"},560,{"$f":"VLOOKUP(F962,作業シート!$I$2:$J$531,2)","v":"管理，補助的経済活動を行う事業所（56各種商品小売業）"},5600,"主として管理事務を行う本社等","I-56-560-5600","小売業"]
[null,"I",{"$f":"VLOOKUP(日本標準産業分類!B963,作業シート!$C$2:$D$21,2)","v":"卸売業，小売業"},56,{"$f":"VLOOKUP(D963,作業シート!$F$2:$G$100,2)","v":"各種商品小売業"},560,{"$f":"VLOOKUP(F963,作業シート!$I$2:$J$531,2)","v":"管理，補助的経済活動を行う事業所（56各種商品小売業）"},5608,"自家用倉庫","I-56-560-5608","小売業"]
[null,"I",{"$f":"VLOOKUP(日本標準産業分類!B964,作業シート!$C$2:$D$21,2)","v":"卸売業，小売業"},56,{"$f":"VLOOKUP(D964,作業シート!$F$2:$G$100,2)","v":"各種商品小売業"},560,{"$f":"VLOOKUP(F964,作業シート!$I$2:$J$531,2)","v":"管理，補助的経済活動を行う事業所（56各種商品小売業）"},5609,"その他の管理，補助的経済活動を行う事業所","I-56-560-5609","小売業"]
[null,"I",{"$f":"VLOOKUP(日本標準産業分類!B965,作業シート!$C$2:$D$21,2)","v":"卸売業，小売業"},56,{"$f":"VLOOKUP(D965,作業シート!$F$2:$G$100,2)","v":"各種商品小売業"},561,{"$f":"VLOOKUP(F965,作業シート!$I$2:$J$531,2)","v":"百貨店，総合スーパー"},5611,"百貨店，総合スーパー","I-56-561-5611","小売業"]
[null,"I",{"$f":"VLOOKUP(日本標準産業分類!B966,作業シート!$C$2:$D$21,2)","v":"卸売業，小売業"},56,{"$f":"VLOOKUP(D966,作業シート!$F$2:$G$100,2)","v":"各種商品小売業"},569,{"$f":"VLOOKUP(F966,作業シート!$I$2:$J$531,2)","v":"その他の各種商品小売業（従業者が常時50人未満のもの）"},5699,"その他の各種商品小売業（従業者が常時50人未満のもの）",{"$f":"CONCATENATE(B966,\"-\",D966,\"-\",F966,\"-\",H966)","v":"I-56-569-5699"},"小売業"]
[null,"I",{"$f":"VLOOKUP(日本標準産業分類!B967,作業シート!$C$2:$D$21,2)","v":"卸売業，小売業"},57,{"$f":"VLOOKUP(D967,作業シート!$F$2:$G$100,2)","v":"織物・衣服・身の回り品小売業"},570,{"$f":"VLOOKUP(F967,作業シート!$I$2:$J$531,2)","v":"管理，補助的経済活動を行う事業所（57織物・衣服・身の回り品小売業）"},5700,"主として管理事務を行う本社等","I-57-570-5700","小売業"]
[null,"I",{"$f":"VLOOKUP(日本標準産業分類!B968,作業シート!$C$2:$D$21,2)","v":"卸売業，小売業"},57,{"$f":"VLOOKUP(D968,作業シート!$F$2:$G$100,2)","v":"織物・衣服・身の回り品小売業"},570,{"$f":"VLOOKUP(F968,作業シート!$I$2:$J$531,2)","v":"管理，補助的経済活動を行う事業所（57織物・衣服・身の回り品小売業）"},5708,"自家用倉庫","I-57-570-5708","小売業"]
[null,"I",{"$f":"VLOOKUP(日本標準産業分類!B969,作業シート!$C$2:$D$21,2)","v":"卸売業，小売業"},57,{"$f":"VLOOKUP(D969,作業シート!$F$2:$G$100,2)","v":"織物・衣服・身の回り品小売業"},570,{"$f":"VLOOKUP(F969,作業シート!$I$2:$J$531,2)","v":"管理，補助的経済活動を行う事業所（57織物・衣服・身の回り品小売業）"},5709,"その他の管理，補助的経済活動を行う事業所","I-57-570-5709","小売業"]
[null,"I",{"$f":"VLOOKUP(日本標準産業分類!B970,作業シート!$C$2:$D$21,2)","v":"卸売業，小売業"},57,{"$f":"VLOOKUP(D970,作業シート!$F$2:$G$100,2)","v":"織物・衣服・身の回り品小売業"},571,{"$f":"VLOOKUP(F970,作業シート!$I$2:$J$531,2)","v":"呉服・服地・寝具小売業"},5711,"呉服・服地小売業","I-57-571-5711","小売業"]
[null,"I",{"$f":"VLOOKUP(日本標準産業分類!B971,作業シート!$C$2:$D$21,2)","v":"卸売業，小売業"},57,{"$f":"VLOOKUP(D971,作業シート!$F$2:$G$100,2)","v":"織物・衣服・身の回り品小売業"},571,{"$f":"VLOOKUP(F971,作業シート!$I$2:$J$531,2)","v":"呉服・服地・寝具小売業"},5712,"寝具小売業","I-57-571-5712","小売業"]
[null,"I",{"$f":"VLOOKUP(日本標準産業分類!B972,作業シート!$C$2:$D$21,2)","v":"卸売業，小売業"},57,{"$f":"VLOOKUP(D972,作業シート!$F$2:$G$100,2)","v":"織物・衣服・身の回り品小売業"},572,{"$f":"VLOOKUP(F972,作業シート!$I$2:$J$531,2)","v":"男子服小売業"},5721,"男子服小売業","I-57-572-5721","小売業"]
[null,"I",{"$f":"VLOOKUP(日本標準産業分類!B973,作業シート!$C$2:$D$21,2)","v":"卸売業，小売業"},57,{"$f":"VLOOKUP(D973,作業シート!$F$2:$G$100,2)","v":"織物・衣服・身の回り品小売業"},573,{"$f":"VLOOKUP(F973,作業シート!$I$2:$J$531,2)","v":"婦人・子供服小売業"},5731,"婦人服小売業","I-57-573-5731","小売業"]
[null,"I",{"$f":"VLOOKUP(日本標準産業分類!B974,作業シート!$C$2:$D$21,2)","v":"卸売業，小売業"},57,{"$f":"VLOOKUP(D974,作業シート!$F$2:$G$100,2)","v":"織物・衣服・身の回り品小売業"},573,{"$f":"VLOOKUP(F974,作業シート!$I$2:$J$531,2)","v":"婦人・子供服小売業"},5732,"子供服小売業","I-57-573-5732","小売業"]
[null,"I",{"$f":"VLOOKUP(日本標準産業分類!B975,作業シート!$C$2:$D$21,2)","v":"卸売業，小売業"},57,{"$f":"VLOOKUP(D975,作業シート!$F$2:$G$100,2)","v":"織物・衣服・身の回り品小売業"},574,{"$f":"VLOOKUP(F975,作業シート!$I$2:$J$531,2)","v":"靴・履物小売業"},5741,"靴小売業","I-57-574-5741","小売業"]
[null,"I",{"$f":"VLOOKUP(日本標準産業分類!B976,作業シート!$C$2:$D$21,2)","v":"卸売業，小売業"},57,{"$f":"VLOOKUP(D976,作業シート!$F$2:$G$100,2)","v":"織物・衣服・身の回り品小売業"},574,{"$f":"VLOOKUP(F976,作業シート!$I$2:$J$531,2)","v":"靴・履物小売業"},5742,"履物小売業（靴を除く）","I-57-574-5742","小売業"]
[null,"I",{"$f":"VLOOKUP(日本標準産業分類!B977,作業シート!$C$2:$D$21,2)","v":"卸売業，小売業"},57,{"$f":"VLOOKUP(D977,作業シート!$F$2:$G$100,2)","v":"織物・衣服・身の回り品小売業"},579,{"$f":"VLOOKUP(F977,作業シート!$I$2:$J$531,2)","v":"その他の織物・衣服・身の回り品小売業"},5791,"かばん・袋物小売業","I-57-579-5791","小売業"]
[null,"I",{"$f":"VLOOKUP(日本標準産業分類!B978,作業シート!$C$2:$D$21,2)","v":"卸売業，小売業"},57,{"$f":"VLOOKUP(D978,作業シート!$F$2:$G$100,2)","v":"織物・衣服・身の回り品小売業"},579,{"$f":"VLOOKUP(F978,作業シート!$I$2:$J$531,2)","v":"その他の織物・衣服・身の回り品小売業"},5792,"下着類小売業","I-57-579-5792","小売業"]
[null,"I",{"$f":"VLOOKUP(日本標準産業分類!B979,作業シート!$C$2:$D$21,2)","v":"卸売業，小売業"},57,{"$f":"VLOOKUP(D979,作業シート!$F$2:$G$100,2)","v":"織物・衣服・身の回り品小売業"},579,{"$f":"VLOOKUP(F979,作業シート!$I$2:$J$531,2)","v":"その他の織物・衣服・身の回り品小売業"},5793,"洋品雑貨・小間物小売業","I-57-579-5793","小売業"]
[null,"I",{"$f":"VLOOKUP(日本標準産業分類!B980,作業シート!$C$2:$D$21,2)","v":"卸売業，小売業"},57,{"$f":"VLOOKUP(D980,作業シート!$F$2:$G$100,2)","v":"織物・衣服・身の回り品小売業"},579,{"$f":"VLOOKUP(F980,作業シート!$I$2:$J$531,2)","v":"その他の織物・衣服・身の回り品小売業"},5799,"他に分類されない織物・衣服・身の回り品小売業","I-57-579-5799","小売業"]
[null,"I",{"$f":"VLOOKUP(日本標準産業分類!B981,作業シート!$C$2:$D$21,2)","v":"卸売業，小売業"},58,{"$f":"VLOOKUP(D981,作業シート!$F$2:$G$100,2)","v":"飲食料品小売業"},580,{"$f":"VLOOKUP(F981,作業シート!$I$2:$J$531,2)","v":"管理，補助的経済活動を行う事業所（58飲食料品小売業）"},5800,"主として管理事務を行う本社等","I-58-580-5800","小売業"]
[null,"I",{"$f":"VLOOKUP(日本標準産業分類!B982,作業シート!$C$2:$D$21,2)","v":"卸売業，小売業"},58,{"$f":"VLOOKUP(D982,作業シート!$F$2:$G$100,2)","v":"飲食料品小売業"},580,{"$f":"VLOOKUP(F982,作業シート!$I$2:$J$531,2)","v":"管理，補助的経済活動を行う事業所（58飲食料品小売業）"},5808,"自家用倉庫","I-58-580-5808","小売業"]
[null,"I",{"$f":"VLOOKUP(日本標準産業分類!B983,作業シート!$C$2:$D$21,2)","v":"卸売業，小売業"},58,{"$f":"VLOOKUP(D983,作業シート!$F$2:$G$100,2)","v":"飲食料品小売業"},580,{"$f":"VLOOKUP(F983,作業シート!$I$2:$J$531,2)","v":"管理，補助的経済活動を行う事業所（58飲食料品小売業）"},5809,"その他の管理，補助的経済活動を行う事業所","I-58-580-5809","小売業"]
[null,"I",{"$f":"VLOOKUP(日本標準産業分類!B984,作業シート!$C$2:$D$21,2)","v":"卸売業，小売業"},58,{"$f":"VLOOKUP(D984,作業シート!$F$2:$G$100,2)","v":"飲食料品小売業"},581,{"$f":"VLOOKUP(F984,作業シート!$I$2:$J$531,2)","v":"各種食料品小売業"},5811,"各種食料品小売業","I-58-581-5811","小売業"]
[null,"I",{"$f":"VLOOKUP(日本標準産業分類!B985,作業シート!$C$2:$D$21,2)","v":"卸売業，小売業"},58,{"$f":"VLOOKUP(D985,作業シート!$F$2:$G$100,2)","v":"飲食料品小売業"},582,{"$f":"VLOOKUP(F985,作業シート!$I$2:$J$531,2)","v":"野菜・果実小売業"},5821,"野菜小売業","I-58-582-5821","小売業"]
[null,"I",{"$f":"VLOOKUP(日本標準産業分類!B986,作業シート!$C$2:$D$21,2)","v":"卸売業，小売業"},58,{"$f":"VLOOKUP(D986,作業シート!$F$2:$G$100,2)","v":"飲食料品小売業"},582,{"$f":"VLOOKUP(F986,作業シート!$I$2:$J$531,2)","v":"野菜・果実小売業"},5822,"果実小売業","I-58-582-5822","小売業"]
[null,"I",{"$f":"VLOOKUP(日本標準産業分類!B987,作業シート!$C$2:$D$21,2)","v":"卸売業，小売業"},58,{"$f":"VLOOKUP(D987,作業シート!$F$2:$G$100,2)","v":"飲食料品小売業"},583,{"$f":"VLOOKUP(F987,作業シート!$I$2:$J$531,2)","v":"食肉小売業"},5831,"食肉小売業（卵，鳥肉を除く）","I-58-583-5831","小売業"]
[null,"I",{"$f":"VLOOKUP(日本標準産業分類!B988,作業シート!$C$2:$D$21,2)","v":"卸売業，小売業"},58,{"$f":"VLOOKUP(D988,作業シート!$F$2:$G$100,2)","v":"飲食料品小売業"},583,{"$f":"VLOOKUP(F988,作業シート!$I$2:$J$531,2)","v":"食肉小売業"},5832,"卵・鳥肉小売業","I-58-583-5832","小売業"]
[null,"I",{"$f":"VLOOKUP(日本標準産業分類!B989,作業シート!$C$2:$D$21,2)","v":"卸売業，小売業"},58,{"$f":"VLOOKUP(D989,作業シート!$F$2:$G$100,2)","v":"飲食料品小売業"},584,{"$f":"VLOOKUP(F989,作業シート!$I$2:$J$531,2)","v":"鮮魚小売業"},5841,"鮮魚小売業","I-58-584-5841","小売業"]
[null,"I",{"$f":"VLOOKUP(日本標準産業分類!B990,作業シート!$C$2:$D$21,2)","v":"卸売業，小売業"},58,{"$f":"VLOOKUP(D990,作業シート!$F$2:$G$100,2)","v":"飲食料品小売業"},585,{"$f":"VLOOKUP(F990,作業シート!$I$2:$J$531,2)","v":"酒小売業"},5851,"酒小売業","I-58-585-5851","小売業"]
[null,"I",{"$f":"VLOOKUP(日本標準産業分類!B991,作業シート!$C$2:$D$21,2)","v":"卸売業，小売業"},58,{"$f":"VLOOKUP(D991,作業シート!$F$2:$G$100,2)","v":"飲食料品小売業"},586,{"$f":"VLOOKUP(F991,作業シート!$I$2:$J$531,2)","v":"菓子・パン小売業"},5861,"菓子小売業（製造小売）","I-58-586-5861","小売業"]
[null,"I",{"$f":"VLOOKUP(日本標準産業分類!B992,作業シート!$C$2:$D$21,2)","v":"卸売業，小売業"},58,{"$f":"VLOOKUP(D992,作業シート!$F$2:$G$100,2)","v":"飲食料品小売業"},586,{"$f":"VLOOKUP(F992,作業シート!$I$2:$J$531,2)","v":"菓子・パン小売業"},5862,"菓子小売業（製造小売でないもの）","I-58-586-5862","小売業"]
[null,"I",{"$f":"VLOOKUP(日本標準産業分類!B993,作業シート!$C$2:$D$21,2)","v":"卸売業，小売業"},58,{"$f":"VLOOKUP(D993,作業シート!$F$2:$G$100,2)","v":"飲食料品小売業"},586,{"$f":"VLOOKUP(F993,作業シート!$I$2:$J$531,2)","v":"菓子・パン小売業"},5863,"パン小売業（製造小売）","I-58-586-5863","小売業"]
[null,"I",{"$f":"VLOOKUP(日本標準産業分類!B994,作業シート!$C$2:$D$21,2)","v":"卸売業，小売業"},58,{"$f":"VLOOKUP(D994,作業シート!$F$2:$G$100,2)","v":"飲食料品小売業"},586,{"$f":"VLOOKUP(F994,作業シート!$I$2:$J$531,2)","v":"菓子・パン小売業"},5864,"パン小売業（製造小売でないもの）","I-58-586-5864","小売業"]
[null,"I",{"$f":"VLOOKUP(日本標準産業分類!B995,作業シート!$C$2:$D$21,2)","v":"卸売業，小売業"},58,{"$f":"VLOOKUP(D995,作業シート!$F$2:$G$100,2)","v":"飲食料品小売業"},589,{"$f":"VLOOKUP(F995,作業シート!$I$2:$J$531,2)","v":"その他の飲食料品小売業"},5891,"コンビニエンスストア（飲食料品を中心とするものに限る）","I-58-589-5891","小売業"]
[null,"I",{"$f":"VLOOKUP(日本標準産業分類!B996,作業シート!$C$2:$D$21,2)","v":"卸売業，小売業"},58,{"$f":"VLOOKUP(D996,作業シート!$F$2:$G$100,2)","v":"飲食料品小売業"},589,{"$f":"VLOOKUP(F996,作業シート!$I$2:$J$531,2)","v":"その他の飲食料品小売業"},5892,"牛乳小売業","I-58-589-5892","小売業"]
[null,"I",{"$f":"VLOOKUP(日本標準産業分類!B997,作業シート!$C$2:$D$21,2)","v":"卸売業，小売業"},58,{"$f":"VLOOKUP(D997,作業シート!$F$2:$G$100,2)","v":"飲食料品小売業"},589,{"$f":"VLOOKUP(F997,作業シート!$I$2:$J$531,2)","v":"その他の飲食料品小売業"},5893,"飲料小売業（別掲を除く）","I-58-589-5893","小売業"]
[null,"I",{"$f":"VLOOKUP(日本標準産業分類!B998,作業シート!$C$2:$D$21,2)","v":"卸売業，小売業"},58,{"$f":"VLOOKUP(D998,作業シート!$F$2:$G$100,2)","v":"飲食料品小売業"},589,{"$f":"VLOOKUP(F998,作業シート!$I$2:$J$531,2)","v":"その他の飲食料品小売業"},5894,"茶類小売業","I-58-589-5894","小売業"]
[null,"I",{"$f":"VLOOKUP(日本標準産業分類!B999,作業シート!$C$2:$D$21,2)","v":"卸売業，小売業"},58,{"$f":"VLOOKUP(D999,作業シート!$F$2:$G$100,2)","v":"飲食料品小売業"},589,{"$f":"VLOOKUP(F999,作業シート!$I$2:$J$531,2)","v":"その他の飲食料品小売業"},5895,"料理品小売業","I-58-589-5895","小売業"]
[null,"I",{"$f":"VLOOKUP(日本標準産業分類!B1000,作業シート!$C$2:$D$21,2)","v":"卸売業，小売業"},58,{"$f":"VLOOKUP(D1000,作業シート!$F$2:$G$100,2)","v":"飲食料品小売業"},589,{"$f":"VLOOKUP(F1000,作業シート!$I$2:$J$531,2)","v":"その他の飲食料品小売業"},5896,"米穀類小売業","I-58-589-5896","小売業"]
[null,"I",{"$f":"VLOOKUP(日本標準産業分類!B1001,作業シート!$C$2:$D$21,2)","v":"卸売業，小売業"},58,{"$f":"VLOOKUP(D1001,作業シート!$F$2:$G$100,2)","v":"飲食料品小売業"},589,{"$f":"VLOOKUP(F1001,作業シート!$I$2:$J$531,2)","v":"その他の飲食料品小売業"},5897,"豆腐・かまぼこ等加工食品小売業","I-58-589-5897","小売業"]
[null,"I",{"$f":"VLOOKUP(日本標準産業分類!B1002,作業シート!$C$2:$D$21,2)","v":"卸売業，小売業"},58,{"$f":"VLOOKUP(D1002,作業シート!$F$2:$G$100,2)","v":"飲食料品小売業"},589,{"$f":"VLOOKUP(F1002,作業シート!$I$2:$J$531,2)","v":"その他の飲食料品小売業"},5898,"乾物小売業","I-58-589-5898","小売業"]
[null,"I",{"$f":"VLOOKUP(日本標準産業分類!B1003,作業シート!$C$2:$D$21,2)","v":"卸売業，小売業"},58,{"$f":"VLOOKUP(D1003,作業シート!$F$2:$G$100,2)","v":"飲食料品小売業"},589,{"$f":"VLOOKUP(F1003,作業シート!$I$2:$J$531,2)","v":"その他の飲食料品小売業"},5899,"他に分類されない飲食料品小売業","I-58-589-5899","小売業"]
[null,"I",{"$f":"VLOOKUP(日本標準産業分類!B1004,作業シート!$C$2:$D$21,2)","v":"卸売業，小売業"},59,{"$f":"VLOOKUP(D1004,作業シート!$F$2:$G$100,2)","v":"機械器具小売業"},590,{"$f":"VLOOKUP(F1004,作業シート!$I$2:$J$531,2)","v":"管理，補助的経済活動を行う事業所（59機械器具小売業）"},5900,"主として管理事務を行う本社等","I-59-590-5900","小売業"]
[null,"I",{"$f":"VLOOKUP(日本標準産業分類!B1005,作業シート!$C$2:$D$21,2)","v":"卸売業，小売業"},59,{"$f":"VLOOKUP(D1005,作業シート!$F$2:$G$100,2)","v":"機械器具小売業"},590,{"$f":"VLOOKUP(F1005,作業シート!$I$2:$J$531,2)","v":"管理，補助的経済活動を行う事業所（59機械器具小売業）"},5908,"自家用倉庫","I-59-590-5908","小売業"]
[null,"I",{"$f":"VLOOKUP(日本標準産業分類!B1006,作業シート!$C$2:$D$21,2)","v":"卸売業，小売業"},59,{"$f":"VLOOKUP(D1006,作業シート!$F$2:$G$100,2)","v":"機械器具小売業"},590,{"$f":"VLOOKUP(F1006,作業シート!$I$2:$J$531,2)","v":"管理，補助的経済活動を行う事業所（59機械器具小売業）"},5909,"その他の管理，補助的経済活動を行う事業所","I-59-590-5909","小売業"]
[null,"I",{"$f":"VLOOKUP(日本標準産業分類!B1007,作業シート!$C$2:$D$21,2)","v":"卸売業，小売業"},59,{"$f":"VLOOKUP(D1007,作業シート!$F$2:$G$100,2)","v":"機械器具小売業"},591,{"$f":"VLOOKUP(F1007,作業シート!$I$2:$J$531,2)","v":"自動車小売業"},5911,"自動車（新車）小売業","I-59-591-5911","小売業"]
[null,"I",{"$f":"VLOOKUP(日本標準産業分類!B1008,作業シート!$C$2:$D$21,2)","v":"卸売業，小売業"},59,{"$f":"VLOOKUP(D1008,作業シート!$F$2:$G$100,2)","v":"機械器具小売業"},591,{"$f":"VLOOKUP(F1008,作業シート!$I$2:$J$531,2)","v":"自動車小売業"},5912,"中古自動車小売業","I-59-591-5912","小売業"]
[null,"I",{"$f":"VLOOKUP(日本標準産業分類!B1009,作業シート!$C$2:$D$21,2)","v":"卸売業，小売業"},59,{"$f":"VLOOKUP(D1009,作業シート!$F$2:$G$100,2)","v":"機械器具小売業"},591,{"$f":"VLOOKUP(F1009,作業シート!$I$2:$J$531,2)","v":"自動車小売業"},5913,"自動車部分品・附属品小売業","I-59-591-5913","小売業"]
[null,"I",{"$f":"VLOOKUP(日本標準産業分類!B1010,作業シート!$C$2:$D$21,2)","v":"卸売業，小売業"},59,{"$f":"VLOOKUP(D1010,作業シート!$F$2:$G$100,2)","v":"機械器具小売業"},591,{"$f":"VLOOKUP(F1010,作業シート!$I$2:$J$531,2)","v":"自動車小売業"},5914,"二輪自動車小売業（原動機付自転車を含む）","I-59-591-5914","小売業"]
[null,"I",{"$f":"VLOOKUP(日本標準産業分類!B1011,作業シート!$C$2:$D$21,2)","v":"卸売業，小売業"},59,{"$f":"VLOOKUP(D1011,作業シート!$F$2:$G$100,2)","v":"機械器具小売業"},592,{"$f":"VLOOKUP(F1011,作業シート!$I$2:$J$531,2)","v":"自転車小売業"},5921,"自転車小売業",{"$f":"CONCATENATE(B1011,\"-\",D1011,\"-\",F1011,\"-\",H1011)","v":"I-59-592-5921"},"小売業"]
[null,"I",{"$f":"VLOOKUP(日本標準産業分類!B1012,作業シート!$C$2:$D$21,2)","v":"卸売業，小売業"},59,{"$f":"VLOOKUP(D1012,作業シート!$F$2:$G$100,2)","v":"機械器具小売業"},593,{"$f":"VLOOKUP(F1012,作業シート!$I$2:$J$531,2)","v":"機械器具小売業（自動車，自転車を除く）"},5931,"電気機械器具小売業（中古品を除く）","I-59-593-5931","小売業"]
[null,"I",{"$f":"VLOOKUP(日本標準産業分類!B1013,作業シート!$C$2:$D$21,2)","v":"卸売業，小売業"},59,{"$f":"VLOOKUP(D1013,作業シート!$F$2:$G$100,2)","v":"機械器具小売業"},593,{"$f":"VLOOKUP(F1013,作業シート!$I$2:$J$531,2)","v":"機械器具小売業（自動車，自転車を除く）"},5932,"電気事務機械器具小売業（中古品を除く）","I-59-593-5932","小売業"]
[null,"I",{"$f":"VLOOKUP(日本標準産業分類!B1014,作業シート!$C$2:$D$21,2)","v":"卸売業，小売業"},59,{"$f":"VLOOKUP(D1014,作業シート!$F$2:$G$100,2)","v":"機械器具小売業"},593,{"$f":"VLOOKUP(F1014,作業シート!$I$2:$J$531,2)","v":"機械器具小売業（自動車，自転車を除く）"},5933,"中古電気製品小売業","I-59-593-5933","小売業"]
[null,"I",{"$f":"VLOOKUP(日本標準産業分類!B1015,作業シート!$C$2:$D$21,2)","v":"卸売業，小売業"},59,{"$f":"VLOOKUP(D1015,作業シート!$F$2:$G$100,2)","v":"機械器具小売業"},593,{"$f":"VLOOKUP(F1015,作業シート!$I$2:$J$531,2)","v":"機械器具小売業（自動車，自転車を除く）"},5939,"その他の機械器具小売業","I-59-593-5939","小売業"]
[null,"I",{"$f":"VLOOKUP(日本標準産業分類!B1016,作業シート!$C$2:$D$21,2)","v":"卸売業，小売業"},60,{"$f":"VLOOKUP(D1016,作業シート!$F$2:$G$100,2)","v":"その他の小売業"},600,{"$f":"VLOOKUP(F1016,作業シート!$I$2:$J$531,2)","v":"管理，補助的経済活動を行う事業所（60その他の小売業）"},6000,"主として管理事務を行う本社等","I-60-600-6000","小売業"]
[null,"I",{"$f":"VLOOKUP(日本標準産業分類!B1017,作業シート!$C$2:$D$21,2)","v":"卸売業，小売業"},60,{"$f":"VLOOKUP(D1017,作業シート!$F$2:$G$100,2)","v":"その他の小売業"},600,{"$f":"VLOOKUP(F1017,作業シート!$I$2:$J$531,2)","v":"管理，補助的経済活動を行う事業所（60その他の小売業）"},6008,"自家用倉庫","I-60-600-6008","小売業"]
[null,"I",{"$f":"VLOOKUP(日本標準産業分類!B1018,作業シート!$C$2:$D$21,2)","v":"卸売業，小売業"},60,{"$f":"VLOOKUP(D1018,作業シート!$F$2:$G$100,2)","v":"その他の小売業"},600,{"$f":"VLOOKUP(F1018,作業シート!$I$2:$J$531,2)","v":"管理，補助的経済活動を行う事業所（60その他の小売業）"},6009,"その他の管理，補助的経済活動を行う事業所","I-60-600-6009","小売業"]
[null,"I",{"$f":"VLOOKUP(日本標準産業分類!B1019,作業シート!$C$2:$D$21,2)","v":"卸売業，小売業"},60,{"$f":"VLOOKUP(D1019,作業シート!$F$2:$G$100,2)","v":"その他の小売業"},601,{"$f":"VLOOKUP(F1019,作業シート!$I$2:$J$531,2)","v":"家具・建具・畳小売業"},6011,"家具小売業","I-60-601-6011","小売業"]
[null,"I",{"$f":"VLOOKUP(日本標準産業分類!B1020,作業シート!$C$2:$D$21,2)","v":"卸売業，小売業"},60,{"$f":"VLOOKUP(D1020,作業シート!$F$2:$G$100,2)","v":"その他の小売業"},601,{"$f":"VLOOKUP(F1020,作業シート!$I$2:$J$531,2)","v":"家具・建具・畳小売業"},6012,"建具小売業","I-60-601-6012","小売業"]
[null,"I",{"$f":"VLOOKUP(日本標準産業分類!B1021,作業シート!$C$2:$D$21,2)","v":"卸売業，小売業"},60,{"$f":"VLOOKUP(D1021,作業シート!$F$2:$G$100,2)","v":"その他の小売業"},601,{"$f":"VLOOKUP(F1021,作業シート!$I$2:$J$531,2)","v":"家具・建具・畳小売業"},6013,"畳小売業","I-60-601-6013","小売業"]
[null,"I",{"$f":"VLOOKUP(日本標準産業分類!B1022,作業シート!$C$2:$D$21,2)","v":"卸売業，小売業"},60,{"$f":"VLOOKUP(D1022,作業シート!$F$2:$G$100,2)","v":"その他の小売業"},601,{"$f":"VLOOKUP(F1022,作業シート!$I$2:$J$531,2)","v":"家具・建具・畳小売業"},6014,"宗教用具小売業","I-60-601-6014","小売業"]
[null,"I",{"$f":"VLOOKUP(日本標準産業分類!B1023,作業シート!$C$2:$D$21,2)","v":"卸売業，小売業"},60,{"$f":"VLOOKUP(D1023,作業シート!$F$2:$G$100,2)","v":"その他の小売業"},602,{"$f":"VLOOKUP(F1023,作業シート!$I$2:$J$531,2)","v":"じゅう器小売業"},6021,"金物小売業","I-60-602-6021","小売業"]
[null,"I",{"$f":"VLOOKUP(日本標準産業分類!B1024,作業シート!$C$2:$D$21,2)","v":"卸売業，小売業"},60,{"$f":"VLOOKUP(D1024,作業シート!$F$2:$G$100,2)","v":"その他の小売業"},602,{"$f":"VLOOKUP(F1024,作業シート!$I$2:$J$531,2)","v":"じゅう器小売業"},6022,"荒物小売業","I-60-602-6022","小売業"]
[null,"I",{"$f":"VLOOKUP(日本標準産業分類!B1025,作業シート!$C$2:$D$21,2)","v":"卸売業，小売業"},60,{"$f":"VLOOKUP(D1025,作業シート!$F$2:$G$100,2)","v":"その他の小売業"},602,{"$f":"VLOOKUP(F1025,作業シート!$I$2:$J$531,2)","v":"じゅう器小売業"},6023,"陶磁器・ガラス器小売業","I-60-602-6023","小売業"]
[null,"I",{"$f":"VLOOKUP(日本標準産業分類!B1026,作業シート!$C$2:$D$21,2)","v":"卸売業，小売業"},60,{"$f":"VLOOKUP(D1026,作業シート!$F$2:$G$100,2)","v":"その他の小売業"},602,{"$f":"VLOOKUP(F1026,作業シート!$I$2:$J$531,2)","v":"じゅう器小売業"},6029,"他に分類されないじゅう器小売業","I-60-602-6029","小売業"]
[null,"I",{"$f":"VLOOKUP(日本標準産業分類!B1027,作業シート!$C$2:$D$21,2)","v":"卸売業，小売業"},60,{"$f":"VLOOKUP(D1027,作業シート!$F$2:$G$100,2)","v":"その他の小売業"},603,{"$f":"VLOOKUP(F1027,作業シート!$I$2:$J$531,2)","v":"医薬品・化粧品小売業"},6031,"ドラッグストア","I-60-603-6031","小売業"]
[null,"I",{"$f":"VLOOKUP(日本標準産業分類!B1028,作業シート!$C$2:$D$21,2)","v":"卸売業，小売業"},60,{"$f":"VLOOKUP(D1028,作業シート!$F$2:$G$100,2)","v":"その他の小売業"},603,{"$f":"VLOOKUP(F1028,作業シート!$I$2:$J$531,2)","v":"医薬品・化粧品小売業"},6032,"医薬品小売業（調剤薬局を除く）","I-60-603-6032","小売業"]
[null,"I",{"$f":"VLOOKUP(日本標準産業分類!B1029,作業シート!$C$2:$D$21,2)","v":"卸売業，小売業"},60,{"$f":"VLOOKUP(D1029,作業シート!$F$2:$G$100,2)","v":"その他の小売業"},603,{"$f":"VLOOKUP(F1029,作業シート!$I$2:$J$531,2)","v":"医薬品・化粧品小売業"},6033,"調剤薬局","I-60-603-6033","小売業"]
[null,"I",{"$f":"VLOOKUP(日本標準産業分類!B1030,作業シート!$C$2:$D$21,2)","v":"卸売業，小売業"},60,{"$f":"VLOOKUP(D1030,作業シート!$F$2:$G$100,2)","v":"その他の小売業"},603,{"$f":"VLOOKUP(F1030,作業シート!$I$2:$J$531,2)","v":"医薬品・化粧品小売業"},6034,"化粧品小売業","I-60-603-6034","小売業"]
[null,"I",{"$f":"VLOOKUP(日本標準産業分類!B1031,作業シート!$C$2:$D$21,2)","v":"卸売業，小売業"},60,{"$f":"VLOOKUP(D1031,作業シート!$F$2:$G$100,2)","v":"その他の小売業"},604,{"$f":"VLOOKUP(F1031,作業シート!$I$2:$J$531,2)","v":"農耕用品小売業"},6041,"農業用機械器具小売業","I-60-604-6041","小売業"]
[null,"I",{"$f":"VLOOKUP(日本標準産業分類!B1032,作業シート!$C$2:$D$21,2)","v":"卸売業，小売業"},60,{"$f":"VLOOKUP(D1032,作業シート!$F$2:$G$100,2)","v":"その他の小売業"},604,{"$f":"VLOOKUP(F1032,作業シート!$I$2:$J$531,2)","v":"農耕用品小売業"},6042,"苗・種子小売業","I-60-604-6042","小売業"]
[null,"I",{"$f":"VLOOKUP(日本標準産業分類!B1033,作業シート!$C$2:$D$21,2)","v":"卸売業，小売業"},60,{"$f":"VLOOKUP(D1033,作業シート!$F$2:$G$100,2)","v":"その他の小売業"},604,{"$f":"VLOOKUP(F1033,作業シート!$I$2:$J$531,2)","v":"農耕用品小売業"},6043,"肥料・飼料小売業","I-60-604-6043","小売業"]
[null,"I",{"$f":"VLOOKUP(日本標準産業分類!B1034,作業シート!$C$2:$D$21,2)","v":"卸売業，小売業"},60,{"$f":"VLOOKUP(D1034,作業シート!$F$2:$G$100,2)","v":"その他の小売業"},605,{"$f":"VLOOKUP(F1034,作業シート!$I$2:$J$531,2)","v":"燃料小売業"},6051,"ガソリンスタンド","I-60-605-6051","小売業"]
[null,"I",{"$f":"VLOOKUP(日本標準産業分類!B1035,作業シート!$C$2:$D$21,2)","v":"卸売業，小売業"},60,{"$f":"VLOOKUP(D1035,作業シート!$F$2:$G$100,2)","v":"その他の小売業"},605,{"$f":"VLOOKUP(F1035,作業シート!$I$2:$J$531,2)","v":"燃料小売業"},6052,"燃料小売業（ガソリンスタンドを除く）","I-60-605-6052","小売業"]
[null,"I",{"$f":"VLOOKUP(日本標準産業分類!B1036,作業シート!$C$2:$D$21,2)","v":"卸売業，小売業"},60,{"$f":"VLOOKUP(D1036,作業シート!$F$2:$G$100,2)","v":"その他の小売業"},606,{"$f":"VLOOKUP(F1036,作業シート!$I$2:$J$531,2)","v":"書籍・文房具小売業"},6061,"書籍・雑誌小売業（古本を除く）","I-60-606-6061","小売業"]
[null,"I",{"$f":"VLOOKUP(日本標準産業分類!B1037,作業シート!$C$2:$D$21,2)","v":"卸売業，小売業"},60,{"$f":"VLOOKUP(D1037,作業シート!$F$2:$G$100,2)","v":"その他の小売業"},606,{"$f":"VLOOKUP(F1037,作業シート!$I$2:$J$531,2)","v":"書籍・文房具小売業"},6062,"古本小売業","I-60-606-6062","小売業"]
[null,"I",{"$f":"VLOOKUP(日本標準産業分類!B1038,作業シート!$C$2:$D$21,2)","v":"卸売業，小売業"},60,{"$f":"VLOOKUP(D1038,作業シート!$F$2:$G$100,2)","v":"その他の小売業"},606,{"$f":"VLOOKUP(F1038,作業シート!$I$2:$J$531,2)","v":"書籍・文房具小売業"},6063,"新聞小売業","I-60-606-6063","小売業"]
[null,"I",{"$f":"VLOOKUP(日本標準産業分類!B1039,作業シート!$C$2:$D$21,2)","v":"卸売業，小売業"},60,{"$f":"VLOOKUP(D1039,作業シート!$F$2:$G$100,2)","v":"その他の小売業"},606,{"$f":"VLOOKUP(F1039,作業シート!$I$2:$J$531,2)","v":"書籍・文房具小売業"},6064,"紙・文房具小売業","I-60-606-6064","小売業"]
[null,"I",{"$f":"VLOOKUP(日本標準産業分類!B1040,作業シート!$C$2:$D$21,2)","v":"卸売業，小売業"},60,{"$f":"VLOOKUP(D1040,作業シート!$F$2:$G$100,2)","v":"その他の小売業"},607,{"$f":"VLOOKUP(F1040,作業シート!$I$2:$J$531,2)","v":"スポーツ用品・がん具・娯楽用品・楽器小売業"},6071,"スポーツ用品小売業","I-60-607-6071","小売業"]
[null,"I",{"$f":"VLOOKUP(日本標準産業分類!B1041,作業シート!$C$2:$D$21,2)","v":"卸売業，小売業"},60,{"$f":"VLOOKUP(D1041,作業シート!$F$2:$G$100,2)","v":"その他の小売業"},607,{"$f":"VLOOKUP(F1041,作業シート!$I$2:$J$531,2)","v":"スポーツ用品・がん具・娯楽用品・楽器小売業"},6072,"がん具・娯楽用品小売業","I-60-607-6072","小売業"]
[null,"I",{"$f":"VLOOKUP(日本標準産業分類!B1042,作業シート!$C$2:$D$21,2)","v":"卸売業，小売業"},60,{"$f":"VLOOKUP(D1042,作業シート!$F$2:$G$100,2)","v":"その他の小売業"},607,{"$f":"VLOOKUP(F1042,作業シート!$I$2:$J$531,2)","v":"スポーツ用品・がん具・娯楽用品・楽器小売業"},6073,"楽器小売業","I-60-607-6073","小売業"]
[null,"I",{"$f":"VLOOKUP(日本標準産業分類!B1043,作業シート!$C$2:$D$21,2)","v":"卸売業，小売業"},60,{"$f":"VLOOKUP(D1043,作業シート!$F$2:$G$100,2)","v":"その他の小売業"},608,{"$f":"VLOOKUP(F1043,作業シート!$I$2:$J$531,2)","v":"写真機・時計・眼鏡小売業"},6081,"写真機・写真材料小売業","I-60-608-6081","小売業"]
[null,"I",{"$f":"VLOOKUP(日本標準産業分類!B1044,作業シート!$C$2:$D$21,2)","v":"卸売業，小売業"},60,{"$f":"VLOOKUP(D1044,作業シート!$F$2:$G$100,2)","v":"その他の小売業"},608,{"$f":"VLOOKUP(F1044,作業シート!$I$2:$J$531,2)","v":"写真機・時計・眼鏡小売業"},6082,"時計・眼鏡・光学機械小売業","I-60-608-6082","小売業"]
[null,"I",{"$f":"VLOOKUP(日本標準産業分類!B1045,作業シート!$C$2:$D$21,2)","v":"卸売業，小売業"},60,{"$f":"VLOOKUP(D1045,作業シート!$F$2:$G$100,2)","v":"その他の小売業"},609,{"$f":"VLOOKUP(F1045,作業シート!$I$2:$J$531,2)","v":"他に分類されない小売業"},6091,"ホームセンター","I-60-609-6091","小売業"]
[null,"I",{"$f":"VLOOKUP(日本標準産業分類!B1046,作業シート!$C$2:$D$21,2)","v":"卸売業，小売業"},60,{"$f":"VLOOKUP(D1046,作業シート!$F$2:$G$100,2)","v":"その他の小売業"},609,{"$f":"VLOOKUP(F1046,作業シート!$I$2:$J$531,2)","v":"他に分類されない小売業"},6092,"たばこ・喫煙具専門小売業","I-60-609-6092","小売業"]
[null,"I",{"$f":"VLOOKUP(日本標準産業分類!B1047,作業シート!$C$2:$D$21,2)","v":"卸売業，小売業"},60,{"$f":"VLOOKUP(D1047,作業シート!$F$2:$G$100,2)","v":"その他の小売業"},609,{"$f":"VLOOKUP(F1047,作業シート!$I$2:$J$531,2)","v":"他に分類されない小売業"},6093,"花・植木小売業","I-60-609-6093","小売業"]
[null,"I",{"$f":"VLOOKUP(日本標準産業分類!B1048,作業シート!$C$2:$D$21,2)","v":"卸売業，小売業"},60,{"$f":"VLOOKUP(D1048,作業シート!$F$2:$G$100,2)","v":"その他の小売業"},609,{"$f":"VLOOKUP(F1048,作業シート!$I$2:$J$531,2)","v":"他に分類されない小売業"},6094,"建築材料小売業","I-60-609-6094","小売業"]
[null,"I",{"$f":"VLOOKUP(日本標準産業分類!B1049,作業シート!$C$2:$D$21,2)","v":"卸売業，小売業"},60,{"$f":"VLOOKUP(D1049,作業シート!$F$2:$G$100,2)","v":"その他の小売業"},609,{"$f":"VLOOKUP(F1049,作業シート!$I$2:$J$531,2)","v":"他に分類されない小売業"},6095,"ジュエリー製品小売業","I-60-609-6095","小売業"]
[null,"I",{"$f":"VLOOKUP(日本標準産業分類!B1050,作業シート!$C$2:$D$21,2)","v":"卸売業，小売業"},60,{"$f":"VLOOKUP(D1050,作業シート!$F$2:$G$100,2)","v":"その他の小売業"},609,{"$f":"VLOOKUP(F1050,作業シート!$I$2:$J$531,2)","v":"他に分類されない小売業"},6096,"ペット・ペット用品小売業","I-60-609-6096","小売業"]
[null,"I",{"$f":"VLOOKUP(日本標準産業分類!B1051,作業シート!$C$2:$D$21,2)","v":"卸売業，小売業"},60,{"$f":"VLOOKUP(D1051,作業シート!$F$2:$G$100,2)","v":"その他の小売業"},609,{"$f":"VLOOKUP(F1051,作業シート!$I$2:$J$531,2)","v":"他に分類されない小売業"},6097,"骨とう品小売業","I-60-609-6097","小売業"]
[null,"I",{"$f":"VLOOKUP(日本標準産業分類!B1052,作業シート!$C$2:$D$21,2)","v":"卸売業，小売業"},60,{"$f":"VLOOKUP(D1052,作業シート!$F$2:$G$100,2)","v":"その他の小売業"},609,{"$f":"VLOOKUP(F1052,作業シート!$I$2:$J$531,2)","v":"他に分類されない小売業"},6098,"中古品小売業（骨とう品を除く）","I-60-609-6098","小売業"]
[null,"I",{"$f":"VLOOKUP(日本標準産業分類!B1053,作業シート!$C$2:$D$21,2)","v":"卸売業，小売業"},60,{"$f":"VLOOKUP(D1053,作業シート!$F$2:$G$100,2)","v":"その他の小売業"},609,{"$f":"VLOOKUP(F1053,作業シート!$I$2:$J$531,2)","v":"他に分類されない小売業"},6099,"他に分類されないその他の小売業","I-60-609-6099","小売業"]
[null,"I",{"$f":"VLOOKUP(日本標準産業分類!B1054,作業シート!$C$2:$D$21,2)","v":"卸売業，小売業"},61,{"$f":"VLOOKUP(D1054,作業シート!$F$2:$G$100,2)","v":"無店舗小売業"},610,{"$f":"VLOOKUP(F1054,作業シート!$I$2:$J$531,2)","v":"管理，補助的経済活動を行う事業所（61無店舗小売業）"},6100,"主として管理事務を行う本社等","I-61-610-6100","小売業"]
[null,"I",{"$f":"VLOOKUP(日本標準産業分類!B1055,作業シート!$C$2:$D$21,2)","v":"卸売業，小売業"},61,{"$f":"VLOOKUP(D1055,作業シート!$F$2:$G$100,2)","v":"無店舗小売業"},610,{"$f":"VLOOKUP(F1055,作業シート!$I$2:$J$531,2)","v":"管理，補助的経済活動を行う事業所（61無店舗小売業）"},6108,"自家用倉庫","I-61-610-6108","小売業"]
[null,"I",{"$f":"VLOOKUP(日本標準産業分類!B1056,作業シート!$C$2:$D$21,2)","v":"卸売業，小売業"},61,{"$f":"VLOOKUP(D1056,作業シート!$F$2:$G$100,2)","v":"無店舗小売業"},610,{"$f":"VLOOKUP(F1056,作業シート!$I$2:$J$531,2)","v":"管理，補助的経済活動を行う事業所（61無店舗小売業）"},6109,"その他の管理，補助的経済活動を行う事業所","I-61-610-6109","小売業"]
[null,"I",{"$f":"VLOOKUP(日本標準産業分類!B1057,作業シート!$C$2:$D$21,2)","v":"卸売業，小売業"},61,{"$f":"VLOOKUP(D1057,作業シート!$F$2:$G$100,2)","v":"無店舗小売業"},611,{"$f":"VLOOKUP(F1057,作業シート!$I$2:$J$531,2)","v":"通信販売・訪問販売小売業"},6111,"無店舗小売業（各種商品小売）","I-61-611-6111","小売業"]
[null,"I",{"$f":"VLOOKUP(日本標準産業分類!B1058,作業シート!$C$2:$D$21,2)","v":"卸売業，小売業"},61,{"$f":"VLOOKUP(D1058,作業シート!$F$2:$G$100,2)","v":"無店舗小売業"},611,{"$f":"VLOOKUP(F1058,作業シート!$I$2:$J$531,2)","v":"通信販売・訪問販売小売業"},6112,"無店舗小売業（織物・衣服・身の回り品小売）","I-61-611-6112","小売業"]
[null,"I",{"$f":"VLOOKUP(日本標準産業分類!B1059,作業シート!$C$2:$D$21,2)","v":"卸売業，小売業"},61,{"$f":"VLOOKUP(D1059,作業シート!$F$2:$G$100,2)","v":"無店舗小売業"},611,{"$f":"VLOOKUP(F1059,作業シート!$I$2:$J$531,2)","v":"通信販売・訪問販売小売業"},6113,"無店舗小売業（飲食料品小売）",{"$f":"CONCATENATE(B1059,\"-\",D1059,\"-\",F1059,\"-\",H1059)","v":"I-61-611-6113"},"小売業"]
[null,"I",{"$f":"VLOOKUP(日本標準産業分類!B1060,作業シート!$C$2:$D$21,2)","v":"卸売業，小売業"},61,{"$f":"VLOOKUP(D1060,作業シート!$F$2:$G$100,2)","v":"無店舗小売業"},611,{"$f":"VLOOKUP(F1060,作業シート!$I$2:$J$531,2)","v":"通信販売・訪問販売小売業"},6114,"無店舗小売業（機械器具小売）","I-61-611-6114","小売業"]
[null,"I",{"$f":"VLOOKUP(日本標準産業分類!B1061,作業シート!$C$2:$D$21,2)","v":"卸売業，小売業"},61,{"$f":"VLOOKUP(D1061,作業シート!$F$2:$G$100,2)","v":"無店舗小売業"},611,{"$f":"VLOOKUP(F1061,作業シート!$I$2:$J$531,2)","v":"通信販売・訪問販売小売業"},6119,"無店舗小売業（その他の小売）","I-61-611-6119","小売業"]
[null,"I",{"$f":"VLOOKUP(日本標準産業分類!B1062,作業シート!$C$2:$D$21,2)","v":"卸売業，小売業"},61,{"$f":"VLOOKUP(D1062,作業シート!$F$2:$G$100,2)","v":"無店舗小売業"},612,{"$f":"VLOOKUP(F1062,作業シート!$I$2:$J$531,2)","v":"自動販売機による小売業"},6121,"自動販売機による小売業","I-61-612-6121","小売業"]
[null,"I",{"$f":"VLOOKUP(日本標準産業分類!B1063,作業シート!$C$2:$D$21,2)","v":"卸売業，小売業"},61,{"$f":"VLOOKUP(D1063,作業シート!$F$2:$G$100,2)","v":"無店舗小売業"},619,{"$f":"VLOOKUP(F1063,作業シート!$I$2:$J$531,2)","v":"その他の無店舗小売業"},6199,"その他の無店舗小売業","I-61-619-6199","小売業"]
[null,"J",{"$f":"VLOOKUP(日本標準産業分類!B1064,作業シート!$C$2:$D$21,2)","v":"金融業，保険業"},62,{"$f":"VLOOKUP(D1064,作業シート!$F$2:$G$100,2)","v":"銀行業"},620,{"$f":"VLOOKUP(F1064,作業シート!$I$2:$J$531,2)","v":"管理，補助的経済活動を行う事業所（62銀行業）"},6200,"主として管理事務を行う本社等","J-62-620-6200","製造業その他"]
[null,"J",{"$f":"VLOOKUP(日本標準産業分類!B1065,作業シート!$C$2:$D$21,2)","v":"金融業，保険業"},62,{"$f":"VLOOKUP(D1065,作業シート!$F$2:$G$100,2)","v":"銀行業"},620,{"$f":"VLOOKUP(F1065,作業シート!$I$2:$J$531,2)","v":"管理，補助的経済活動を行う事業所（62銀行業）"},6209,"その他の管理，補助的経済活動を行う事業所","J-62-620-6209","製造業その他"]
[null,"J",{"$f":"VLOOKUP(日本標準産業分類!B1066,作業シート!$C$2:$D$21,2)","v":"金融業，保険業"},62,{"$f":"VLOOKUP(D1066,作業シート!$F$2:$G$100,2)","v":"銀行業"},621,{"$f":"VLOOKUP(F1066,作業シート!$I$2:$J$531,2)","v":"中央銀行"},6211,"中央銀行","J-62-621-6211","製造業その他"]
[null,"J",{"$f":"VLOOKUP(日本標準産業分類!B1067,作業シート!$C$2:$D$21,2)","v":"金融業，保険業"},62,{"$f":"VLOOKUP(D1067,作業シート!$F$2:$G$100,2)","v":"銀行業"},622,{"$f":"VLOOKUP(F1067,作業シート!$I$2:$J$531,2)","v":"銀行（中央銀行を除く）"},6221,"普通銀行","J-62-622-6221","製造業その他"]
[null,"J",{"$f":"VLOOKUP(日本標準産業分類!B1068,作業シート!$C$2:$D$21,2)","v":"金融業，保険業"},62,{"$f":"VLOOKUP(D1068,作業シート!$F$2:$G$100,2)","v":"銀行業"},622,{"$f":"VLOOKUP(F1068,作業シート!$I$2:$J$531,2)","v":"銀行（中央銀行を除く）"},6222,"郵便貯金銀行","J-62-622-6222","製造業その他"]
[null,"J",{"$f":"VLOOKUP(日本標準産業分類!B1069,作業シート!$C$2:$D$21,2)","v":"金融業，保険業"},62,{"$f":"VLOOKUP(D1069,作業シート!$F$2:$G$100,2)","v":"銀行業"},622,{"$f":"VLOOKUP(F1069,作業シート!$I$2:$J$531,2)","v":"銀行（中央銀行を除く）"},6223,"信託銀行","J-62-622-6223","製造業その他"]
[null,"J",{"$f":"VLOOKUP(日本標準産業分類!B1070,作業シート!$C$2:$D$21,2)","v":"金融業，保険業"},62,{"$f":"VLOOKUP(D1070,作業シート!$F$2:$G$100,2)","v":"銀行業"},622,{"$f":"VLOOKUP(F1070,作業シート!$I$2:$J$531,2)","v":"銀行（中央銀行を除く）"},6229,"その他の銀行","J-62-622-6229","製造業その他"]
[null,"J",{"$f":"VLOOKUP(日本標準産業分類!B1071,作業シート!$C$2:$D$21,2)","v":"金融業，保険業"},63,{"$f":"VLOOKUP(D1071,作業シート!$F$2:$G$100,2)","v":"協同組織金融業"},630,{"$f":"VLOOKUP(F1071,作業シート!$I$2:$J$531,2)","v":"管理，補助的経済活動を行う事業所（63協同組織金融業）"},6300,"主として管理事務を行う本社等","J-63-630-6300","製造業その他"]
[null,"J",{"$f":"VLOOKUP(日本標準産業分類!B1072,作業シート!$C$2:$D$21,2)","v":"金融業，保険業"},63,{"$f":"VLOOKUP(D1072,作業シート!$F$2:$G$100,2)","v":"協同組織金融業"},630,{"$f":"VLOOKUP(F1072,作業シート!$I$2:$J$531,2)","v":"管理，補助的経済活動を行う事業所（63協同組織金融業）"},6309,"その他の管理，補助的経済活動を行う事業所","J-63-630-6309","製造業その他"]
[null,"J",{"$f":"VLOOKUP(日本標準産業分類!B1073,作業シート!$C$2:$D$21,2)","v":"金融業，保険業"},63,{"$f":"VLOOKUP(D1073,作業シート!$F$2:$G$100,2)","v":"協同組織金融業"},631,{"$f":"VLOOKUP(F1073,作業シート!$I$2:$J$531,2)","v":"中小企業等金融業"},6311,"信用金庫・同連合会","J-63-631-6311","製造業その他"]
[null,"J",{"$f":"VLOOKUP(日本標準産業分類!B1074,作業シート!$C$2:$D$21,2)","v":"金融業，保険業"},63,{"$f":"VLOOKUP(D1074,作業シート!$F$2:$G$100,2)","v":"協同組織金融業"},631,{"$f":"VLOOKUP(F1074,作業シート!$I$2:$J$531,2)","v":"中小企業等金融業"},6312,"信用協同組合・同連合会","J-63-631-6312","製造業その他"]
[null,"J",{"$f":"VLOOKUP(日本標準産業分類!B1075,作業シート!$C$2:$D$21,2)","v":"金融業，保険業"},63,{"$f":"VLOOKUP(D1075,作業シート!$F$2:$G$100,2)","v":"協同組織金融業"},631,{"$f":"VLOOKUP(F1075,作業シート!$I$2:$J$531,2)","v":"中小企業等金融業"},6313,"商工組合中央金庫","J-63-631-6313","製造業その他"]
[null,"J",{"$f":"VLOOKUP(日本標準産業分類!B1076,作業シート!$C$2:$D$21,2)","v":"金融業，保険業"},63,{"$f":"VLOOKUP(D1076,作業シート!$F$2:$G$100,2)","v":"協同組織金融業"},631,{"$f":"VLOOKUP(F1076,作業シート!$I$2:$J$531,2)","v":"中小企業等金融業"},6314,"労働金庫・同連合会","J-63-631-6314","製造業その他"]
[null,"J",{"$f":"VLOOKUP(日本標準産業分類!B1077,作業シート!$C$2:$D$21,2)","v":"金融業，保険業"},63,{"$f":"VLOOKUP(D1077,作業シート!$F$2:$G$100,2)","v":"協同組織金融業"},632,{"$f":"VLOOKUP(F1077,作業シート!$I$2:$J$531,2)","v":"農林水産金融業"},6321,"農林中央金庫","J-63-632-6321","製造業その他"]
[null,"J",{"$f":"VLOOKUP(日本標準産業分類!B1078,作業シート!$C$2:$D$21,2)","v":"金融業，保険業"},63,{"$f":"VLOOKUP(D1078,作業シート!$F$2:$G$100,2)","v":"協同組織金融業"},632,{"$f":"VLOOKUP(F1078,作業シート!$I$2:$J$531,2)","v":"農林水産金融業"},6322,"信用農業協同組合連合会","J-63-632-6322","製造業その他"]
[null,"J",{"$f":"VLOOKUP(日本標準産業分類!B1079,作業シート!$C$2:$D$21,2)","v":"金融業，保険業"},63,{"$f":"VLOOKUP(D1079,作業シート!$F$2:$G$100,2)","v":"協同組織金融業"},632,{"$f":"VLOOKUP(F1079,作業シート!$I$2:$J$531,2)","v":"農林水産金融業"},6323,"信用漁業協同組合連合会，信用水産加工業協同組合連合会","J-63-632-6323","製造業その他"]
[null,"J",{"$f":"VLOOKUP(日本標準産業分類!B1080,作業シート!$C$2:$D$21,2)","v":"金融業，保険業"},63,{"$f":"VLOOKUP(D1080,作業シート!$F$2:$G$100,2)","v":"協同組織金融業"},632,{"$f":"VLOOKUP(F1080,作業シート!$I$2:$J$531,2)","v":"農林水産金融業"},6324,"農業協同組合","J-63-632-6324","製造業その他"]
[null,"J",{"$f":"VLOOKUP(日本標準産業分類!B1081,作業シート!$C$2:$D$21,2)","v":"金融業，保険業"},63,{"$f":"VLOOKUP(D1081,作業シート!$F$2:$G$100,2)","v":"協同組織金融業"},632,{"$f":"VLOOKUP(F1081,作業シート!$I$2:$J$531,2)","v":"農林水産金融業"},6325,"漁業協同組合，水産加工業協同組合","J-63-632-6325","製造業その他"]
[null,"J",{"$f":"VLOOKUP(日本標準産業分類!B1082,作業シート!$C$2:$D$21,2)","v":"金融業，保険業"},64,{"$f":"VLOOKUP(D1082,作業シート!$F$2:$G$100,2)","v":"貸金業，クレジットカード業等非預金信用機関"},640,{"$f":"VLOOKUP(F1082,作業シート!$I$2:$J$531,2)","v":"管理，補助的経済活動を行う事業所（64貸金業，クレジットカード業等非預金信用機関）"},6400,"主として管理事務を行う本社等","J-64-640-6400","製造業その他"]
[null,"J",{"$f":"VLOOKUP(日本標準産業分類!B1083,作業シート!$C$2:$D$21,2)","v":"金融業，保険業"},64,{"$f":"VLOOKUP(D1083,作業シート!$F$2:$G$100,2)","v":"貸金業，クレジットカード業等非預金信用機関"},640,{"$f":"VLOOKUP(F1083,作業シート!$I$2:$J$531,2)","v":"管理，補助的経済活動を行う事業所（64貸金業，クレジットカード業等非預金信用機関）"},6409,"その他の管理，補助的経済活動を行う事業所","J-64-640-6409","製造業その他"]
[null,"J",{"$f":"VLOOKUP(日本標準産業分類!B1084,作業シート!$C$2:$D$21,2)","v":"金融業，保険業"},64,{"$f":"VLOOKUP(D1084,作業シート!$F$2:$G$100,2)","v":"貸金業，クレジットカード業等非預金信用機関"},641,{"$f":"VLOOKUP(F1084,作業シート!$I$2:$J$531,2)","v":"貸金業"},6411,"消費者向け貸金業","J-64-641-6411","製造業その他"]
[null,"J",{"$f":"VLOOKUP(日本標準産業分類!B1085,作業シート!$C$2:$D$21,2)","v":"金融業，保険業"},64,{"$f":"VLOOKUP(D1085,作業シート!$F$2:$G$100,2)","v":"貸金業，クレジットカード業等非預金信用機関"},641,{"$f":"VLOOKUP(F1085,作業シート!$I$2:$J$531,2)","v":"貸金業"},6412,"事業者向け貸金業","J-64-641-6412","製造業その他"]
[null,"J",{"$f":"VLOOKUP(日本標準産業分類!B1086,作業シート!$C$2:$D$21,2)","v":"金融業，保険業"},64,{"$f":"VLOOKUP(D1086,作業シート!$F$2:$G$100,2)","v":"貸金業，クレジットカード業等非預金信用機関"},642,{"$f":"VLOOKUP(F1086,作業シート!$I$2:$J$531,2)","v":"質屋"},6421,"質屋","J-64-642-6421","製造業その他"]
[null,"J",{"$f":"VLOOKUP(日本標準産業分類!B1087,作業シート!$C$2:$D$21,2)","v":"金融業，保険業"},64,{"$f":"VLOOKUP(D1087,作業シート!$F$2:$G$100,2)","v":"貸金業，クレジットカード業等非預金信用機関"},643,{"$f":"VLOOKUP(F1087,作業シート!$I$2:$J$531,2)","v":"クレジットカード業，割賦金融業"},6431,"クレジットカード業","J-64-643-6431","製造業その他"]
[null,"J",{"$f":"VLOOKUP(日本標準産業分類!B1088,作業シート!$C$2:$D$21,2)","v":"金融業，保険業"},64,{"$f":"VLOOKUP(D1088,作業シート!$F$2:$G$100,2)","v":"貸金業，クレジットカード業等非預金信用機関"},643,{"$f":"VLOOKUP(F1088,作業シート!$I$2:$J$531,2)","v":"クレジットカード業，割賦金融業"},6432,"割賦金融業","J-64-643-6432","製造業その他"]
[null,"J",{"$f":"VLOOKUP(日本標準産業分類!B1089,作業シート!$C$2:$D$21,2)","v":"金融業，保険業"},64,{"$f":"VLOOKUP(D1089,作業シート!$F$2:$G$100,2)","v":"貸金業，クレジットカード業等非預金信用機関"},649,{"$f":"VLOOKUP(F1089,作業シート!$I$2:$J$531,2)","v":"その他の非預金信用機関"},6491,"政府関係金融機関","J-64-649-6491","製造業その他"]
[null,"J",{"$f":"VLOOKUP(日本標準産業分類!B1090,作業シート!$C$2:$D$21,2)","v":"金融業，保険業"},64,{"$f":"VLOOKUP(D1090,作業シート!$F$2:$G$100,2)","v":"貸金業，クレジットカード業等非預金信用機関"},649,{"$f":"VLOOKUP(F1090,作業シート!$I$2:$J$531,2)","v":"その他の非預金信用機関"},6492,"住宅専門金融業","J-64-649-6492","製造業その他"]
[null,"J",{"$f":"VLOOKUP(日本標準産業分類!B1091,作業シート!$C$2:$D$21,2)","v":"金融業，保険業"},64,{"$f":"VLOOKUP(D1091,作業シート!$F$2:$G$100,2)","v":"貸金業，クレジットカード業等非預金信用機関"},649,{"$f":"VLOOKUP(F1091,作業シート!$I$2:$J$531,2)","v":"その他の非預金信用機関"},6493,"証券金融業","J-64-649-6493","製造業その他"]
[null,"J",{"$f":"VLOOKUP(日本標準産業分類!B1092,作業シート!$C$2:$D$21,2)","v":"金融業，保険業"},64,{"$f":"VLOOKUP(D1092,作業シート!$F$2:$G$100,2)","v":"貸金業，クレジットカード業等非預金信用機関"},649,{"$f":"VLOOKUP(F1092,作業シート!$I$2:$J$531,2)","v":"その他の非預金信用機関"},6499,"他に分類されない非預金信用機関","J-64-649-6499","製造業その他"]
[null,"J",{"$f":"VLOOKUP(日本標準産業分類!B1093,作業シート!$C$2:$D$21,2)","v":"金融業，保険業"},65,{"$f":"VLOOKUP(D1093,作業シート!$F$2:$G$100,2)","v":"金融商品取引業，商品先物取引業"},650,{"$f":"VLOOKUP(F1093,作業シート!$I$2:$J$531,2)","v":"管理，補助的経済活動を行う事業所（65金融商品取引業，商品先物取引業）"},6500,"主として管理事務を行う本社等","J-65-650-6500","製造業その他"]
[null,"J",{"$f":"VLOOKUP(日本標準産業分類!B1094,作業シート!$C$2:$D$21,2)","v":"金融業，保険業"},65,{"$f":"VLOOKUP(D1094,作業シート!$F$2:$G$100,2)","v":"金融商品取引業，商品先物取引業"},650,{"$f":"VLOOKUP(F1094,作業シート!$I$2:$J$531,2)","v":"管理，補助的経済活動を行う事業所（65金融商品取引業，商品先物取引業）"},6509,"その他の管理，補助的経済活動を行う事業所","J-65-650-6509","製造業その他"]
[null,"J",{"$f":"VLOOKUP(日本標準産業分類!B1095,作業シート!$C$2:$D$21,2)","v":"金融業，保険業"},65,{"$f":"VLOOKUP(D1095,作業シート!$F$2:$G$100,2)","v":"金融商品取引業，商品先物取引業"},651,{"$f":"VLOOKUP(F1095,作業シート!$I$2:$J$531,2)","v":"金融商品取引業"},6511,"金融商品取引業（投資助言・代理業・運用業，補助的金融商品取引業を除く）","J-65-651-6511","製造業その他"]
[null,"J",{"$f":"VLOOKUP(日本標準産業分類!B1096,作業シート!$C$2:$D$21,2)","v":"金融業，保険業"},65,{"$f":"VLOOKUP(D1096,作業シート!$F$2:$G$100,2)","v":"金融商品取引業，商品先物取引業"},651,{"$f":"VLOOKUP(F1096,作業シート!$I$2:$J$531,2)","v":"金融商品取引業"},6512,"投資助言・代理業","J-65-651-6512","製造業その他"]
[null,"J",{"$f":"VLOOKUP(日本標準産業分類!B1097,作業シート!$C$2:$D$21,2)","v":"金融業，保険業"},65,{"$f":"VLOOKUP(D1097,作業シート!$F$2:$G$100,2)","v":"金融商品取引業，商品先物取引業"},651,{"$f":"VLOOKUP(F1097,作業シート!$I$2:$J$531,2)","v":"金融商品取引業"},6513,"投資運用業","J-65-651-6513","製造業その他"]
[null,"J",{"$f":"VLOOKUP(日本標準産業分類!B1098,作業シート!$C$2:$D$21,2)","v":"金融業，保険業"},65,{"$f":"VLOOKUP(D1098,作業シート!$F$2:$G$100,2)","v":"金融商品取引業，商品先物取引業"},651,{"$f":"VLOOKUP(F1098,作業シート!$I$2:$J$531,2)","v":"金融商品取引業"},6514,"補助的金融商品取引業","J-65-651-6514","製造業その他"]
[null,"J",{"$f":"VLOOKUP(日本標準産業分類!B1099,作業シート!$C$2:$D$21,2)","v":"金融業，保険業"},65,{"$f":"VLOOKUP(D1099,作業シート!$F$2:$G$100,2)","v":"金融商品取引業，商品先物取引業"},652,{"$f":"VLOOKUP(F1099,作業シート!$I$2:$J$531,2)","v":"商品先物取引業，商品投資顧問業"},6521,"商品先物取引業","J-65-652-6521","製造業その他"]
[null,"J",{"$f":"VLOOKUP(日本標準産業分類!B1100,作業シート!$C$2:$D$21,2)","v":"金融業，保険業"},65,{"$f":"VLOOKUP(D1100,作業シート!$F$2:$G$100,2)","v":"金融商品取引業，商品先物取引業"},652,{"$f":"VLOOKUP(F1100,作業シート!$I$2:$J$531,2)","v":"商品先物取引業，商品投資顧問業"},6522,"商品投資顧問業","J-65-652-6522","製造業その他"]
[null,"J",{"$f":"VLOOKUP(日本標準産業分類!B1101,作業シート!$C$2:$D$21,2)","v":"金融業，保険業"},65,{"$f":"VLOOKUP(D1101,作業シート!$F$2:$G$100,2)","v":"金融商品取引業，商品先物取引業"},652,{"$f":"VLOOKUP(F1101,作業シート!$I$2:$J$531,2)","v":"商品先物取引業，商品投資顧問業"},6529,"その他の商品先物取引業，商品投資顧問業","J-65-652-6529","製造業その他"]
[null,"J",{"$f":"VLOOKUP(日本標準産業分類!B1102,作業シート!$C$2:$D$21,2)","v":"金融業，保険業"},66,{"$f":"VLOOKUP(D1102,作業シート!$F$2:$G$100,2)","v":"補助的金融業等"},660,{"$f":"VLOOKUP(F1102,作業シート!$I$2:$J$531,2)","v":"管理，補助的経済活動を行う事業所（66補助的金融業等）"},6600,"主として管理事務を行う本社等",{"$f":"CONCATENATE(B1102,\"-\",D1102,\"-\",F1102,\"-\",H1102)","v":"J-66-660-6600"},"製造業その他"]
[null,"J",{"$f":"VLOOKUP(日本標準産業分類!B1103,作業シート!$C$2:$D$21,2)","v":"金融業，保険業"},66,{"$f":"VLOOKUP(D1103,作業シート!$F$2:$G$100,2)","v":"補助的金融業等"},660,{"$f":"VLOOKUP(F1103,作業シート!$I$2:$J$531,2)","v":"管理，補助的経済活動を行う事業所（66補助的金融業等）"},6609,"その他の管理，補助的経済活動を行う事業所","J-66-660-6609","製造業その他"]
[null,"J",{"$f":"VLOOKUP(日本標準産業分類!B1104,作業シート!$C$2:$D$21,2)","v":"金融業，保険業"},66,{"$f":"VLOOKUP(D1104,作業シート!$F$2:$G$100,2)","v":"補助的金融業等"},661,{"$f":"VLOOKUP(F1104,作業シート!$I$2:$J$531,2)","v":"補助的金融業，金融附帯業"},6611,"短資業","J-66-661-6611","製造業その他"]
[null,"J",{"$f":"VLOOKUP(日本標準産業分類!B1105,作業シート!$C$2:$D$21,2)","v":"金融業，保険業"},66,{"$f":"VLOOKUP(D1105,作業シート!$F$2:$G$100,2)","v":"補助的金融業等"},661,{"$f":"VLOOKUP(F1105,作業シート!$I$2:$J$531,2)","v":"補助的金融業，金融附帯業"},6612,"手形交換所","J-66-661-6612","製造業その他"]
[null,"J",{"$f":"VLOOKUP(日本標準産業分類!B1106,作業シート!$C$2:$D$21,2)","v":"金融業，保険業"},66,{"$f":"VLOOKUP(D1106,作業シート!$F$2:$G$100,2)","v":"補助的金融業等"},661,{"$f":"VLOOKUP(F1106,作業シート!$I$2:$J$531,2)","v":"補助的金融業，金融附帯業"},6613,"両替業","J-66-661-6613","製造業その他"]
[null,"J",{"$f":"VLOOKUP(日本標準産業分類!B1107,作業シート!$C$2:$D$21,2)","v":"金融業，保険業"},66,{"$f":"VLOOKUP(D1107,作業シート!$F$2:$G$100,2)","v":"補助的金融業等"},661,{"$f":"VLOOKUP(F1107,作業シート!$I$2:$J$531,2)","v":"補助的金融業，金融附帯業"},6614,"信用保証機関","J-66-661-6614","製造業その他"]
[null,"J",{"$f":"VLOOKUP(日本標準産業分類!B1108,作業シート!$C$2:$D$21,2)","v":"金融業，保険業"},66,{"$f":"VLOOKUP(D1108,作業シート!$F$2:$G$100,2)","v":"補助的金融業等"},661,{"$f":"VLOOKUP(F1108,作業シート!$I$2:$J$531,2)","v":"補助的金融業，金融附帯業"},6615,"信用保証再保険機関","J-66-661-6615","製造業その他"]
[null,"J",{"$f":"VLOOKUP(日本標準産業分類!B1109,作業シート!$C$2:$D$21,2)","v":"金融業，保険業"},66,{"$f":"VLOOKUP(D1109,作業シート!$F$2:$G$100,2)","v":"補助的金融業等"},661,{"$f":"VLOOKUP(F1109,作業シート!$I$2:$J$531,2)","v":"補助的金融業，金融附帯業"},6616,"預・貯金等保険機関","J-66-661-6616","製造業その他"]
[null,"J",{"$f":"VLOOKUP(日本標準産業分類!B1110,作業シート!$C$2:$D$21,2)","v":"金融業，保険業"},66,{"$f":"VLOOKUP(D1110,作業シート!$F$2:$G$100,2)","v":"補助的金融業等"},661,{"$f":"VLOOKUP(F1110,作業シート!$I$2:$J$531,2)","v":"補助的金融業，金融附帯業"},6617,"金融商品取引所","J-66-661-6617","製造業その他"]
[null,"J",{"$f":"VLOOKUP(日本標準産業分類!B1111,作業シート!$C$2:$D$21,2)","v":"金融業，保険業"},66,{"$f":"VLOOKUP(D1111,作業シート!$F$2:$G$100,2)","v":"補助的金融業等"},661,{"$f":"VLOOKUP(F1111,作業シート!$I$2:$J$531,2)","v":"補助的金融業，金融附帯業"},6618,"商品取引所","J-66-661-6618","製造業その他"]
[null,"J",{"$f":"VLOOKUP(日本標準産業分類!B1112,作業シート!$C$2:$D$21,2)","v":"金融業，保険業"},66,{"$f":"VLOOKUP(D1112,作業シート!$F$2:$G$100,2)","v":"補助的金融業等"},661,{"$f":"VLOOKUP(F1112,作業シート!$I$2:$J$531,2)","v":"補助的金融業，金融附帯業"},6619,"その他の補助的金融業，金融附帯業","J-66-661-6619","製造業その他"]
[null,"J",{"$f":"VLOOKUP(日本標準産業分類!B1113,作業シート!$C$2:$D$21,2)","v":"金融業，保険業"},66,{"$f":"VLOOKUP(D1113,作業シート!$F$2:$G$100,2)","v":"補助的金融業等"},662,{"$f":"VLOOKUP(F1113,作業シート!$I$2:$J$531,2)","v":"信託業"},6621,"運用型信託業","J-66-662-6621","製造業その他"]
[null,"J",{"$f":"VLOOKUP(日本標準産業分類!B1114,作業シート!$C$2:$D$21,2)","v":"金融業，保険業"},66,{"$f":"VLOOKUP(D1114,作業シート!$F$2:$G$100,2)","v":"補助的金融業等"},662,{"$f":"VLOOKUP(F1114,作業シート!$I$2:$J$531,2)","v":"信託業"},6622,"管理型信託業","J-66-662-6622","製造業その他"]
[null,"J",{"$f":"VLOOKUP(日本標準産業分類!B1115,作業シート!$C$2:$D$21,2)","v":"金融業，保険業"},66,{"$f":"VLOOKUP(D1115,作業シート!$F$2:$G$100,2)","v":"補助的金融業等"},663,{"$f":"VLOOKUP(F1115,作業シート!$I$2:$J$531,2)","v":"金融代理業"},6631,"金融商品仲介業","J-66-663-6631","製造業その他"]
[null,"J",{"$f":"VLOOKUP(日本標準産業分類!B1116,作業シート!$C$2:$D$21,2)","v":"金融業，保険業"},66,{"$f":"VLOOKUP(D1116,作業シート!$F$2:$G$100,2)","v":"補助的金融業等"},663,{"$f":"VLOOKUP(F1116,作業シート!$I$2:$J$531,2)","v":"金融代理業"},6632,"信託契約代理業","J-66-663-6632","製造業その他"]
[null,"J",{"$f":"VLOOKUP(日本標準産業分類!B1117,作業シート!$C$2:$D$21,2)","v":"金融業，保険業"},66,{"$f":"VLOOKUP(D1117,作業シート!$F$2:$G$100,2)","v":"補助的金融業等"},663,{"$f":"VLOOKUP(F1117,作業シート!$I$2:$J$531,2)","v":"金融代理業"},6639,"その他の金融代理業","J-66-663-6639","製造業その他"]
[null,"J",{"$f":"VLOOKUP(日本標準産業分類!B1118,作業シート!$C$2:$D$21,2)","v":"金融業，保険業"},67,{"$f":"VLOOKUP(D1118,作業シート!$F$2:$G$100,2)","v":"保険業（保険媒介代理業，保険サービス業を含む）"},670,{"$f":"VLOOKUP(F1118,作業シート!$I$2:$J$531,2)","v":"管理，補助的経済活動を行う事業所（67保険業）"},6700,"主として管理事務を行う本社等","J-67-670-6700","製造業その他"]
[null,"J",{"$f":"VLOOKUP(日本標準産業分類!B1119,作業シート!$C$2:$D$21,2)","v":"金融業，保険業"},67,{"$f":"VLOOKUP(D1119,作業シート!$F$2:$G$100,2)","v":"保険業（保険媒介代理業，保険サービス業を含む）"},670,{"$f":"VLOOKUP(F1119,作業シート!$I$2:$J$531,2)","v":"管理，補助的経済活動を行う事業所（67保険業）"},6709,"その他の管理，補助的経済活動を行う事業所","J-67-670-6709","製造業その他"]
[null,"J",{"$f":"VLOOKUP(日本標準産業分類!B1120,作業シート!$C$2:$D$21,2)","v":"金融業，保険業"},67,{"$f":"VLOOKUP(D1120,作業シート!$F$2:$G$100,2)","v":"保険業（保険媒介代理業，保険サービス業を含む）"},671,{"$f":"VLOOKUP(F1120,作業シート!$I$2:$J$531,2)","v":"生命保険業"},6711,"生命保険業（郵便保険業，生命保険再保険業を除く）","J-67-671-6711","製造業その他"]
[null,"J",{"$f":"VLOOKUP(日本標準産業分類!B1121,作業シート!$C$2:$D$21,2)","v":"金融業，保険業"},67,{"$f":"VLOOKUP(D1121,作業シート!$F$2:$G$100,2)","v":"保険業（保険媒介代理業，保険サービス業を含む）"},671,{"$f":"VLOOKUP(F1121,作業シート!$I$2:$J$531,2)","v":"生命保険業"},6712,"郵便保険業","J-67-671-6712","製造業その他"]
[null,"J",{"$f":"VLOOKUP(日本標準産業分類!B1122,作業シート!$C$2:$D$21,2)","v":"金融業，保険業"},67,{"$f":"VLOOKUP(D1122,作業シート!$F$2:$G$100,2)","v":"保険業（保険媒介代理業，保険サービス業を含む）"},671,{"$f":"VLOOKUP(F1122,作業シート!$I$2:$J$531,2)","v":"生命保険業"},6713,"生命保険再保険業","J-67-671-6713","製造業その他"]
[null,"J",{"$f":"VLOOKUP(日本標準産業分類!B1123,作業シート!$C$2:$D$21,2)","v":"金融業，保険業"},67,{"$f":"VLOOKUP(D1123,作業シート!$F$2:$G$100,2)","v":"保険業（保険媒介代理業，保険サービス業を含む）"},671,{"$f":"VLOOKUP(F1123,作業シート!$I$2:$J$531,2)","v":"生命保険業"},6719,"その他の生命保険業","J-67-671-6719","製造業その他"]
[null,"J",{"$f":"VLOOKUP(日本標準産業分類!B1124,作業シート!$C$2:$D$21,2)","v":"金融業，保険業"},67,{"$f":"VLOOKUP(D1124,作業シート!$F$2:$G$100,2)","v":"保険業（保険媒介代理業，保険サービス業を含む）"},672,{"$f":"VLOOKUP(F1124,作業シート!$I$2:$J$531,2)","v":"損害保険業"},6721,"損害保険業（損害保険再保険業を除く）","J-67-672-6721","製造業その他"]
[null,"J",{"$f":"VLOOKUP(日本標準産業分類!B1125,作業シート!$C$2:$D$21,2)","v":"金融業，保険業"},67,{"$f":"VLOOKUP(D1125,作業シート!$F$2:$G$100,2)","v":"保険業（保険媒介代理業，保険サービス業を含む）"},672,{"$f":"VLOOKUP(F1125,作業シート!$I$2:$J$531,2)","v":"損害保険業"},6722,"損害保険再保険業","J-67-672-6722","製造業その他"]
[null,"J",{"$f":"VLOOKUP(日本標準産業分類!B1126,作業シート!$C$2:$D$21,2)","v":"金融業，保険業"},67,{"$f":"VLOOKUP(D1126,作業シート!$F$2:$G$100,2)","v":"保険業（保険媒介代理業，保険サービス業を含む）"},672,{"$f":"VLOOKUP(F1126,作業シート!$I$2:$J$531,2)","v":"損害保険業"},6729,"その他の損害保険業","J-67-672-6729","製造業その他"]
[null,"J",{"$f":"VLOOKUP(日本標準産業分類!B1127,作業シート!$C$2:$D$21,2)","v":"金融業，保険業"},67,{"$f":"VLOOKUP(D1127,作業シート!$F$2:$G$100,2)","v":"保険業（保険媒介代理業，保険サービス業を含む）"},673,{"$f":"VLOOKUP(F1127,作業シート!$I$2:$J$531,2)","v":"共済事業，少額短期保険業"},6731,"共済事業（各種災害補償法によるもの）","J-67-673-6731","製造業その他"]
[null,"J",{"$f":"VLOOKUP(日本標準産業分類!B1128,作業シート!$C$2:$D$21,2)","v":"金融業，保険業"},67,{"$f":"VLOOKUP(D1128,作業シート!$F$2:$G$100,2)","v":"保険業（保険媒介代理業，保険サービス業を含む）"},673,{"$f":"VLOOKUP(F1128,作業シート!$I$2:$J$531,2)","v":"共済事業，少額短期保険業"},6732,"共済事業（各種協同組合法等によるもの）","J-67-673-6732","製造業その他"]
[null,"J",{"$f":"VLOOKUP(日本標準産業分類!B1129,作業シート!$C$2:$D$21,2)","v":"金融業，保険業"},67,{"$f":"VLOOKUP(D1129,作業シート!$F$2:$G$100,2)","v":"保険業（保険媒介代理業，保険サービス業を含む）"},673,{"$f":"VLOOKUP(F1129,作業シート!$I$2:$J$531,2)","v":"共済事業，少額短期保険業"},6733,"少額短期保険業","J-67-673-6733","製造業その他"]
[null,"J",{"$f":"VLOOKUP(日本標準産業分類!B1130,作業シート!$C$2:$D$21,2)","v":"金融業，保険業"},67,{"$f":"VLOOKUP(D1130,作業シート!$F$2:$G$100,2)","v":"保険業（保険媒介代理業，保険サービス業を含む）"},674,{"$f":"VLOOKUP(F1130,作業シート!$I$2:$J$531,2)","v":"保険媒介代理業"},6741,"生命保険媒介業","J-67-674-6741","製造業その他"]
[null,"J",{"$f":"VLOOKUP(日本標準産業分類!B1131,作業シート!$C$2:$D$21,2)","v":"金融業，保険業"},67,{"$f":"VLOOKUP(D1131,作業シート!$F$2:$G$100,2)","v":"保険業（保険媒介代理業，保険サービス業を含む）"},674,{"$f":"VLOOKUP(F1131,作業シート!$I$2:$J$531,2)","v":"保険媒介代理業"},6742,"損害保険代理業","J-67-674-6742","製造業その他"]
[null,"J",{"$f":"VLOOKUP(日本標準産業分類!B1132,作業シート!$C$2:$D$21,2)","v":"金融業，保険業"},67,{"$f":"VLOOKUP(D1132,作業シート!$F$2:$G$100,2)","v":"保険業（保険媒介代理業，保険サービス業を含む）"},674,{"$f":"VLOOKUP(F1132,作業シート!$I$2:$J$531,2)","v":"保険媒介代理業"},6743,"共済事業媒介代理業・少額短期保険代理業","J-67-674-6743","製造業その他"]
[null,"J",{"$f":"VLOOKUP(日本標準産業分類!B1133,作業シート!$C$2:$D$21,2)","v":"金融業，保険業"},67,{"$f":"VLOOKUP(D1133,作業シート!$F$2:$G$100,2)","v":"保険業（保険媒介代理業，保険サービス業を含む）"},675,{"$f":"VLOOKUP(F1133,作業シート!$I$2:$J$531,2)","v":"保険サービス業"},6751,"保険料率算出団体","J-67-675-6751","製造業その他"]
[null,"J",{"$f":"VLOOKUP(日本標準産業分類!B1134,作業シート!$C$2:$D$21,2)","v":"金融業，保険業"},67,{"$f":"VLOOKUP(D1134,作業シート!$F$2:$G$100,2)","v":"保険業（保険媒介代理業，保険サービス業を含む）"},675,{"$f":"VLOOKUP(F1134,作業シート!$I$2:$J$531,2)","v":"保険サービス業"},6752,"損害査定業","J-67-675-6752","製造業その他"]
[null,"J",{"$f":"VLOOKUP(日本標準産業分類!B1135,作業シート!$C$2:$D$21,2)","v":"金融業，保険業"},67,{"$f":"VLOOKUP(D1135,作業シート!$F$2:$G$100,2)","v":"保険業（保険媒介代理業，保険サービス業を含む）"},675,{"$f":"VLOOKUP(F1135,作業シート!$I$2:$J$531,2)","v":"保険サービス業"},6759,"その他の保険サービス業","J-67-675-6759","製造業その他"]
[null,"K",{"$f":"VLOOKUP(日本標準産業分類!B1136,作業シート!$C$2:$D$21,2)","v":"不動産業，物品賃貸業"},68,{"$f":"VLOOKUP(D1136,作業シート!$F$2:$G$100,2)","v":"不動産取引業"},680,{"$f":"VLOOKUP(F1136,作業シート!$I$2:$J$531,2)","v":"管理，補助的経済活動を行う事業所（68不動産取引業）"},6800,"主として管理事務を行う本社等","K-68-680-6800","製造業その他"]
[null,"K",{"$f":"VLOOKUP(日本標準産業分類!B1137,作業シート!$C$2:$D$21,2)","v":"不動産業，物品賃貸業"},68,{"$f":"VLOOKUP(D1137,作業シート!$F$2:$G$100,2)","v":"不動産取引業"},680,{"$f":"VLOOKUP(F1137,作業シート!$I$2:$J$531,2)","v":"管理，補助的経済活動を行う事業所（68不動産取引業）"},6809,"その他の管理，補助的経済活動を行う事業所","K-68-680-6809","製造業その他"]
[null,"K",{"$f":"VLOOKUP(日本標準産業分類!B1138,作業シート!$C$2:$D$21,2)","v":"不動産業，物品賃貸業"},68,{"$f":"VLOOKUP(D1138,作業シート!$F$2:$G$100,2)","v":"不動産取引業"},681,{"$f":"VLOOKUP(F1138,作業シート!$I$2:$J$531,2)","v":"建物売買業，土地売買業"},6811,"建物売買業","K-68-681-6811","製造業その他"]
[null,"K",{"$f":"VLOOKUP(日本標準産業分類!B1139,作業シート!$C$2:$D$21,2)","v":"不動産業，物品賃貸業"},68,{"$f":"VLOOKUP(D1139,作業シート!$F$2:$G$100,2)","v":"不動産取引業"},681,{"$f":"VLOOKUP(F1139,作業シート!$I$2:$J$531,2)","v":"建物売買業，土地売買業"},6812,"土地売買業","K-68-681-6812","製造業その他"]
[null,"K",{"$f":"VLOOKUP(日本標準産業分類!B1140,作業シート!$C$2:$D$21,2)","v":"不動産業，物品賃貸業"},68,{"$f":"VLOOKUP(D1140,作業シート!$F$2:$G$100,2)","v":"不動産取引業"},682,{"$f":"VLOOKUP(F1140,作業シート!$I$2:$J$531,2)","v":"不動産代理業・仲介業"},6821,"不動産代理業・仲介業","K-68-682-6821","製造業その他"]
[null,"K",{"$f":"VLOOKUP(日本標準産業分類!B1141,作業シート!$C$2:$D$21,2)","v":"不動産業，物品賃貸業"},69,{"$f":"VLOOKUP(D1141,作業シート!$F$2:$G$100,2)","v":"不動産賃貸業・管理業"},690,{"$f":"VLOOKUP(F1141,作業シート!$I$2:$J$531,2)","v":"管理，補助的経済活動を行う事業所（69不動産賃貸業・管理業）"},6900,"主として管理事務を行う本社等","K-69-690-6900","製造業その他"]
[null,"K",{"$f":"VLOOKUP(日本標準産業分類!B1142,作業シート!$C$2:$D$21,2)","v":"不動産業，物品賃貸業"},69,{"$f":"VLOOKUP(D1142,作業シート!$F$2:$G$100,2)","v":"不動産賃貸業・管理業"},690,{"$f":"VLOOKUP(F1142,作業シート!$I$2:$J$531,2)","v":"管理，補助的経済活動を行う事業所（69不動産賃貸業・管理業）"},6909,"その他の管理，補助的経済活動を行う事業所","K-69-690-6909","製造業その他"]
[null,"K",{"$f":"VLOOKUP(日本標準産業分類!B1143,作業シート!$C$2:$D$21,2)","v":"不動産業，物品賃貸業"},69,{"$f":"VLOOKUP(D1143,作業シート!$F$2:$G$100,2)","v":"不動産賃貸業・管理業"},691,{"$f":"VLOOKUP(F1143,作業シート!$I$2:$J$531,2)","v":"不動産賃貸業（貸家業，貸間業を除く）"},6911,"貸事務所業","K-69-691-6911","製造業その他"]
[null,"K",{"$f":"VLOOKUP(日本標準産業分類!B1144,作業シート!$C$2:$D$21,2)","v":"不動産業，物品賃貸業"},69,{"$f":"VLOOKUP(D1144,作業シート!$F$2:$G$100,2)","v":"不動産賃貸業・管理業"},691,{"$f":"VLOOKUP(F1144,作業シート!$I$2:$J$531,2)","v":"不動産賃貸業（貸家業，貸間業を除く）"},6912,"土地賃貸業","K-69-691-6912","製造業その他"]
[null,"K",{"$f":"VLOOKUP(日本標準産業分類!B1145,作業シート!$C$2:$D$21,2)","v":"不動産業，物品賃貸業"},69,{"$f":"VLOOKUP(D1145,作業シート!$F$2:$G$100,2)","v":"不動産賃貸業・管理業"},691,{"$f":"VLOOKUP(F1145,作業シート!$I$2:$J$531,2)","v":"不動産賃貸業（貸家業，貸間業を除く）"},6919,"その他の不動産賃貸業","K-69-691-6919","製造業その他"]
[null,"K",{"$f":"VLOOKUP(日本標準産業分類!B1146,作業シート!$C$2:$D$21,2)","v":"不動産業，物品賃貸業"},69,{"$f":"VLOOKUP(D1146,作業シート!$F$2:$G$100,2)","v":"不動産賃貸業・管理業"},692,{"$f":"VLOOKUP(F1146,作業シート!$I$2:$J$531,2)","v":"貸家業，貸間業"},6921,"貸家業",{"$f":"CONCATENATE(B1146,\"-\",D1146,\"-\",F1146,\"-\",H1146)","v":"K-69-692-6921"},"製造業その他"]
[null,"K",{"$f":"VLOOKUP(日本標準産業分類!B1147,作業シート!$C$2:$D$21,2)","v":"不動産業，物品賃貸業"},69,{"$f":"VLOOKUP(D1147,作業シート!$F$2:$G$100,2)","v":"不動産賃貸業・管理業"},692,{"$f":"VLOOKUP(F1147,作業シート!$I$2:$J$531,2)","v":"貸家業，貸間業"},6922,"貸間業","K-69-692-6922","製造業その他"]
[null,"K",{"$f":"VLOOKUP(日本標準産業分類!B1148,作業シート!$C$2:$D$21,2)","v":"不動産業，物品賃貸業"},69,{"$f":"VLOOKUP(D1148,作業シート!$F$2:$G$100,2)","v":"不動産賃貸業・管理業"},693,{"$f":"VLOOKUP(F1148,作業シート!$I$2:$J$531,2)","v":"駐車場業"},6931,"駐車場業","K-69-693-6931","サービス業"]
[null,"K",{"$f":"VLOOKUP(日本標準産業分類!B1149,作業シート!$C$2:$D$21,2)","v":"不動産業，物品賃貸業"},69,{"$f":"VLOOKUP(D1149,作業シート!$F$2:$G$100,2)","v":"不動産賃貸業・管理業"},694,{"$f":"VLOOKUP(F1149,作業シート!$I$2:$J$531,2)","v":"不動産管理業"},6941,"不動産管理業","K-69-694-6941","製造業その他"]
[null,"K",{"$f":"VLOOKUP(日本標準産業分類!B1150,作業シート!$C$2:$D$21,2)","v":"不動産業，物品賃貸業"},70,{"$f":"VLOOKUP(D1150,作業シート!$F$2:$G$100,2)","v":"物品賃貸業"},700,{"$f":"VLOOKUP(F1150,作業シート!$I$2:$J$531,2)","v":"管理，補助的経済活動を行う事業所（70物品賃貸業）"},7000,"主として管理事務を行う本社等","K-70-700-7000","サービス業"]
[null,"K",{"$f":"VLOOKUP(日本標準産業分類!B1151,作業シート!$C$2:$D$21,2)","v":"不動産業，物品賃貸業"},70,{"$f":"VLOOKUP(D1151,作業シート!$F$2:$G$100,2)","v":"物品賃貸業"},700,{"$f":"VLOOKUP(F1151,作業シート!$I$2:$J$531,2)","v":"管理，補助的経済活動を行う事業所（70物品賃貸業）"},7009,"その他の管理，補助的経済活動を行う事業所","K-70-700-7009","サービス業"]
[null,"K",{"$f":"VLOOKUP(日本標準産業分類!B1152,作業シート!$C$2:$D$21,2)","v":"不動産業，物品賃貸業"},70,{"$f":"VLOOKUP(D1152,作業シート!$F$2:$G$100,2)","v":"物品賃貸業"},701,{"$f":"VLOOKUP(F1152,作業シート!$I$2:$J$531,2)","v":"各種物品賃貸業"},7011,"総合リース業","K-70-701-7011","サービス業"]
[null,"K",{"$f":"VLOOKUP(日本標準産業分類!B1153,作業シート!$C$2:$D$21,2)","v":"不動産業，物品賃貸業"},70,{"$f":"VLOOKUP(D1153,作業シート!$F$2:$G$100,2)","v":"物品賃貸業"},701,{"$f":"VLOOKUP(F1153,作業シート!$I$2:$J$531,2)","v":"各種物品賃貸業"},7019,"その他の各種物品賃貸業","K-70-701-7019","サービス業"]
[null,"K",{"$f":"VLOOKUP(日本標準産業分類!B1154,作業シート!$C$2:$D$21,2)","v":"不動産業，物品賃貸業"},70,{"$f":"VLOOKUP(D1154,作業シート!$F$2:$G$100,2)","v":"物品賃貸業"},702,{"$f":"VLOOKUP(F1154,作業シート!$I$2:$J$531,2)","v":"産業用機械器具賃貸業"},7021,"産業用機械器具賃貸業（建設機械器具を除く）","K-70-702-7021","サービス業"]
[null,"K",{"$f":"VLOOKUP(日本標準産業分類!B1155,作業シート!$C$2:$D$21,2)","v":"不動産業，物品賃貸業"},70,{"$f":"VLOOKUP(D1155,作業シート!$F$2:$G$100,2)","v":"物品賃貸業"},702,{"$f":"VLOOKUP(F1155,作業シート!$I$2:$J$531,2)","v":"産業用機械器具賃貸業"},7022,"建設機械器具賃貸業","K-70-702-7022","サービス業"]
[null,"K",{"$f":"VLOOKUP(日本標準産業分類!B1156,作業シート!$C$2:$D$21,2)","v":"不動産業，物品賃貸業"},70,{"$f":"VLOOKUP(D1156,作業シート!$F$2:$G$100,2)","v":"物品賃貸業"},703,{"$f":"VLOOKUP(F1156,作業シート!$I$2:$J$531,2)","v":"事務用機械器具賃貸業"},7031,"事務用機械器具賃貸業（電子計算機を除く）","K-70-703-7031","サービス業"]
[null,"K",{"$f":"VLOOKUP(日本標準産業分類!B1157,作業シート!$C$2:$D$21,2)","v":"不動産業，物品賃貸業"},70,{"$f":"VLOOKUP(D1157,作業シート!$F$2:$G$100,2)","v":"物品賃貸業"},703,{"$f":"VLOOKUP(F1157,作業シート!$I$2:$J$531,2)","v":"事務用機械器具賃貸業"},7032,"電子計算機・同関連機器賃貸業","K-70-703-7032","サービス業"]
[null,"K",{"$f":"VLOOKUP(日本標準産業分類!B1158,作業シート!$C$2:$D$21,2)","v":"不動産業，物品賃貸業"},70,{"$f":"VLOOKUP(D1158,作業シート!$F$2:$G$100,2)","v":"物品賃貸業"},704,{"$f":"VLOOKUP(F1158,作業シート!$I$2:$J$531,2)","v":"自動車賃貸業"},7041,"自動車賃貸業","K-70-704-7041","サービス業"]
[null,"K",{"$f":"VLOOKUP(日本標準産業分類!B1159,作業シート!$C$2:$D$21,2)","v":"不動産業，物品賃貸業"},70,{"$f":"VLOOKUP(D1159,作業シート!$F$2:$G$100,2)","v":"物品賃貸業"},705,{"$f":"VLOOKUP(F1159,作業シート!$I$2:$J$531,2)","v":"スポーツ・娯楽用品賃貸業"},7051,"スポーツ・娯楽用品賃貸業","K-70-705-7051","サービス業"]
[null,"K",{"$f":"VLOOKUP(日本標準産業分類!B1160,作業シート!$C$2:$D$21,2)","v":"不動産業，物品賃貸業"},70,{"$f":"VLOOKUP(D1160,作業シート!$F$2:$G$100,2)","v":"物品賃貸業"},709,{"$f":"VLOOKUP(F1160,作業シート!$I$2:$J$531,2)","v":"その他の物品賃貸業"},7091,"映画・演劇用品賃貸業","K-70-709-7091","サービス業"]
[null,"K",{"$f":"VLOOKUP(日本標準産業分類!B1161,作業シート!$C$2:$D$21,2)","v":"不動産業，物品賃貸業"},70,{"$f":"VLOOKUP(D1161,作業シート!$F$2:$G$100,2)","v":"物品賃貸業"},709,{"$f":"VLOOKUP(F1161,作業シート!$I$2:$J$531,2)","v":"その他の物品賃貸業"},7092,"音楽・映像記録物賃貸業（別掲を除く）","K-70-709-7092","サービス業"]
[null,"K",{"$f":"VLOOKUP(日本標準産業分類!B1162,作業シート!$C$2:$D$21,2)","v":"不動産業，物品賃貸業"},70,{"$f":"VLOOKUP(D1162,作業シート!$F$2:$G$100,2)","v":"物品賃貸業"},709,{"$f":"VLOOKUP(F1162,作業シート!$I$2:$J$531,2)","v":"その他の物品賃貸業"},7093,"貸衣しょう業（別掲を除く）","K-70-709-7093","サービス業"]
[null,"K",{"$f":"VLOOKUP(日本標準産業分類!B1163,作業シート!$C$2:$D$21,2)","v":"不動産業，物品賃貸業"},70,{"$f":"VLOOKUP(D1163,作業シート!$F$2:$G$100,2)","v":"物品賃貸業"},709,{"$f":"VLOOKUP(F1163,作業シート!$I$2:$J$531,2)","v":"その他の物品賃貸業"},7099,"他に分類されない物品賃貸業","K-70-709-7099","サービス業"]
[null,"L",{"$f":"VLOOKUP(日本標準産業分類!B1164,作業シート!$C$2:$D$21,2)","v":"学術研究，専門・技術サービス業"},71,{"$f":"VLOOKUP(D1164,作業シート!$F$2:$G$100,2)","v":"学術・開発研究機関"},710,{"$f":"VLOOKUP(F1164,作業シート!$I$2:$J$531,2)","v":"管理，補助的経済活動を行う事業所（71学術・開発研究機関）"},7101,"管理，補助的経済活動を行う事業所","L-71-710-7101","サービス業"]
[null,"L",{"$f":"VLOOKUP(日本標準産業分類!B1165,作業シート!$C$2:$D$21,2)","v":"学術研究，専門・技術サービス業"},71,{"$f":"VLOOKUP(D1165,作業シート!$F$2:$G$100,2)","v":"学術・開発研究機関"},711,{"$f":"VLOOKUP(F1165,作業シート!$I$2:$J$531,2)","v":"自然科学研究所"},7111,"理学研究所","L-71-711-7111","サービス業"]
[null,"L",{"$f":"VLOOKUP(日本標準産業分類!B1166,作業シート!$C$2:$D$21,2)","v":"学術研究，専門・技術サービス業"},71,{"$f":"VLOOKUP(D1166,作業シート!$F$2:$G$100,2)","v":"学術・開発研究機関"},711,{"$f":"VLOOKUP(F1166,作業シート!$I$2:$J$531,2)","v":"自然科学研究所"},7112,"工学研究所","L-71-711-7112","サービス業"]
[null,"L",{"$f":"VLOOKUP(日本標準産業分類!B1167,作業シート!$C$2:$D$21,2)","v":"学術研究，専門・技術サービス業"},71,{"$f":"VLOOKUP(D1167,作業シート!$F$2:$G$100,2)","v":"学術・開発研究機関"},711,{"$f":"VLOOKUP(F1167,作業シート!$I$2:$J$531,2)","v":"自然科学研究所"},7113,"農学研究所","L-71-711-7113","サービス業"]
[null,"L",{"$f":"VLOOKUP(日本標準産業分類!B1168,作業シート!$C$2:$D$21,2)","v":"学術研究，専門・技術サービス業"},71,{"$f":"VLOOKUP(D1168,作業シート!$F$2:$G$100,2)","v":"学術・開発研究機関"},711,{"$f":"VLOOKUP(F1168,作業シート!$I$2:$J$531,2)","v":"自然科学研究所"},7114,"医学・薬学研究所","L-71-711-7114","サービス業"]
[null,"L",{"$f":"VLOOKUP(日本標準産業分類!B1169,作業シート!$C$2:$D$21,2)","v":"学術研究，専門・技術サービス業"},71,{"$f":"VLOOKUP(D1169,作業シート!$F$2:$G$100,2)","v":"学術・開発研究機関"},712,{"$f":"VLOOKUP(F1169,作業シート!$I$2:$J$531,2)","v":"人文・社会科学研究所"},7121,"人文・社会科学研究所","L-71-712-7121","サービス業"]
[null,"L",{"$f":"VLOOKUP(日本標準産業分類!B1170,作業シート!$C$2:$D$21,2)","v":"学術研究，専門・技術サービス業"},72,{"$f":"VLOOKUP(D1170,作業シート!$F$2:$G$100,2)","v":"専門サービス業（他に分類されないもの）"},720,{"$f":"VLOOKUP(F1170,作業シート!$I$2:$J$531,2)","v":"管理，補助的経済活動を行う事業所（72専門サービス業）"},7201,"管理，補助的経済活動を行う事業所","L-72-720-7201","サービス業"]
[null,"L",{"$f":"VLOOKUP(日本標準産業分類!B1171,作業シート!$C$2:$D$21,2)","v":"学術研究，専門・技術サービス業"},72,{"$f":"VLOOKUP(D1171,作業シート!$F$2:$G$100,2)","v":"専門サービス業（他に分類されないもの）"},721,{"$f":"VLOOKUP(F1171,作業シート!$I$2:$J$531,2)","v":"法律事務所，特許事務所"},7211,"法律事務所","L-72-721-7211","サービス業"]
[null,"L",{"$f":"VLOOKUP(日本標準産業分類!B1172,作業シート!$C$2:$D$21,2)","v":"学術研究，専門・技術サービス業"},72,{"$f":"VLOOKUP(D1172,作業シート!$F$2:$G$100,2)","v":"専門サービス業（他に分類されないもの）"},721,{"$f":"VLOOKUP(F1172,作業シート!$I$2:$J$531,2)","v":"法律事務所，特許事務所"},7212,"特許事務所","L-72-721-7212","サービス業"]
[null,"L",{"$f":"VLOOKUP(日本標準産業分類!B1173,作業シート!$C$2:$D$21,2)","v":"学術研究，専門・技術サービス業"},72,{"$f":"VLOOKUP(D1173,作業シート!$F$2:$G$100,2)","v":"専門サービス業（他に分類されないもの）"},722,{"$f":"VLOOKUP(F1173,作業シート!$I$2:$J$531,2)","v":"公証人役場，司法書士事務所，土地家屋調査士事務所"},7221,"公証人役場，司法書士事務所","L-72-722-7221","サービス業"]
[null,"L",{"$f":"VLOOKUP(日本標準産業分類!B1174,作業シート!$C$2:$D$21,2)","v":"学術研究，専門・技術サービス業"},72,{"$f":"VLOOKUP(D1174,作業シート!$F$2:$G$100,2)","v":"専門サービス業（他に分類されないもの）"},722,{"$f":"VLOOKUP(F1174,作業シート!$I$2:$J$531,2)","v":"公証人役場，司法書士事務所，土地家屋調査士事務所"},7222,"土地家屋調査士事務所","L-72-722-7222","サービス業"]
[null,"L",{"$f":"VLOOKUP(日本標準産業分類!B1175,作業シート!$C$2:$D$21,2)","v":"学術研究，専門・技術サービス業"},72,{"$f":"VLOOKUP(D1175,作業シート!$F$2:$G$100,2)","v":"専門サービス業（他に分類されないもの）"},723,{"$f":"VLOOKUP(F1175,作業シート!$I$2:$J$531,2)","v":"行政書士事務所"},7231,"行政書士事務所","L-72-723-7231","サービス業"]
[null,"L",{"$f":"VLOOKUP(日本標準産業分類!B1176,作業シート!$C$2:$D$21,2)","v":"学術研究，専門・技術サービス業"},72,{"$f":"VLOOKUP(D1176,作業シート!$F$2:$G$100,2)","v":"専門サービス業（他に分類されないもの）"},724,{"$f":"VLOOKUP(F1176,作業シート!$I$2:$J$531,2)","v":"公認会計士事務所，税理士事務所"},7241,"公認会計士事務所","L-72-724-7241","サービス業"]
[null,"L",{"$f":"VLOOKUP(日本標準産業分類!B1177,作業シート!$C$2:$D$21,2)","v":"学術研究，専門・技術サービス業"},72,{"$f":"VLOOKUP(D1177,作業シート!$F$2:$G$100,2)","v":"専門サービス業（他に分類されないもの）"},724,{"$f":"VLOOKUP(F1177,作業シート!$I$2:$J$531,2)","v":"公認会計士事務所，税理士事務所"},7242,"税理士事務所","L-72-724-7242","サービス業"]
[null,"L",{"$f":"VLOOKUP(日本標準産業分類!B1178,作業シート!$C$2:$D$21,2)","v":"学術研究，専門・技術サービス業"},72,{"$f":"VLOOKUP(D1178,作業シート!$F$2:$G$100,2)","v":"専門サービス業（他に分類されないもの）"},725,{"$f":"VLOOKUP(F1178,作業シート!$I$2:$J$531,2)","v":"社会保険労務士事務所"},7251,"社会保険労務士事務所","L-72-725-7251","サービス業"]
[null,"L",{"$f":"VLOOKUP(日本標準産業分類!B1179,作業シート!$C$2:$D$21,2)","v":"学術研究，専門・技術サービス業"},72,{"$f":"VLOOKUP(D1179,作業シート!$F$2:$G$100,2)","v":"専門サービス業（他に分類されないもの）"},726,{"$f":"VLOOKUP(F1179,作業シート!$I$2:$J$531,2)","v":"デザイン業"},7261,"デザイン業","L-72-726-7261","サービス業"]
[null,"L",{"$f":"VLOOKUP(日本標準産業分類!B1180,作業シート!$C$2:$D$21,2)","v":"学術研究，専門・技術サービス業"},72,{"$f":"VLOOKUP(D1180,作業シート!$F$2:$G$100,2)","v":"専門サービス業（他に分類されないもの）"},727,{"$f":"VLOOKUP(F1180,作業シート!$I$2:$J$531,2)","v":"著述・芸術家業"},7271,"著述家業","L-72-727-7271","サービス業"]
[null,"L",{"$f":"VLOOKUP(日本標準産業分類!B1181,作業シート!$C$2:$D$21,2)","v":"学術研究，専門・技術サービス業"},72,{"$f":"VLOOKUP(D1181,作業シート!$F$2:$G$100,2)","v":"専門サービス業（他に分類されないもの）"},727,{"$f":"VLOOKUP(F1181,作業シート!$I$2:$J$531,2)","v":"著述・芸術家業"},7272,"芸術家業","L-72-727-7272","サービス業"]
[null,"L",{"$f":"VLOOKUP(日本標準産業分類!B1182,作業シート!$C$2:$D$21,2)","v":"学術研究，専門・技術サービス業"},72,{"$f":"VLOOKUP(D1182,作業シート!$F$2:$G$100,2)","v":"専門サービス業（他に分類されないもの）"},728,{"$f":"VLOOKUP(F1182,作業シート!$I$2:$J$531,2)","v":"経営コンサルタント業，純粋持株会社"},7281,"経営コンサルタント業","L-72-728-7281","サービス業"]
[null,"L",{"$f":"VLOOKUP(日本標準産業分類!B1183,作業シート!$C$2:$D$21,2)","v":"学術研究，専門・技術サービス業"},72,{"$f":"VLOOKUP(D1183,作業シート!$F$2:$G$100,2)","v":"専門サービス業（他に分類されないもの）"},728,{"$f":"VLOOKUP(F1183,作業シート!$I$2:$J$531,2)","v":"経営コンサルタント業，純粋持株会社"},7282,"純粋持株会社","L-72-728-7282","サービス業"]
[null,"L",{"$f":"VLOOKUP(日本標準産業分類!B1184,作業シート!$C$2:$D$21,2)","v":"学術研究，専門・技術サービス業"},72,{"$f":"VLOOKUP(D1184,作業シート!$F$2:$G$100,2)","v":"専門サービス業（他に分類されないもの）"},729,{"$f":"VLOOKUP(F1184,作業シート!$I$2:$J$531,2)","v":"その他の専門サービス業"},7291,"興信所",{"$f":"CONCATENATE(B1184,\"-\",D1184,\"-\",F1184,\"-\",H1184)","v":"L-72-729-7291"},"サービス業"]
[null,"L",{"$f":"VLOOKUP(日本標準産業分類!B1185,作業シート!$C$2:$D$21,2)","v":"学術研究，専門・技術サービス業"},72,{"$f":"VLOOKUP(D1185,作業シート!$F$2:$G$100,2)","v":"専門サービス業（他に分類されないもの）"},729,{"$f":"VLOOKUP(F1185,作業シート!$I$2:$J$531,2)","v":"その他の専門サービス業"},7292,"翻訳業（著述家業を除く）","L-72-729-7292","サービス業"]
[null,"L",{"$f":"VLOOKUP(日本標準産業分類!B1186,作業シート!$C$2:$D$21,2)","v":"学術研究，専門・技術サービス業"},72,{"$f":"VLOOKUP(D1186,作業シート!$F$2:$G$100,2)","v":"専門サービス業（他に分類されないもの）"},729,{"$f":"VLOOKUP(F1186,作業シート!$I$2:$J$531,2)","v":"その他の専門サービス業"},7293,"通訳業，通訳案内業","L-72-729-7293","サービス業"]
[null,"L",{"$f":"VLOOKUP(日本標準産業分類!B1187,作業シート!$C$2:$D$21,2)","v":"学術研究，専門・技術サービス業"},72,{"$f":"VLOOKUP(D1187,作業シート!$F$2:$G$100,2)","v":"専門サービス業（他に分類されないもの）"},729,{"$f":"VLOOKUP(F1187,作業シート!$I$2:$J$531,2)","v":"その他の専門サービス業"},7294,"不動産鑑定業","L-72-729-7294","サービス業"]
[null,"L",{"$f":"VLOOKUP(日本標準産業分類!B1188,作業シート!$C$2:$D$21,2)","v":"学術研究，専門・技術サービス業"},72,{"$f":"VLOOKUP(D1188,作業シート!$F$2:$G$100,2)","v":"専門サービス業（他に分類されないもの）"},729,{"$f":"VLOOKUP(F1188,作業シート!$I$2:$J$531,2)","v":"その他の専門サービス業"},7299,"他に分類されない専門サービス業","L-72-729-7299","サービス業"]
[null,"L",{"$f":"VLOOKUP(日本標準産業分類!B1189,作業シート!$C$2:$D$21,2)","v":"学術研究，専門・技術サービス業"},73,{"$f":"VLOOKUP(D1189,作業シート!$F$2:$G$100,2)","v":"広告業"},730,{"$f":"VLOOKUP(F1189,作業シート!$I$2:$J$531,2)","v":"管理，補助的経済活動を行う事業所（73広告業）"},7300,"主として管理事務を行う本社等","L-73-730-7300","サービス業"]
[null,"L",{"$f":"VLOOKUP(日本標準産業分類!B1190,作業シート!$C$2:$D$21,2)","v":"学術研究，専門・技術サービス業"},73,{"$f":"VLOOKUP(D1190,作業シート!$F$2:$G$100,2)","v":"広告業"},730,{"$f":"VLOOKUP(F1190,作業シート!$I$2:$J$531,2)","v":"管理，補助的経済活動を行う事業所（73広告業）"},7309,"その他の管理，補助的経済活動を行う事業所","L-73-730-7309","サービス業"]
[null,"L",{"$f":"VLOOKUP(日本標準産業分類!B1191,作業シート!$C$2:$D$21,2)","v":"学術研究，専門・技術サービス業"},73,{"$f":"VLOOKUP(D1191,作業シート!$F$2:$G$100,2)","v":"広告業"},731,{"$f":"VLOOKUP(F1191,作業シート!$I$2:$J$531,2)","v":"広告業"},7311,"広告業","L-73-731-7311","サービス業"]
[null,"L",{"$f":"VLOOKUP(日本標準産業分類!B1192,作業シート!$C$2:$D$21,2)","v":"学術研究，専門・技術サービス業"},74,{"$f":"VLOOKUP(D1192,作業シート!$F$2:$G$100,2)","v":"技術サービス業（他に分類されないもの）"},740,{"$f":"VLOOKUP(F1192,作業シート!$I$2:$J$531,2)","v":"管理，補助的経済活動を行う事業所（74技術サービス業）"},7401,"管理，補助的経済活動を行う事業所","L-74-740-7401","サービス業"]
[null,"L",{"$f":"VLOOKUP(日本標準産業分類!B1193,作業シート!$C$2:$D$21,2)","v":"学術研究，専門・技術サービス業"},74,{"$f":"VLOOKUP(D1193,作業シート!$F$2:$G$100,2)","v":"技術サービス業（他に分類されないもの）"},741,{"$f":"VLOOKUP(F1193,作業シート!$I$2:$J$531,2)","v":"獣医業"},7411,"獣医業","L-74-741-7411","サービス業"]
[null,"L",{"$f":"VLOOKUP(日本標準産業分類!B1194,作業シート!$C$2:$D$21,2)","v":"学術研究，専門・技術サービス業"},74,{"$f":"VLOOKUP(D1194,作業シート!$F$2:$G$100,2)","v":"技術サービス業（他に分類されないもの）"},742,{"$f":"VLOOKUP(F1194,作業シート!$I$2:$J$531,2)","v":"土木建築サービス業"},7421,"建築設計業","L-74-742-7421","サービス業"]
[null,"L",{"$f":"VLOOKUP(日本標準産業分類!B1195,作業シート!$C$2:$D$21,2)","v":"学術研究，専門・技術サービス業"},74,{"$f":"VLOOKUP(D1195,作業シート!$F$2:$G$100,2)","v":"技術サービス業（他に分類されないもの）"},742,{"$f":"VLOOKUP(F1195,作業シート!$I$2:$J$531,2)","v":"土木建築サービス業"},7422,"測量業","L-74-742-7422","サービス業"]
[null,"L",{"$f":"VLOOKUP(日本標準産業分類!B1196,作業シート!$C$2:$D$21,2)","v":"学術研究，専門・技術サービス業"},74,{"$f":"VLOOKUP(D1196,作業シート!$F$2:$G$100,2)","v":"技術サービス業（他に分類されないもの）"},742,{"$f":"VLOOKUP(F1196,作業シート!$I$2:$J$531,2)","v":"土木建築サービス業"},7429,"その他の土木建築サービス業","L-74-742-7429","サービス業"]
[null,"L",{"$f":"VLOOKUP(日本標準産業分類!B1197,作業シート!$C$2:$D$21,2)","v":"学術研究，専門・技術サービス業"},74,{"$f":"VLOOKUP(D1197,作業シート!$F$2:$G$100,2)","v":"技術サービス業（他に分類されないもの）"},743,{"$f":"VLOOKUP(F1197,作業シート!$I$2:$J$531,2)","v":"機械設計業"},7431,"機械設計業","L-74-743-7431","サービス業"]
[null,"L",{"$f":"VLOOKUP(日本標準産業分類!B1198,作業シート!$C$2:$D$21,2)","v":"学術研究，専門・技術サービス業"},74,{"$f":"VLOOKUP(D1198,作業シート!$F$2:$G$100,2)","v":"技術サービス業（他に分類されないもの）"},744,{"$f":"VLOOKUP(F1198,作業シート!$I$2:$J$531,2)","v":"商品・非破壊検査業"},7441,"商品検査業","L-74-744-7441","サービス業"]
[null,"L",{"$f":"VLOOKUP(日本標準産業分類!B1199,作業シート!$C$2:$D$21,2)","v":"学術研究，専門・技術サービス業"},74,{"$f":"VLOOKUP(D1199,作業シート!$F$2:$G$100,2)","v":"技術サービス業（他に分類されないもの）"},744,{"$f":"VLOOKUP(F1199,作業シート!$I$2:$J$531,2)","v":"商品・非破壊検査業"},7442,"非破壊検査業","L-74-744-7442","サービス業"]
[null,"L",{"$f":"VLOOKUP(日本標準産業分類!B1200,作業シート!$C$2:$D$21,2)","v":"学術研究，専門・技術サービス業"},74,{"$f":"VLOOKUP(D1200,作業シート!$F$2:$G$100,2)","v":"技術サービス業（他に分類されないもの）"},745,{"$f":"VLOOKUP(F1200,作業シート!$I$2:$J$531,2)","v":"計量証明業"},7451,"一般計量証明業","L-74-745-7451","サービス業"]
[null,"L",{"$f":"VLOOKUP(日本標準産業分類!B1201,作業シート!$C$2:$D$21,2)","v":"学術研究，専門・技術サービス業"},74,{"$f":"VLOOKUP(D1201,作業シート!$F$2:$G$100,2)","v":"技術サービス業（他に分類されないもの）"},745,{"$f":"VLOOKUP(F1201,作業シート!$I$2:$J$531,2)","v":"計量証明業"},7452,"環境計量証明業","L-74-745-7452","サービス業"]
[null,"L",{"$f":"VLOOKUP(日本標準産業分類!B1202,作業シート!$C$2:$D$21,2)","v":"学術研究，専門・技術サービス業"},74,{"$f":"VLOOKUP(D1202,作業シート!$F$2:$G$100,2)","v":"技術サービス業（他に分類されないもの）"},745,{"$f":"VLOOKUP(F1202,作業シート!$I$2:$J$531,2)","v":"計量証明業"},7459,"その他の計量証明業","L-74-745-7459","サービス業"]
[null,"L",{"$f":"VLOOKUP(日本標準産業分類!B1203,作業シート!$C$2:$D$21,2)","v":"学術研究，専門・技術サービス業"},74,{"$f":"VLOOKUP(D1203,作業シート!$F$2:$G$100,2)","v":"技術サービス業（他に分類されないもの）"},746,{"$f":"VLOOKUP(F1203,作業シート!$I$2:$J$531,2)","v":"写真業"},7461,"写真業（商業写真業を除く）","L-74-746-7461","サービス業"]
[null,"L",{"$f":"VLOOKUP(日本標準産業分類!B1204,作業シート!$C$2:$D$21,2)","v":"学術研究，専門・技術サービス業"},74,{"$f":"VLOOKUP(D1204,作業シート!$F$2:$G$100,2)","v":"技術サービス業（他に分類されないもの）"},746,{"$f":"VLOOKUP(F1204,作業シート!$I$2:$J$531,2)","v":"写真業"},7462,"商業写真業","L-74-746-7462","サービス業"]
[null,"L",{"$f":"VLOOKUP(日本標準産業分類!B1205,作業シート!$C$2:$D$21,2)","v":"学術研究，専門・技術サービス業"},74,{"$f":"VLOOKUP(D1205,作業シート!$F$2:$G$100,2)","v":"技術サービス業（他に分類されないもの）"},749,{"$f":"VLOOKUP(F1205,作業シート!$I$2:$J$531,2)","v":"その他の技術サービス業"},7499,"その他の技術サービス業","L-74-749-7499","サービス業"]
[null,"M",{"$f":"VLOOKUP(日本標準産業分類!B1206,作業シート!$C$2:$D$21,2)","v":"宿泊業，飲食サービス業"},75,{"$f":"VLOOKUP(D1206,作業シート!$F$2:$G$100,2)","v":"宿泊業"},750,{"$f":"VLOOKUP(F1206,作業シート!$I$2:$J$531,2)","v":"管理，補助的経済活動を行う事業所（75宿泊業）"},7500,"主として管理事務を行う本社等","M-75-750-7500","サービス業"]
[null,"M",{"$f":"VLOOKUP(日本標準産業分類!B1207,作業シート!$C$2:$D$21,2)","v":"宿泊業，飲食サービス業"},75,{"$f":"VLOOKUP(D1207,作業シート!$F$2:$G$100,2)","v":"宿泊業"},750,{"$f":"VLOOKUP(F1207,作業シート!$I$2:$J$531,2)","v":"管理，補助的経済活動を行う事業所（75宿泊業）"},7509,"その他の管理，補助的経済活動を行う事業所","M-75-750-7509","サービス業"]
[null,"M",{"$f":"VLOOKUP(日本標準産業分類!B1208,作業シート!$C$2:$D$21,2)","v":"宿泊業，飲食サービス業"},75,{"$f":"VLOOKUP(D1208,作業シート!$F$2:$G$100,2)","v":"宿泊業"},751,{"$f":"VLOOKUP(F1208,作業シート!$I$2:$J$531,2)","v":"旅館，ホテル"},7511,"旅館，ホテル","M-75-751-7511","サービス業"]
[null,"M",{"$f":"VLOOKUP(日本標準産業分類!B1209,作業シート!$C$2:$D$21,2)","v":"宿泊業，飲食サービス業"},75,{"$f":"VLOOKUP(D1209,作業シート!$F$2:$G$100,2)","v":"宿泊業"},752,{"$f":"VLOOKUP(F1209,作業シート!$I$2:$J$531,2)","v":"簡易宿所"},7521,"簡易宿所","M-75-752-7521","サービス業"]
[null,"M",{"$f":"VLOOKUP(日本標準産業分類!B1210,作業シート!$C$2:$D$21,2)","v":"宿泊業，飲食サービス業"},75,{"$f":"VLOOKUP(D1210,作業シート!$F$2:$G$100,2)","v":"宿泊業"},753,{"$f":"VLOOKUP(F1210,作業シート!$I$2:$J$531,2)","v":"下宿業"},7531,"下宿業","M-75-753-7531","サービス業"]
[null,"M",{"$f":"VLOOKUP(日本標準産業分類!B1211,作業シート!$C$2:$D$21,2)","v":"宿泊業，飲食サービス業"},75,{"$f":"VLOOKUP(D1211,作業シート!$F$2:$G$100,2)","v":"宿泊業"},759,{"$f":"VLOOKUP(F1211,作業シート!$I$2:$J$531,2)","v":"その他の宿泊業"},7591,"会社・団体の宿泊所","M-75-759-7591","サービス業"]
[null,"M",{"$f":"VLOOKUP(日本標準産業分類!B1212,作業シート!$C$2:$D$21,2)","v":"宿泊業，飲食サービス業"},75,{"$f":"VLOOKUP(D1212,作業シート!$F$2:$G$100,2)","v":"宿泊業"},759,{"$f":"VLOOKUP(F1212,作業シート!$I$2:$J$531,2)","v":"その他の宿泊業"},7592,"リゾートクラブ","M-75-759-7592","サービス業"]
[null,"M",{"$f":"VLOOKUP(日本標準産業分類!B1213,作業シート!$C$2:$D$21,2)","v":"宿泊業，飲食サービス業"},75,{"$f":"VLOOKUP(D1213,作業シート!$F$2:$G$100,2)","v":"宿泊業"},759,{"$f":"VLOOKUP(F1213,作業シート!$I$2:$J$531,2)","v":"その他の宿泊業"},7599,"他に分類されない宿泊業","M-75-759-7599","サービス業"]
[null,"M",{"$f":"VLOOKUP(日本標準産業分類!B1214,作業シート!$C$2:$D$21,2)","v":"宿泊業，飲食サービス業"},76,{"$f":"VLOOKUP(D1214,作業シート!$F$2:$G$100,2)","v":"飲食店"},760,{"$f":"VLOOKUP(F1214,作業シート!$I$2:$J$531,2)","v":"管理，補助的経済活動を行う事業所（76飲食店）"},7600,"主として管理事務を行う本社等","M-76-760-7600","小売業"]
[null,"M",{"$f":"VLOOKUP(日本標準産業分類!B1215,作業シート!$C$2:$D$21,2)","v":"宿泊業，飲食サービス業"},76,{"$f":"VLOOKUP(D1215,作業シート!$F$2:$G$100,2)","v":"飲食店"},760,{"$f":"VLOOKUP(F1215,作業シート!$I$2:$J$531,2)","v":"管理，補助的経済活動を行う事業所（76飲食店）"},7609,"その他の管理，補助的経済活動を行う事業所","M-76-760-7609","小売業"]
[null,"M",{"$f":"VLOOKUP(日本標準産業分類!B1216,作業シート!$C$2:$D$21,2)","v":"宿泊業，飲食サービス業"},76,{"$f":"VLOOKUP(D1216,作業シート!$F$2:$G$100,2)","v":"飲食店"},761,{"$f":"VLOOKUP(F1216,作業シート!$I$2:$J$531,2)","v":"食堂，レストラン（専門料理店を除く）"},7611,"食堂，レストラン（専門料理店を除く）","M-76-761-7611","小売業"]
[null,"M",{"$f":"VLOOKUP(日本標準産業分類!B1217,作業シート!$C$2:$D$21,2)","v":"宿泊業，飲食サービス業"},76,{"$f":"VLOOKUP(D1217,作業シート!$F$2:$G$100,2)","v":"飲食店"},762,{"$f":"VLOOKUP(F1217,作業シート!$I$2:$J$531,2)","v":"専門料理店"},7621,"日本料理店","M-76-762-7621","小売業"]
[null,"M",{"$f":"VLOOKUP(日本標準産業分類!B1218,作業シート!$C$2:$D$21,2)","v":"宿泊業，飲食サービス業"},76,{"$f":"VLOOKUP(D1218,作業シート!$F$2:$G$100,2)","v":"飲食店"},762,{"$f":"VLOOKUP(F1218,作業シート!$I$2:$J$531,2)","v":"専門料理店"},7622,"料亭","M-76-762-7622","小売業"]
[null,"M",{"$f":"VLOOKUP(日本標準産業分類!B1219,作業シート!$C$2:$D$21,2)","v":"宿泊業，飲食サービス業"},76,{"$f":"VLOOKUP(D1219,作業シート!$F$2:$G$100,2)","v":"飲食店"},762,{"$f":"VLOOKUP(F1219,作業シート!$I$2:$J$531,2)","v":"専門料理店"},7623,"中華料理店","M-76-762-7623","小売業"]
[null,"M",{"$f":"VLOOKUP(日本標準産業分類!B1220,作業シート!$C$2:$D$21,2)","v":"宿泊業，飲食サービス業"},76,{"$f":"VLOOKUP(D1220,作業シート!$F$2:$G$100,2)","v":"飲食店"},762,{"$f":"VLOOKUP(F1220,作業シート!$I$2:$J$531,2)","v":"専門料理店"},7624,"ラーメン店","M-76-762-7624","小売業"]
[null,"M",{"$f":"VLOOKUP(日本標準産業分類!B1221,作業シート!$C$2:$D$21,2)","v":"宿泊業，飲食サービス業"},76,{"$f":"VLOOKUP(D1221,作業シート!$F$2:$G$100,2)","v":"飲食店"},762,{"$f":"VLOOKUP(F1221,作業シート!$I$2:$J$531,2)","v":"専門料理店"},7625,"焼肉店","M-76-762-7625","小売業"]
[null,"M",{"$f":"VLOOKUP(日本標準産業分類!B1222,作業シート!$C$2:$D$21,2)","v":"宿泊業，飲食サービス業"},76,{"$f":"VLOOKUP(D1222,作業シート!$F$2:$G$100,2)","v":"飲食店"},762,{"$f":"VLOOKUP(F1222,作業シート!$I$2:$J$531,2)","v":"専門料理店"},7629,"その他の専門料理店","M-76-762-7629","小売業"]
[null,"M",{"$f":"VLOOKUP(日本標準産業分類!B1223,作業シート!$C$2:$D$21,2)","v":"宿泊業，飲食サービス業"},76,{"$f":"VLOOKUP(D1223,作業シート!$F$2:$G$100,2)","v":"飲食店"},763,{"$f":"VLOOKUP(F1223,作業シート!$I$2:$J$531,2)","v":"そば・うどん店"},7631,"そば・うどん店",{"$f":"CONCATENATE(B1223,\"-\",D1223,\"-\",F1223,\"-\",H1223)","v":"M-76-763-7631"},"小売業"]
[null,"M",{"$f":"VLOOKUP(日本標準産業分類!B1224,作業シート!$C$2:$D$21,2)","v":"宿泊業，飲食サービス業"},76,{"$f":"VLOOKUP(D1224,作業シート!$F$2:$G$100,2)","v":"飲食店"},764,{"$f":"VLOOKUP(F1224,作業シート!$I$2:$J$531,2)","v":"すし店"},7641,"すし店","M-76-764-7641","小売業"]
[null,"M",{"$f":"VLOOKUP(日本標準産業分類!B1225,作業シート!$C$2:$D$21,2)","v":"宿泊業，飲食サービス業"},76,{"$f":"VLOOKUP(D1225,作業シート!$F$2:$G$100,2)","v":"飲食店"},765,{"$f":"VLOOKUP(F1225,作業シート!$I$2:$J$531,2)","v":"酒場，ビヤホール"},7651,"酒場，ビヤホール","M-76-765-7651","小売業"]
[null,"M",{"$f":"VLOOKUP(日本標準産業分類!B1226,作業シート!$C$2:$D$21,2)","v":"宿泊業，飲食サービス業"},76,{"$f":"VLOOKUP(D1226,作業シート!$F$2:$G$100,2)","v":"飲食店"},766,{"$f":"VLOOKUP(F1226,作業シート!$I$2:$J$531,2)","v":"バー，キャバレー，ナイトクラブ"},7661,"バー，キャバレー，ナイトクラブ","M-76-766-7661","小売業"]
[null,"M",{"$f":"VLOOKUP(日本標準産業分類!B1227,作業シート!$C$2:$D$21,2)","v":"宿泊業，飲食サービス業"},76,{"$f":"VLOOKUP(D1227,作業シート!$F$2:$G$100,2)","v":"飲食店"},767,{"$f":"VLOOKUP(F1227,作業シート!$I$2:$J$531,2)","v":"喫茶店"},7671,"喫茶店","M-76-767-7671","小売業"]
[null,"M",{"$f":"VLOOKUP(日本標準産業分類!B1228,作業シート!$C$2:$D$21,2)","v":"宿泊業，飲食サービス業"},76,{"$f":"VLOOKUP(D1228,作業シート!$F$2:$G$100,2)","v":"飲食店"},769,{"$f":"VLOOKUP(F1228,作業シート!$I$2:$J$531,2)","v":"その他の飲食店"},7691,"ハンバーガー店","M-76-769-7691","小売業"]
[null,"M",{"$f":"VLOOKUP(日本標準産業分類!B1229,作業シート!$C$2:$D$21,2)","v":"宿泊業，飲食サービス業"},76,{"$f":"VLOOKUP(D1229,作業シート!$F$2:$G$100,2)","v":"飲食店"},769,{"$f":"VLOOKUP(F1229,作業シート!$I$2:$J$531,2)","v":"その他の飲食店"},7692,"お好み焼・焼きそば・たこ焼店","M-76-769-7692","小売業"]
[null,"M",{"$f":"VLOOKUP(日本標準産業分類!B1230,作業シート!$C$2:$D$21,2)","v":"宿泊業，飲食サービス業"},76,{"$f":"VLOOKUP(D1230,作業シート!$F$2:$G$100,2)","v":"飲食店"},769,{"$f":"VLOOKUP(F1230,作業シート!$I$2:$J$531,2)","v":"その他の飲食店"},7699,"他に分類されない飲食店","M-76-769-7699","小売業"]
[null,"M",{"$f":"VLOOKUP(日本標準産業分類!B1231,作業シート!$C$2:$D$21,2)","v":"宿泊業，飲食サービス業"},77,{"$f":"VLOOKUP(D1231,作業シート!$F$2:$G$100,2)","v":"持ち帰り・配達飲食サービス業"},770,{"$f":"VLOOKUP(F1231,作業シート!$I$2:$J$531,2)","v":"管理，補助的経済活動を行う事業所（77持ち帰り・配達飲食サービス業）"},7700,"主として管理事務を行う本社等","M-77-770-7700","小売業"]
[null,"M",{"$f":"VLOOKUP(日本標準産業分類!B1232,作業シート!$C$2:$D$21,2)","v":"宿泊業，飲食サービス業"},77,{"$f":"VLOOKUP(D1232,作業シート!$F$2:$G$100,2)","v":"持ち帰り・配達飲食サービス業"},770,{"$f":"VLOOKUP(F1232,作業シート!$I$2:$J$531,2)","v":"管理，補助的経済活動を行う事業所（77持ち帰り・配達飲食サービス業）"},7709,"その他の管理，補助的経済活動を行う事業所","M-77-770-7709","小売業"]
[null,"M",{"$f":"VLOOKUP(日本標準産業分類!B1233,作業シート!$C$2:$D$21,2)","v":"宿泊業，飲食サービス業"},77,{"$f":"VLOOKUP(D1233,作業シート!$F$2:$G$100,2)","v":"持ち帰り・配達飲食サービス業"},771,{"$f":"VLOOKUP(F1233,作業シート!$I$2:$J$531,2)","v":"持ち帰り飲食サービス業"},7711,"持ち帰り飲食サービス業","M-77-771-7711","小売業"]
[null,"M",{"$f":"VLOOKUP(日本標準産業分類!B1234,作業シート!$C$2:$D$21,2)","v":"宿泊業，飲食サービス業"},77,{"$f":"VLOOKUP(D1234,作業シート!$F$2:$G$100,2)","v":"持ち帰り・配達飲食サービス業"},772,{"$f":"VLOOKUP(F1234,作業シート!$I$2:$J$531,2)","v":"配達飲食サービス業"},7721,"配達飲食サービス業","M-77-772-7721","小売業"]
[null,"N",{"$f":"VLOOKUP(日本標準産業分類!B1235,作業シート!$C$2:$D$21,2)","v":"生活関連サービス業，娯楽業"},78,{"$f":"VLOOKUP(D1235,作業シート!$F$2:$G$100,2)","v":"洗濯・理容・美容・浴場業"},780,{"$f":"VLOOKUP(F1235,作業シート!$I$2:$J$531,2)","v":"管理，補助的経済活動を行う事業所（78洗濯・理容・美容・浴場業）"},7800,"主として管理事務を行う本社等","N-78-780-7800","サービス業"]
[null,"N",{"$f":"VLOOKUP(日本標準産業分類!B1236,作業シート!$C$2:$D$21,2)","v":"生活関連サービス業，娯楽業"},78,{"$f":"VLOOKUP(D1236,作業シート!$F$2:$G$100,2)","v":"洗濯・理容・美容・浴場業"},780,{"$f":"VLOOKUP(F1236,作業シート!$I$2:$J$531,2)","v":"管理，補助的経済活動を行う事業所（78洗濯・理容・美容・浴場業）"},7809,"その他の管理，補助的経済活動を行う事業所","N-78-780-7809","サービス業"]
[null,"N",{"$f":"VLOOKUP(日本標準産業分類!B1237,作業シート!$C$2:$D$21,2)","v":"生活関連サービス業，娯楽業"},78,{"$f":"VLOOKUP(D1237,作業シート!$F$2:$G$100,2)","v":"洗濯・理容・美容・浴場業"},781,{"$f":"VLOOKUP(F1237,作業シート!$I$2:$J$531,2)","v":"洗濯業"},7811,"普通洗濯業","N-78-781-7811","サービス業"]
[null,"N",{"$f":"VLOOKUP(日本標準産業分類!B1238,作業シート!$C$2:$D$21,2)","v":"生活関連サービス業，娯楽業"},78,{"$f":"VLOOKUP(D1238,作業シート!$F$2:$G$100,2)","v":"洗濯・理容・美容・浴場業"},781,{"$f":"VLOOKUP(F1238,作業シート!$I$2:$J$531,2)","v":"洗濯業"},7812,"洗濯物取次業","N-78-781-7812","サービス業"]
[null,"N",{"$f":"VLOOKUP(日本標準産業分類!B1239,作業シート!$C$2:$D$21,2)","v":"生活関連サービス業，娯楽業"},78,{"$f":"VLOOKUP(D1239,作業シート!$F$2:$G$100,2)","v":"洗濯・理容・美容・浴場業"},781,{"$f":"VLOOKUP(F1239,作業シート!$I$2:$J$531,2)","v":"洗濯業"},7813,"リネンサプライ業","N-78-781-7813","サービス業"]
[null,"N",{"$f":"VLOOKUP(日本標準産業分類!B1240,作業シート!$C$2:$D$21,2)","v":"生活関連サービス業，娯楽業"},78,{"$f":"VLOOKUP(D1240,作業シート!$F$2:$G$100,2)","v":"洗濯・理容・美容・浴場業"},782,{"$f":"VLOOKUP(F1240,作業シート!$I$2:$J$531,2)","v":"理容業"},7821,"理容業","N-78-782-7821","サービス業"]
[null,"N",{"$f":"VLOOKUP(日本標準産業分類!B1241,作業シート!$C$2:$D$21,2)","v":"生活関連サービス業，娯楽業"},78,{"$f":"VLOOKUP(D1241,作業シート!$F$2:$G$100,2)","v":"洗濯・理容・美容・浴場業"},783,{"$f":"VLOOKUP(F1241,作業シート!$I$2:$J$531,2)","v":"美容業"},7831,"美容業","N-78-783-7831","サービス業"]
[null,"N",{"$f":"VLOOKUP(日本標準産業分類!B1242,作業シート!$C$2:$D$21,2)","v":"生活関連サービス業，娯楽業"},78,{"$f":"VLOOKUP(D1242,作業シート!$F$2:$G$100,2)","v":"洗濯・理容・美容・浴場業"},784,{"$f":"VLOOKUP(F1242,作業シート!$I$2:$J$531,2)","v":"一般公衆浴場業"},7841,"一般公衆浴場業","N-78-784-7841","サービス業"]
[null,"N",{"$f":"VLOOKUP(日本標準産業分類!B1243,作業シート!$C$2:$D$21,2)","v":"生活関連サービス業，娯楽業"},78,{"$f":"VLOOKUP(D1243,作業シート!$F$2:$G$100,2)","v":"洗濯・理容・美容・浴場業"},785,{"$f":"VLOOKUP(F1243,作業シート!$I$2:$J$531,2)","v":"その他の公衆浴場業"},7851,"その他の公衆浴場業","N-78-785-7851","サービス業"]
[null,"N",{"$f":"VLOOKUP(日本標準産業分類!B1244,作業シート!$C$2:$D$21,2)","v":"生活関連サービス業，娯楽業"},78,{"$f":"VLOOKUP(D1244,作業シート!$F$2:$G$100,2)","v":"洗濯・理容・美容・浴場業"},789,{"$f":"VLOOKUP(F1244,作業シート!$I$2:$J$531,2)","v":"その他の洗濯・理容・美容・浴場業"},7891,"洗張・染物業","N-78-789-7891","サービス業"]
[null,"N",{"$f":"VLOOKUP(日本標準産業分類!B1245,作業シート!$C$2:$D$21,2)","v":"生活関連サービス業，娯楽業"},78,{"$f":"VLOOKUP(D1245,作業シート!$F$2:$G$100,2)","v":"洗濯・理容・美容・浴場業"},789,{"$f":"VLOOKUP(F1245,作業シート!$I$2:$J$531,2)","v":"その他の洗濯・理容・美容・浴場業"},7892,"エステティック業","N-78-789-7892","サービス業"]
[null,"N",{"$f":"VLOOKUP(日本標準産業分類!B1246,作業シート!$C$2:$D$21,2)","v":"生活関連サービス業，娯楽業"},78,{"$f":"VLOOKUP(D1246,作業シート!$F$2:$G$100,2)","v":"洗濯・理容・美容・浴場業"},789,{"$f":"VLOOKUP(F1246,作業シート!$I$2:$J$531,2)","v":"その他の洗濯・理容・美容・浴場業"},7893,"リラクゼーション業(手技を用いるもの)","N-78-789-7893","サービス業"]
[null,"N",{"$f":"VLOOKUP(日本標準産業分類!B1247,作業シート!$C$2:$D$21,2)","v":"生活関連サービス業，娯楽業"},78,{"$f":"VLOOKUP(D1247,作業シート!$F$2:$G$100,2)","v":"洗濯・理容・美容・浴場業"},789,{"$f":"VLOOKUP(F1247,作業シート!$I$2:$J$531,2)","v":"その他の洗濯・理容・美容・浴場業"},7894,"ネイルサービス業","N-78-789-7894","サービス業"]
[null,"N",{"$f":"VLOOKUP(日本標準産業分類!B1248,作業シート!$C$2:$D$21,2)","v":"生活関連サービス業，娯楽業"},78,{"$f":"VLOOKUP(D1248,作業シート!$F$2:$G$100,2)","v":"洗濯・理容・美容・浴場業"},789,{"$f":"VLOOKUP(F1248,作業シート!$I$2:$J$531,2)","v":"その他の洗濯・理容・美容・浴場業"},7899,"他に分類されない洗濯・理容・美容・浴場業","N-78-789-7899","サービス業"]
[null,"N",{"$f":"VLOOKUP(日本標準産業分類!B1249,作業シート!$C$2:$D$21,2)","v":"生活関連サービス業，娯楽業"},79,{"$f":"VLOOKUP(D1249,作業シート!$F$2:$G$100,2)","v":"その他の生活関連サービス業"},790,{"$f":"VLOOKUP(F1249,作業シート!$I$2:$J$531,2)","v":"管理，補助的経済活動を行う事業所（79その他の生活関連サービス業）"},7900,"主として管理事務を行う本社等","N-79-790-7900","サービス業"]
[null,"N",{"$f":"VLOOKUP(日本標準産業分類!B1250,作業シート!$C$2:$D$21,2)","v":"生活関連サービス業，娯楽業"},79,{"$f":"VLOOKUP(D1250,作業シート!$F$2:$G$100,2)","v":"その他の生活関連サービス業"},790,{"$f":"VLOOKUP(F1250,作業シート!$I$2:$J$531,2)","v":"管理，補助的経済活動を行う事業所（79その他の生活関連サービス業）"},7909,"その他の管理，補助的経済活動を行う事業所","N-79-790-7909","サービス業"]
[null,"N",{"$f":"VLOOKUP(日本標準産業分類!B1251,作業シート!$C$2:$D$21,2)","v":"生活関連サービス業，娯楽業"},79,{"$f":"VLOOKUP(D1251,作業シート!$F$2:$G$100,2)","v":"その他の生活関連サービス業"},791,{"$f":"VLOOKUP(F1251,作業シート!$I$2:$J$531,2)","v":"旅行業"},7911,"旅行業(旅行業者代理業を除く)","N-79-791-7911","製造業その他"]
[null,"N",{"$f":"VLOOKUP(日本標準産業分類!B1252,作業シート!$C$2:$D$21,2)","v":"生活関連サービス業，娯楽業"},79,{"$f":"VLOOKUP(D1252,作業シート!$F$2:$G$100,2)","v":"その他の生活関連サービス業"},791,{"$f":"VLOOKUP(F1252,作業シート!$I$2:$J$531,2)","v":"旅行業"},7912,"旅行業者代理業","N-79-791-7912","製造業その他"]
[null,"N",{"$f":"VLOOKUP(日本標準産業分類!B1253,作業シート!$C$2:$D$21,2)","v":"生活関連サービス業，娯楽業"},79,{"$f":"VLOOKUP(D1253,作業シート!$F$2:$G$100,2)","v":"その他の生活関連サービス業"},792,{"$f":"VLOOKUP(F1253,作業シート!$I$2:$J$531,2)","v":"家事サービス業"},7921,"家事サービス業（住込みのもの）","N-79-792-7921","サービス業"]
[null,"N",{"$f":"VLOOKUP(日本標準産業分類!B1254,作業シート!$C$2:$D$21,2)","v":"生活関連サービス業，娯楽業"},79,{"$f":"VLOOKUP(D1254,作業シート!$F$2:$G$100,2)","v":"その他の生活関連サービス業"},792,{"$f":"VLOOKUP(F1254,作業シート!$I$2:$J$531,2)","v":"家事サービス業"},7922,"家事サービス業（住込みでないもの）","N-79-792-7922","サービス業"]
[null,"N",{"$f":"VLOOKUP(日本標準産業分類!B1255,作業シート!$C$2:$D$21,2)","v":"生活関連サービス業，娯楽業"},79,{"$f":"VLOOKUP(D1255,作業シート!$F$2:$G$100,2)","v":"その他の生活関連サービス業"},793,{"$f":"VLOOKUP(F1255,作業シート!$I$2:$J$531,2)","v":"衣服裁縫修理業"},7931,"衣服裁縫修理業","N-79-793-7931","サービス業"]
[null,"N",{"$f":"VLOOKUP(日本標準産業分類!B1256,作業シート!$C$2:$D$21,2)","v":"生活関連サービス業，娯楽業"},79,{"$f":"VLOOKUP(D1256,作業シート!$F$2:$G$100,2)","v":"その他の生活関連サービス業"},794,{"$f":"VLOOKUP(F1256,作業シート!$I$2:$J$531,2)","v":"物品預り業"},7941,"物品預り業","N-79-794-7941","サービス業"]
[null,"N",{"$f":"VLOOKUP(日本標準産業分類!B1257,作業シート!$C$2:$D$21,2)","v":"生活関連サービス業，娯楽業"},79,{"$f":"VLOOKUP(D1257,作業シート!$F$2:$G$100,2)","v":"その他の生活関連サービス業"},795,{"$f":"VLOOKUP(F1257,作業シート!$I$2:$J$531,2)","v":"火葬・墓地管理業"},7951,"火葬業","N-79-795-7951","サービス業"]
[null,"N",{"$f":"VLOOKUP(日本標準産業分類!B1258,作業シート!$C$2:$D$21,2)","v":"生活関連サービス業，娯楽業"},79,{"$f":"VLOOKUP(D1258,作業シート!$F$2:$G$100,2)","v":"その他の生活関連サービス業"},795,{"$f":"VLOOKUP(F1258,作業シート!$I$2:$J$531,2)","v":"火葬・墓地管理業"},7952,"墓地管理業","N-79-795-7952","サービス業"]
[null,"N",{"$f":"VLOOKUP(日本標準産業分類!B1259,作業シート!$C$2:$D$21,2)","v":"生活関連サービス業，娯楽業"},79,{"$f":"VLOOKUP(D1259,作業シート!$F$2:$G$100,2)","v":"その他の生活関連サービス業"},796,{"$f":"VLOOKUP(F1259,作業シート!$I$2:$J$531,2)","v":"冠婚葬祭業"},7961,"葬儀業","N-79-796-7961","サービス業"]
[null,"N",{"$f":"VLOOKUP(日本標準産業分類!B1260,作業シート!$C$2:$D$21,2)","v":"生活関連サービス業，娯楽業"},79,{"$f":"VLOOKUP(D1260,作業シート!$F$2:$G$100,2)","v":"その他の生活関連サービス業"},796,{"$f":"VLOOKUP(F1260,作業シート!$I$2:$J$531,2)","v":"冠婚葬祭業"},7962,"結婚式場業","N-79-796-7962","サービス業"]
[null,"N",{"$f":"VLOOKUP(日本標準産業分類!B1261,作業シート!$C$2:$D$21,2)","v":"生活関連サービス業，娯楽業"},79,{"$f":"VLOOKUP(D1261,作業シート!$F$2:$G$100,2)","v":"その他の生活関連サービス業"},796,{"$f":"VLOOKUP(F1261,作業シート!$I$2:$J$531,2)","v":"冠婚葬祭業"},7963,"冠婚葬祭互助会",{"$f":"CONCATENATE(B1261,\"-\",D1261,\"-\",F1261,\"-\",H1261)","v":"N-79-796-7963"},"サービス業"]
[null,"N",{"$f":"VLOOKUP(日本標準産業分類!B1262,作業シート!$C$2:$D$21,2)","v":"生活関連サービス業，娯楽業"},79,{"$f":"VLOOKUP(D1262,作業シート!$F$2:$G$100,2)","v":"その他の生活関連サービス業"},799,{"$f":"VLOOKUP(F1262,作業シート!$I$2:$J$531,2)","v":"他に分類されない生活関連サービス業"},7991,"食品賃加工業","N-79-799-7991","サービス業"]
[null,"N",{"$f":"VLOOKUP(日本標準産業分類!B1263,作業シート!$C$2:$D$21,2)","v":"生活関連サービス業，娯楽業"},79,{"$f":"VLOOKUP(D1263,作業シート!$F$2:$G$100,2)","v":"その他の生活関連サービス業"},799,{"$f":"VLOOKUP(F1263,作業シート!$I$2:$J$531,2)","v":"他に分類されない生活関連サービス業"},7992,"結婚相談業，結婚式場紹介業","N-79-799-7992","サービス業"]
[null,"N",{"$f":"VLOOKUP(日本標準産業分類!B1264,作業シート!$C$2:$D$21,2)","v":"生活関連サービス業，娯楽業"},79,{"$f":"VLOOKUP(D1264,作業シート!$F$2:$G$100,2)","v":"その他の生活関連サービス業"},799,{"$f":"VLOOKUP(F1264,作業シート!$I$2:$J$531,2)","v":"他に分類されない生活関連サービス業"},7993,"写真プリント，現像・焼付業","N-79-799-7993","サービス業"]
[null,"N",{"$f":"VLOOKUP(日本標準産業分類!B1265,作業シート!$C$2:$D$21,2)","v":"生活関連サービス業，娯楽業"},79,{"$f":"VLOOKUP(D1265,作業シート!$F$2:$G$100,2)","v":"その他の生活関連サービス業"},799,{"$f":"VLOOKUP(F1265,作業シート!$I$2:$J$531,2)","v":"他に分類されない生活関連サービス業"},7999,"他に分類されないその他の生活関連サービス業","N-79-799-7999","サービス業"]
[null,"N",{"$f":"VLOOKUP(日本標準産業分類!B1266,作業シート!$C$2:$D$21,2)","v":"生活関連サービス業，娯楽業"},80,{"$f":"VLOOKUP(D1266,作業シート!$F$2:$G$100,2)","v":"娯楽業"},800,{"$f":"VLOOKUP(F1266,作業シート!$I$2:$J$531,2)","v":"管理，補助的経済活動を行う事業所（80娯楽業）"},8000,"主として管理事務を行う本社等","N-80-800-8000","サービス業"]
[null,"N",{"$f":"VLOOKUP(日本標準産業分類!B1267,作業シート!$C$2:$D$21,2)","v":"生活関連サービス業，娯楽業"},80,{"$f":"VLOOKUP(D1267,作業シート!$F$2:$G$100,2)","v":"娯楽業"},800,{"$f":"VLOOKUP(F1267,作業シート!$I$2:$J$531,2)","v":"管理，補助的経済活動を行う事業所（80娯楽業）"},8009,"その他の管理，補助的経済活動を行う事業所","N-80-800-8009","サービス業"]
[null,"N",{"$f":"VLOOKUP(日本標準産業分類!B1268,作業シート!$C$2:$D$21,2)","v":"生活関連サービス業，娯楽業"},80,{"$f":"VLOOKUP(D1268,作業シート!$F$2:$G$100,2)","v":"娯楽業"},801,{"$f":"VLOOKUP(F1268,作業シート!$I$2:$J$531,2)","v":"映画館"},8011,"映画館","N-80-801-8011","サービス業"]
[null,"N",{"$f":"VLOOKUP(日本標準産業分類!B1269,作業シート!$C$2:$D$21,2)","v":"生活関連サービス業，娯楽業"},80,{"$f":"VLOOKUP(D1269,作業シート!$F$2:$G$100,2)","v":"娯楽業"},802,{"$f":"VLOOKUP(F1269,作業シート!$I$2:$J$531,2)","v":"興行場（別掲を除く），興行団"},8021,"劇場","N-80-802-8021","サービス業"]
[null,"N",{"$f":"VLOOKUP(日本標準産業分類!B1270,作業シート!$C$2:$D$21,2)","v":"生活関連サービス業，娯楽業"},80,{"$f":"VLOOKUP(D1270,作業シート!$F$2:$G$100,2)","v":"娯楽業"},802,{"$f":"VLOOKUP(F1270,作業シート!$I$2:$J$531,2)","v":"興行場（別掲を除く），興行団"},8022,"興行場","N-80-802-8022","サービス業"]
[null,"N",{"$f":"VLOOKUP(日本標準産業分類!B1271,作業シート!$C$2:$D$21,2)","v":"生活関連サービス業，娯楽業"},80,{"$f":"VLOOKUP(D1271,作業シート!$F$2:$G$100,2)","v":"娯楽業"},802,{"$f":"VLOOKUP(F1271,作業シート!$I$2:$J$531,2)","v":"興行場（別掲を除く），興行団"},8023,"劇団","N-80-802-8023","サービス業"]
[null,"N",{"$f":"VLOOKUP(日本標準産業分類!B1272,作業シート!$C$2:$D$21,2)","v":"生活関連サービス業，娯楽業"},80,{"$f":"VLOOKUP(D1272,作業シート!$F$2:$G$100,2)","v":"娯楽業"},802,{"$f":"VLOOKUP(F1272,作業シート!$I$2:$J$531,2)","v":"興行場（別掲を除く），興行団"},8024,"楽団，舞踏団","N-80-802-8024","サービス業"]
[null,"N",{"$f":"VLOOKUP(日本標準産業分類!B1273,作業シート!$C$2:$D$21,2)","v":"生活関連サービス業，娯楽業"},80,{"$f":"VLOOKUP(D1273,作業シート!$F$2:$G$100,2)","v":"娯楽業"},802,{"$f":"VLOOKUP(F1273,作業シート!$I$2:$J$531,2)","v":"興行場（別掲を除く），興行団"},8025,"演芸・スポーツ等興行団","N-80-802-8025","サービス業"]
[null,"N",{"$f":"VLOOKUP(日本標準産業分類!B1274,作業シート!$C$2:$D$21,2)","v":"生活関連サービス業，娯楽業"},80,{"$f":"VLOOKUP(D1274,作業シート!$F$2:$G$100,2)","v":"娯楽業"},803,{"$f":"VLOOKUP(F1274,作業シート!$I$2:$J$531,2)","v":"競輪・競馬等の競走場，競技団"},8031,"競輪場","N-80-803-8031","サービス業"]
[null,"N",{"$f":"VLOOKUP(日本標準産業分類!B1275,作業シート!$C$2:$D$21,2)","v":"生活関連サービス業，娯楽業"},80,{"$f":"VLOOKUP(D1275,作業シート!$F$2:$G$100,2)","v":"娯楽業"},803,{"$f":"VLOOKUP(F1275,作業シート!$I$2:$J$531,2)","v":"競輪・競馬等の競走場，競技団"},8032,"競馬場","N-80-803-8032","サービス業"]
[null,"N",{"$f":"VLOOKUP(日本標準産業分類!B1276,作業シート!$C$2:$D$21,2)","v":"生活関連サービス業，娯楽業"},80,{"$f":"VLOOKUP(D1276,作業シート!$F$2:$G$100,2)","v":"娯楽業"},803,{"$f":"VLOOKUP(F1276,作業シート!$I$2:$J$531,2)","v":"競輪・競馬等の競走場，競技団"},8033,"自動車・モータボートの競走場","N-80-803-8033","サービス業"]
[null,"N",{"$f":"VLOOKUP(日本標準産業分類!B1277,作業シート!$C$2:$D$21,2)","v":"生活関連サービス業，娯楽業"},80,{"$f":"VLOOKUP(D1277,作業シート!$F$2:$G$100,2)","v":"娯楽業"},803,{"$f":"VLOOKUP(F1277,作業シート!$I$2:$J$531,2)","v":"競輪・競馬等の競走場，競技団"},8034,"競輪競技団","N-80-803-8034","サービス業"]
[null,"N",{"$f":"VLOOKUP(日本標準産業分類!B1278,作業シート!$C$2:$D$21,2)","v":"生活関連サービス業，娯楽業"},80,{"$f":"VLOOKUP(D1278,作業シート!$F$2:$G$100,2)","v":"娯楽業"},803,{"$f":"VLOOKUP(F1278,作業シート!$I$2:$J$531,2)","v":"競輪・競馬等の競走場，競技団"},8035,"競馬競技団","N-80-803-8035","サービス業"]
[null,"N",{"$f":"VLOOKUP(日本標準産業分類!B1279,作業シート!$C$2:$D$21,2)","v":"生活関連サービス業，娯楽業"},80,{"$f":"VLOOKUP(D1279,作業シート!$F$2:$G$100,2)","v":"娯楽業"},803,{"$f":"VLOOKUP(F1279,作業シート!$I$2:$J$531,2)","v":"競輪・競馬等の競走場，競技団"},8036,"自動車・モータボートの競技団","N-80-803-8036","サービス業"]
[null,"N",{"$f":"VLOOKUP(日本標準産業分類!B1280,作業シート!$C$2:$D$21,2)","v":"生活関連サービス業，娯楽業"},80,{"$f":"VLOOKUP(D1280,作業シート!$F$2:$G$100,2)","v":"娯楽業"},804,{"$f":"VLOOKUP(F1280,作業シート!$I$2:$J$531,2)","v":"スポーツ施設提供業"},8041,"スポーツ施設提供業（別掲を除く）","N-80-804-8041","サービス業"]
[null,"N",{"$f":"VLOOKUP(日本標準産業分類!B1281,作業シート!$C$2:$D$21,2)","v":"生活関連サービス業，娯楽業"},80,{"$f":"VLOOKUP(D1281,作業シート!$F$2:$G$100,2)","v":"娯楽業"},804,{"$f":"VLOOKUP(F1281,作業シート!$I$2:$J$531,2)","v":"スポーツ施設提供業"},8042,"体育館","N-80-804-8042","サービス業"]
[null,"N",{"$f":"VLOOKUP(日本標準産業分類!B1282,作業シート!$C$2:$D$21,2)","v":"生活関連サービス業，娯楽業"},80,{"$f":"VLOOKUP(D1282,作業シート!$F$2:$G$100,2)","v":"娯楽業"},804,{"$f":"VLOOKUP(F1282,作業シート!$I$2:$J$531,2)","v":"スポーツ施設提供業"},8043,"ゴルフ場","N-80-804-8043","サービス業"]
[null,"N",{"$f":"VLOOKUP(日本標準産業分類!B1283,作業シート!$C$2:$D$21,2)","v":"生活関連サービス業，娯楽業"},80,{"$f":"VLOOKUP(D1283,作業シート!$F$2:$G$100,2)","v":"娯楽業"},804,{"$f":"VLOOKUP(F1283,作業シート!$I$2:$J$531,2)","v":"スポーツ施設提供業"},8044,"ゴルフ練習場","N-80-804-8044","サービス業"]
[null,"N",{"$f":"VLOOKUP(日本標準産業分類!B1284,作業シート!$C$2:$D$21,2)","v":"生活関連サービス業，娯楽業"},80,{"$f":"VLOOKUP(D1284,作業シート!$F$2:$G$100,2)","v":"娯楽業"},804,{"$f":"VLOOKUP(F1284,作業シート!$I$2:$J$531,2)","v":"スポーツ施設提供業"},8045,"ボウリング場","N-80-804-8045","サービス業"]
[null,"N",{"$f":"VLOOKUP(日本標準産業分類!B1285,作業シート!$C$2:$D$21,2)","v":"生活関連サービス業，娯楽業"},80,{"$f":"VLOOKUP(D1285,作業シート!$F$2:$G$100,2)","v":"娯楽業"},804,{"$f":"VLOOKUP(F1285,作業シート!$I$2:$J$531,2)","v":"スポーツ施設提供業"},8046,"テニス場","N-80-804-8046","サービス業"]
[null,"N",{"$f":"VLOOKUP(日本標準産業分類!B1286,作業シート!$C$2:$D$21,2)","v":"生活関連サービス業，娯楽業"},80,{"$f":"VLOOKUP(D1286,作業シート!$F$2:$G$100,2)","v":"娯楽業"},804,{"$f":"VLOOKUP(F1286,作業シート!$I$2:$J$531,2)","v":"スポーツ施設提供業"},8047,"バッティング・テニス練習場","N-80-804-8047","サービス業"]
[null,"N",{"$f":"VLOOKUP(日本標準産業分類!B1287,作業シート!$C$2:$D$21,2)","v":"生活関連サービス業，娯楽業"},80,{"$f":"VLOOKUP(D1287,作業シート!$F$2:$G$100,2)","v":"娯楽業"},804,{"$f":"VLOOKUP(F1287,作業シート!$I$2:$J$531,2)","v":"スポーツ施設提供業"},8048,"フィットネスクラブ","N-80-804-8048","サービス業"]
[null,"N",{"$f":"VLOOKUP(日本標準産業分類!B1288,作業シート!$C$2:$D$21,2)","v":"生活関連サービス業，娯楽業"},80,{"$f":"VLOOKUP(D1288,作業シート!$F$2:$G$100,2)","v":"娯楽業"},805,{"$f":"VLOOKUP(F1288,作業シート!$I$2:$J$531,2)","v":"公園，遊園地"},8051,"公園","N-80-805-8051","サービス業"]
[null,"N",{"$f":"VLOOKUP(日本標準産業分類!B1289,作業シート!$C$2:$D$21,2)","v":"生活関連サービス業，娯楽業"},80,{"$f":"VLOOKUP(D1289,作業シート!$F$2:$G$100,2)","v":"娯楽業"},805,{"$f":"VLOOKUP(F1289,作業シート!$I$2:$J$531,2)","v":"公園，遊園地"},8052,"遊園地（テーマパークを除く）","N-80-805-8052","サービス業"]
[null,"N",{"$f":"VLOOKUP(日本標準産業分類!B1290,作業シート!$C$2:$D$21,2)","v":"生活関連サービス業，娯楽業"},80,{"$f":"VLOOKUP(D1290,作業シート!$F$2:$G$100,2)","v":"娯楽業"},805,{"$f":"VLOOKUP(F1290,作業シート!$I$2:$J$531,2)","v":"公園，遊園地"},8053,"テーマパーク","N-80-805-8053","サービス業"]
[null,"N",{"$f":"VLOOKUP(日本標準産業分類!B1291,作業シート!$C$2:$D$21,2)","v":"生活関連サービス業，娯楽業"},80,{"$f":"VLOOKUP(D1291,作業シート!$F$2:$G$100,2)","v":"娯楽業"},806,{"$f":"VLOOKUP(F1291,作業シート!$I$2:$J$531,2)","v":"遊戯場"},8061,"ビリヤード場","N-80-806-8061","サービス業"]
[null,"N",{"$f":"VLOOKUP(日本標準産業分類!B1292,作業シート!$C$2:$D$21,2)","v":"生活関連サービス業，娯楽業"},80,{"$f":"VLOOKUP(D1292,作業シート!$F$2:$G$100,2)","v":"娯楽業"},806,{"$f":"VLOOKUP(F1292,作業シート!$I$2:$J$531,2)","v":"遊戯場"},8062,"囲碁・将棋所","N-80-806-8062","サービス業"]
[null,"N",{"$f":"VLOOKUP(日本標準産業分類!B1293,作業シート!$C$2:$D$21,2)","v":"生活関連サービス業，娯楽業"},80,{"$f":"VLOOKUP(D1293,作業シート!$F$2:$G$100,2)","v":"娯楽業"},806,{"$f":"VLOOKUP(F1293,作業シート!$I$2:$J$531,2)","v":"遊戯場"},8063,"マージャンクラブ","N-80-806-8063","サービス業"]
[null,"N",{"$f":"VLOOKUP(日本標準産業分類!B1294,作業シート!$C$2:$D$21,2)","v":"生活関連サービス業，娯楽業"},80,{"$f":"VLOOKUP(D1294,作業シート!$F$2:$G$100,2)","v":"娯楽業"},806,{"$f":"VLOOKUP(F1294,作業シート!$I$2:$J$531,2)","v":"遊戯場"},8064,"パチンコホール","N-80-806-8064","サービス業"]
[null,"N",{"$f":"VLOOKUP(日本標準産業分類!B1295,作業シート!$C$2:$D$21,2)","v":"生活関連サービス業，娯楽業"},80,{"$f":"VLOOKUP(D1295,作業シート!$F$2:$G$100,2)","v":"娯楽業"},806,{"$f":"VLOOKUP(F1295,作業シート!$I$2:$J$531,2)","v":"遊戯場"},8065,"ゲームセンター","N-80-806-8065","サービス業"]
[null,"N",{"$f":"VLOOKUP(日本標準産業分類!B1296,作業シート!$C$2:$D$21,2)","v":"生活関連サービス業，娯楽業"},80,{"$f":"VLOOKUP(D1296,作業シート!$F$2:$G$100,2)","v":"娯楽業"},806,{"$f":"VLOOKUP(F1296,作業シート!$I$2:$J$531,2)","v":"遊戯場"},8069,"その他の遊戯場","N-80-806-8069","サービス業"]
[null,"N",{"$f":"VLOOKUP(日本標準産業分類!B1297,作業シート!$C$2:$D$21,2)","v":"生活関連サービス業，娯楽業"},80,{"$f":"VLOOKUP(D1297,作業シート!$F$2:$G$100,2)","v":"娯楽業"},809,{"$f":"VLOOKUP(F1297,作業シート!$I$2:$J$531,2)","v":"その他の娯楽業"},8091,"ダンスホール","N-80-809-8091","サービス業"]
[null,"N",{"$f":"VLOOKUP(日本標準産業分類!B1298,作業シート!$C$2:$D$21,2)","v":"生活関連サービス業，娯楽業"},80,{"$f":"VLOOKUP(D1298,作業シート!$F$2:$G$100,2)","v":"娯楽業"},809,{"$f":"VLOOKUP(F1298,作業シート!$I$2:$J$531,2)","v":"その他の娯楽業"},8092,"マリーナ業","N-80-809-8092","サービス業"]
[null,"N",{"$f":"VLOOKUP(日本標準産業分類!B1299,作業シート!$C$2:$D$21,2)","v":"生活関連サービス業，娯楽業"},80,{"$f":"VLOOKUP(D1299,作業シート!$F$2:$G$100,2)","v":"娯楽業"},809,{"$f":"VLOOKUP(F1299,作業シート!$I$2:$J$531,2)","v":"その他の娯楽業"},8093,"遊漁船業","N-80-809-8093","サービス業"]
[null,"N",{"$f":"VLOOKUP(日本標準産業分類!B1300,作業シート!$C$2:$D$21,2)","v":"生活関連サービス業，娯楽業"},80,{"$f":"VLOOKUP(D1300,作業シート!$F$2:$G$100,2)","v":"娯楽業"},809,{"$f":"VLOOKUP(F1300,作業シート!$I$2:$J$531,2)","v":"その他の娯楽業"},8094,"芸ぎ業","N-80-809-8094","サービス業"]
[null,"N",{"$f":"VLOOKUP(日本標準産業分類!B1301,作業シート!$C$2:$D$21,2)","v":"生活関連サービス業，娯楽業"},80,{"$f":"VLOOKUP(D1301,作業シート!$F$2:$G$100,2)","v":"娯楽業"},809,{"$f":"VLOOKUP(F1301,作業シート!$I$2:$J$531,2)","v":"その他の娯楽業"},8095,"カラオケボックス業","N-80-809-8095","サービス業"]
[null,"N",{"$f":"VLOOKUP(日本標準産業分類!B1302,作業シート!$C$2:$D$21,2)","v":"生活関連サービス業，娯楽業"},80,{"$f":"VLOOKUP(D1302,作業シート!$F$2:$G$100,2)","v":"娯楽業"},809,{"$f":"VLOOKUP(F1302,作業シート!$I$2:$J$531,2)","v":"その他の娯楽業"},8096,"娯楽に附帯するサービス業","N-80-809-8096","サービス業"]
[null,"N",{"$f":"VLOOKUP(日本標準産業分類!B1303,作業シート!$C$2:$D$21,2)","v":"生活関連サービス業，娯楽業"},80,{"$f":"VLOOKUP(D1303,作業シート!$F$2:$G$100,2)","v":"娯楽業"},809,{"$f":"VLOOKUP(F1303,作業シート!$I$2:$J$531,2)","v":"その他の娯楽業"},8099,"他に分類されない娯楽業","N-80-809-8099","サービス業"]
[null,"O",{"$f":"VLOOKUP(日本標準産業分類!B1304,作業シート!$C$2:$D$21,2)","v":"教育，学習支援業"},81,{"$f":"VLOOKUP(D1304,作業シート!$F$2:$G$100,2)","v":"学校教育"},810,{"$f":"VLOOKUP(F1304,作業シート!$I$2:$J$531,2)","v":"管理，補助的経済活動を行う事業所（81学校教育）"},8101,"管理，補助的経済活動を行う事業所","O-81-810-8101","サービス業"]
[null,"O",{"$f":"VLOOKUP(日本標準産業分類!B1305,作業シート!$C$2:$D$21,2)","v":"教育，学習支援業"},81,{"$f":"VLOOKUP(D1305,作業シート!$F$2:$G$100,2)","v":"学校教育"},811,{"$f":"VLOOKUP(F1305,作業シート!$I$2:$J$531,2)","v":"幼稚園"},8111,"幼稚園","O-81-811-8111","サービス業"]
[null,"O",{"$f":"VLOOKUP(日本標準産業分類!B1306,作業シート!$C$2:$D$21,2)","v":"教育，学習支援業"},81,{"$f":"VLOOKUP(D1306,作業シート!$F$2:$G$100,2)","v":"学校教育"},812,{"$f":"VLOOKUP(F1306,作業シート!$I$2:$J$531,2)","v":"小学校"},8121,"小学校","O-81-812-8121","サービス業"]
[null,"O",{"$f":"VLOOKUP(日本標準産業分類!B1307,作業シート!$C$2:$D$21,2)","v":"教育，学習支援業"},81,{"$f":"VLOOKUP(D1307,作業シート!$F$2:$G$100,2)","v":"学校教育"},813,{"$f":"VLOOKUP(F1307,作業シート!$I$2:$J$531,2)","v":"中学校"},8131,"中学校","O-81-813-8131","サービス業"]
[null,"O",{"$f":"VLOOKUP(日本標準産業分類!B1308,作業シート!$C$2:$D$21,2)","v":"教育，学習支援業"},81,{"$f":"VLOOKUP(D1308,作業シート!$F$2:$G$100,2)","v":"学校教育"},814,{"$f":"VLOOKUP(F1308,作業シート!$I$2:$J$531,2)","v":"高等学校，中等教育学校"},8141,"高等学校",{"$f":"CONCATENATE(B1308,\"-\",D1308,\"-\",F1308,\"-\",H1308)","v":"O-81-814-8141"},"サービス業"]
[null,"O",{"$f":"VLOOKUP(日本標準産業分類!B1309,作業シート!$C$2:$D$21,2)","v":"教育，学習支援業"},81,{"$f":"VLOOKUP(D1309,作業シート!$F$2:$G$100,2)","v":"学校教育"},814,{"$f":"VLOOKUP(F1309,作業シート!$I$2:$J$531,2)","v":"高等学校，中等教育学校"},8142,"中等教育学校","O-81-814-8142","サービス業"]
[null,"O",{"$f":"VLOOKUP(日本標準産業分類!B1310,作業シート!$C$2:$D$21,2)","v":"教育，学習支援業"},81,{"$f":"VLOOKUP(D1310,作業シート!$F$2:$G$100,2)","v":"学校教育"},815,{"$f":"VLOOKUP(F1310,作業シート!$I$2:$J$531,2)","v":"特別支援学校"},8151,"特別支援学校","O-81-815-8151","サービス業"]
[null,"O",{"$f":"VLOOKUP(日本標準産業分類!B1311,作業シート!$C$2:$D$21,2)","v":"教育，学習支援業"},81,{"$f":"VLOOKUP(D1311,作業シート!$F$2:$G$100,2)","v":"学校教育"},816,{"$f":"VLOOKUP(F1311,作業シート!$I$2:$J$531,2)","v":"高等教育機関"},8161,"大学","O-81-816-8161","サービス業"]
[null,"O",{"$f":"VLOOKUP(日本標準産業分類!B1312,作業シート!$C$2:$D$21,2)","v":"教育，学習支援業"},81,{"$f":"VLOOKUP(D1312,作業シート!$F$2:$G$100,2)","v":"学校教育"},816,{"$f":"VLOOKUP(F1312,作業シート!$I$2:$J$531,2)","v":"高等教育機関"},8162,"短期大学","O-81-816-8162","サービス業"]
[null,"O",{"$f":"VLOOKUP(日本標準産業分類!B1313,作業シート!$C$2:$D$21,2)","v":"教育，学習支援業"},81,{"$f":"VLOOKUP(D1313,作業シート!$F$2:$G$100,2)","v":"学校教育"},816,{"$f":"VLOOKUP(F1313,作業シート!$I$2:$J$531,2)","v":"高等教育機関"},8163,"高等専門学校","O-81-816-8163","サービス業"]
[null,"O",{"$f":"VLOOKUP(日本標準産業分類!B1314,作業シート!$C$2:$D$21,2)","v":"教育，学習支援業"},81,{"$f":"VLOOKUP(D1314,作業シート!$F$2:$G$100,2)","v":"学校教育"},817,{"$f":"VLOOKUP(F1314,作業シート!$I$2:$J$531,2)","v":"専修学校，各種学校"},8171,"専修学校","O-81-817-8171","サービス業"]
[null,"O",{"$f":"VLOOKUP(日本標準産業分類!B1315,作業シート!$C$2:$D$21,2)","v":"教育，学習支援業"},81,{"$f":"VLOOKUP(D1315,作業シート!$F$2:$G$100,2)","v":"学校教育"},817,{"$f":"VLOOKUP(F1315,作業シート!$I$2:$J$531,2)","v":"専修学校，各種学校"},8172,"各種学校","O-81-817-8172","サービス業"]
[null,"O",{"$f":"VLOOKUP(日本標準産業分類!B1316,作業シート!$C$2:$D$21,2)","v":"教育，学習支援業"},81,{"$f":"VLOOKUP(D1316,作業シート!$F$2:$G$100,2)","v":"学校教育"},818,{"$f":"VLOOKUP(F1316,作業シート!$I$2:$J$531,2)","v":"学校教育支援機関"},8181,"学校教育支援機関","O-81-818-8181","サービス業"]
[null,"O",{"$f":"VLOOKUP(日本標準産業分類!B1317,作業シート!$C$2:$D$21,2)","v":"教育，学習支援業"},81,{"$f":"VLOOKUP(D1317,作業シート!$F$2:$G$100,2)","v":"学校教育"},819,{"$f":"VLOOKUP(F1317,作業シート!$I$2:$J$531,2)","v":"幼保連携型認定こども園"},8191,"幼保連携型認定こども園","O-81-819-8191","サービス業"]
[null,"O",{"$f":"VLOOKUP(日本標準産業分類!B1318,作業シート!$C$2:$D$21,2)","v":"教育，学習支援業"},82,{"$f":"VLOOKUP(D1318,作業シート!$F$2:$G$100,2)","v":"その他の教育，学習支援業"},820,{"$f":"VLOOKUP(F1318,作業シート!$I$2:$J$531,2)","v":"管理，補助的経済活動を行う事業所（82その他の教育，学習支援業）"},8200,"主として管理事務を行う本社等","O-82-820-8200","サービス業"]
[null,"O",{"$f":"VLOOKUP(日本標準産業分類!B1319,作業シート!$C$2:$D$21,2)","v":"教育，学習支援業"},82,{"$f":"VLOOKUP(D1319,作業シート!$F$2:$G$100,2)","v":"その他の教育，学習支援業"},820,{"$f":"VLOOKUP(F1319,作業シート!$I$2:$J$531,2)","v":"管理，補助的経済活動を行う事業所（82その他の教育，学習支援業）"},8209,"その他の管理，補助的経済活動を行う事業所","O-82-820-8209","サービス業"]
[null,"O",{"$f":"VLOOKUP(日本標準産業分類!B1320,作業シート!$C$2:$D$21,2)","v":"教育，学習支援業"},82,{"$f":"VLOOKUP(D1320,作業シート!$F$2:$G$100,2)","v":"その他の教育，学習支援業"},821,{"$f":"VLOOKUP(F1320,作業シート!$I$2:$J$531,2)","v":"社会教育"},8211,"公民館","O-82-821-8211","サービス業"]
[null,"O",{"$f":"VLOOKUP(日本標準産業分類!B1321,作業シート!$C$2:$D$21,2)","v":"教育，学習支援業"},82,{"$f":"VLOOKUP(D1321,作業シート!$F$2:$G$100,2)","v":"その他の教育，学習支援業"},821,{"$f":"VLOOKUP(F1321,作業シート!$I$2:$J$531,2)","v":"社会教育"},8212,"図書館","O-82-821-8212","サービス業"]
[null,"O",{"$f":"VLOOKUP(日本標準産業分類!B1322,作業シート!$C$2:$D$21,2)","v":"教育，学習支援業"},82,{"$f":"VLOOKUP(D1322,作業シート!$F$2:$G$100,2)","v":"その他の教育，学習支援業"},821,{"$f":"VLOOKUP(F1322,作業シート!$I$2:$J$531,2)","v":"社会教育"},8213,"博物館，美術館","O-82-821-8213","サービス業"]
[null,"O",{"$f":"VLOOKUP(日本標準産業分類!B1323,作業シート!$C$2:$D$21,2)","v":"教育，学習支援業"},82,{"$f":"VLOOKUP(D1323,作業シート!$F$2:$G$100,2)","v":"その他の教育，学習支援業"},821,{"$f":"VLOOKUP(F1323,作業シート!$I$2:$J$531,2)","v":"社会教育"},8214,"動物園，植物園，水族館","O-82-821-8214","サービス業"]
[null,"O",{"$f":"VLOOKUP(日本標準産業分類!B1324,作業シート!$C$2:$D$21,2)","v":"教育，学習支援業"},82,{"$f":"VLOOKUP(D1324,作業シート!$F$2:$G$100,2)","v":"その他の教育，学習支援業"},821,{"$f":"VLOOKUP(F1324,作業シート!$I$2:$J$531,2)","v":"社会教育"},8215,"青少年教育施設","O-82-821-8215","サービス業"]
[null,"O",{"$f":"VLOOKUP(日本標準産業分類!B1325,作業シート!$C$2:$D$21,2)","v":"教育，学習支援業"},82,{"$f":"VLOOKUP(D1325,作業シート!$F$2:$G$100,2)","v":"その他の教育，学習支援業"},821,{"$f":"VLOOKUP(F1325,作業シート!$I$2:$J$531,2)","v":"社会教育"},8216,"社会通信教育","O-82-821-8216","サービス業"]
[null,"O",{"$f":"VLOOKUP(日本標準産業分類!B1326,作業シート!$C$2:$D$21,2)","v":"教育，学習支援業"},82,{"$f":"VLOOKUP(D1326,作業シート!$F$2:$G$100,2)","v":"その他の教育，学習支援業"},821,{"$f":"VLOOKUP(F1326,作業シート!$I$2:$J$531,2)","v":"社会教育"},8219,"その他の社会教育","O-82-821-8219","サービス業"]
[null,"O",{"$f":"VLOOKUP(日本標準産業分類!B1327,作業シート!$C$2:$D$21,2)","v":"教育，学習支援業"},82,{"$f":"VLOOKUP(D1327,作業シート!$F$2:$G$100,2)","v":"その他の教育，学習支援業"},822,{"$f":"VLOOKUP(F1327,作業シート!$I$2:$J$531,2)","v":"職業・教育支援施設"},8221,"職員教育施設・支援業","O-82-822-8221","サービス業"]
[null,"O",{"$f":"VLOOKUP(日本標準産業分類!B1328,作業シート!$C$2:$D$21,2)","v":"教育，学習支援業"},82,{"$f":"VLOOKUP(D1328,作業シート!$F$2:$G$100,2)","v":"その他の教育，学習支援業"},822,{"$f":"VLOOKUP(F1328,作業シート!$I$2:$J$531,2)","v":"職業・教育支援施設"},8222,"職業訓練施設","O-82-822-8222","サービス業"]
[null,"O",{"$f":"VLOOKUP(日本標準産業分類!B1329,作業シート!$C$2:$D$21,2)","v":"教育，学習支援業"},82,{"$f":"VLOOKUP(D1329,作業シート!$F$2:$G$100,2)","v":"その他の教育，学習支援業"},822,{"$f":"VLOOKUP(F1329,作業シート!$I$2:$J$531,2)","v":"職業・教育支援施設"},8229,"その他の職業・教育支援施設","O-82-822-8229","サービス業"]
[null,"O",{"$f":"VLOOKUP(日本標準産業分類!B1330,作業シート!$C$2:$D$21,2)","v":"教育，学習支援業"},82,{"$f":"VLOOKUP(D1330,作業シート!$F$2:$G$100,2)","v":"その他の教育，学習支援業"},823,{"$f":"VLOOKUP(F1330,作業シート!$I$2:$J$531,2)","v":"学習塾"},8231,"学習塾","O-82-823-8231","サービス業"]
[null,"O",{"$f":"VLOOKUP(日本標準産業分類!B1331,作業シート!$C$2:$D$21,2)","v":"教育，学習支援業"},82,{"$f":"VLOOKUP(D1331,作業シート!$F$2:$G$100,2)","v":"その他の教育，学習支援業"},824,{"$f":"VLOOKUP(F1331,作業シート!$I$2:$J$531,2)","v":"教養・技能教授業"},8241,"音楽教授業","O-82-824-8241","サービス業"]
[null,"O",{"$f":"VLOOKUP(日本標準産業分類!B1332,作業シート!$C$2:$D$21,2)","v":"教育，学習支援業"},82,{"$f":"VLOOKUP(D1332,作業シート!$F$2:$G$100,2)","v":"その他の教育，学習支援業"},824,{"$f":"VLOOKUP(F1332,作業シート!$I$2:$J$531,2)","v":"教養・技能教授業"},8242,"書道教授業","O-82-824-8242","サービス業"]
[null,"O",{"$f":"VLOOKUP(日本標準産業分類!B1333,作業シート!$C$2:$D$21,2)","v":"教育，学習支援業"},82,{"$f":"VLOOKUP(D1333,作業シート!$F$2:$G$100,2)","v":"その他の教育，学習支援業"},824,{"$f":"VLOOKUP(F1333,作業シート!$I$2:$J$531,2)","v":"教養・技能教授業"},8243,"生花・茶道教授業","O-82-824-8243","サービス業"]
[null,"O",{"$f":"VLOOKUP(日本標準産業分類!B1334,作業シート!$C$2:$D$21,2)","v":"教育，学習支援業"},82,{"$f":"VLOOKUP(D1334,作業シート!$F$2:$G$100,2)","v":"その他の教育，学習支援業"},824,{"$f":"VLOOKUP(F1334,作業シート!$I$2:$J$531,2)","v":"教養・技能教授業"},8244,"そろばん教授業","O-82-824-8244","サービス業"]
[null,"O",{"$f":"VLOOKUP(日本標準産業分類!B1335,作業シート!$C$2:$D$21,2)","v":"教育，学習支援業"},82,{"$f":"VLOOKUP(D1335,作業シート!$F$2:$G$100,2)","v":"その他の教育，学習支援業"},824,{"$f":"VLOOKUP(F1335,作業シート!$I$2:$J$531,2)","v":"教養・技能教授業"},8245,"外国語会話教授業","O-82-824-8245","サービス業"]
[null,"O",{"$f":"VLOOKUP(日本標準産業分類!B1336,作業シート!$C$2:$D$21,2)","v":"教育，学習支援業"},82,{"$f":"VLOOKUP(D1336,作業シート!$F$2:$G$100,2)","v":"その他の教育，学習支援業"},824,{"$f":"VLOOKUP(F1336,作業シート!$I$2:$J$531,2)","v":"教養・技能教授業"},8246,"スポーツ・健康教授業","O-82-824-8246","サービス業"]
[null,"O",{"$f":"VLOOKUP(日本標準産業分類!B1337,作業シート!$C$2:$D$21,2)","v":"教育，学習支援業"},82,{"$f":"VLOOKUP(D1337,作業シート!$F$2:$G$100,2)","v":"その他の教育，学習支援業"},824,{"$f":"VLOOKUP(F1337,作業シート!$I$2:$J$531,2)","v":"教養・技能教授業"},8249,"その他の教養・技能教授業","O-82-824-8249","サービス業"]
[null,"O",{"$f":"VLOOKUP(日本標準産業分類!B1338,作業シート!$C$2:$D$21,2)","v":"教育，学習支援業"},82,{"$f":"VLOOKUP(D1338,作業シート!$F$2:$G$100,2)","v":"その他の教育，学習支援業"},829,{"$f":"VLOOKUP(F1338,作業シート!$I$2:$J$531,2)","v":"他に分類されない教育，学習支援業"},8299,"他に分類されない教育，学習支援業","O-82-829-8299","サービス業"]
[null,"P",{"$f":"VLOOKUP(日本標準産業分類!B1339,作業シート!$C$2:$D$21,2)","v":"医療，福祉"},83,{"$f":"VLOOKUP(D1339,作業シート!$F$2:$G$100,2)","v":"医療業"},830,{"$f":"VLOOKUP(F1339,作業シート!$I$2:$J$531,2)","v":"管理，補助的経済活動を行う事業所（83医療業）"},8300,"主として管理事務を行う本社等","P-83-830-8300","サービス業"]
[null,"P",{"$f":"VLOOKUP(日本標準産業分類!B1340,作業シート!$C$2:$D$21,2)","v":"医療，福祉"},83,{"$f":"VLOOKUP(D1340,作業シート!$F$2:$G$100,2)","v":"医療業"},830,{"$f":"VLOOKUP(F1340,作業シート!$I$2:$J$531,2)","v":"管理，補助的経済活動を行う事業所（83医療業）"},8309,"その他の管理，補助的経済活動を行う事業所","P-83-830-8309","サービス業"]
[null,"P",{"$f":"VLOOKUP(日本標準産業分類!B1341,作業シート!$C$2:$D$21,2)","v":"医療，福祉"},83,{"$f":"VLOOKUP(D1341,作業シート!$F$2:$G$100,2)","v":"医療業"},831,{"$f":"VLOOKUP(F1341,作業シート!$I$2:$J$531,2)","v":"病院"},8311,"一般病院","P-83-831-8311","サービス業"]
[null,"P",{"$f":"VLOOKUP(日本標準産業分類!B1342,作業シート!$C$2:$D$21,2)","v":"医療，福祉"},83,{"$f":"VLOOKUP(D1342,作業シート!$F$2:$G$100,2)","v":"医療業"},831,{"$f":"VLOOKUP(F1342,作業シート!$I$2:$J$531,2)","v":"病院"},8312,"精神科病院","P-83-831-8312","サービス業"]
[null,"P",{"$f":"VLOOKUP(日本標準産業分類!B1343,作業シート!$C$2:$D$21,2)","v":"医療，福祉"},83,{"$f":"VLOOKUP(D1343,作業シート!$F$2:$G$100,2)","v":"医療業"},832,{"$f":"VLOOKUP(F1343,作業シート!$I$2:$J$531,2)","v":"一般診療所"},8321,"有床診療所","P-83-832-8321","サービス業"]
[null,"P",{"$f":"VLOOKUP(日本標準産業分類!B1344,作業シート!$C$2:$D$21,2)","v":"医療，福祉"},83,{"$f":"VLOOKUP(D1344,作業シート!$F$2:$G$100,2)","v":"医療業"},832,{"$f":"VLOOKUP(F1344,作業シート!$I$2:$J$531,2)","v":"一般診療所"},8322,"無床診療所","P-83-832-8322","サービス業"]
[null,"P",{"$f":"VLOOKUP(日本標準産業分類!B1345,作業シート!$C$2:$D$21,2)","v":"医療，福祉"},83,{"$f":"VLOOKUP(D1345,作業シート!$F$2:$G$100,2)","v":"医療業"},833,{"$f":"VLOOKUP(F1345,作業シート!$I$2:$J$531,2)","v":"歯科診療所"},8331,"歯科診療所","P-83-833-8331","サービス業"]
[null,"P",{"$f":"VLOOKUP(日本標準産業分類!B1346,作業シート!$C$2:$D$21,2)","v":"医療，福祉"},83,{"$f":"VLOOKUP(D1346,作業シート!$F$2:$G$100,2)","v":"医療業"},834,{"$f":"VLOOKUP(F1346,作業シート!$I$2:$J$531,2)","v":"助産・看護業"},8341,"助産所","P-83-834-8341","サービス業"]
[null,"P",{"$f":"VLOOKUP(日本標準産業分類!B1347,作業シート!$C$2:$D$21,2)","v":"医療，福祉"},83,{"$f":"VLOOKUP(D1347,作業シート!$F$2:$G$100,2)","v":"医療業"},834,{"$f":"VLOOKUP(F1347,作業シート!$I$2:$J$531,2)","v":"助産・看護業"},8342,"看護業","P-83-834-8342","サービス業"]
[null,"P",{"$f":"VLOOKUP(日本標準産業分類!B1348,作業シート!$C$2:$D$21,2)","v":"医療，福祉"},83,{"$f":"VLOOKUP(D1348,作業シート!$F$2:$G$100,2)","v":"医療業"},835,{"$f":"VLOOKUP(F1348,作業シート!$I$2:$J$531,2)","v":"療術業"},8351,"あん摩マッサージ指圧師・はり師・きゅう師・柔道整復師の施術所","P-83-835-8351","サービス業"]
[null,"P",{"$f":"VLOOKUP(日本標準産業分類!B1349,作業シート!$C$2:$D$21,2)","v":"医療，福祉"},83,{"$f":"VLOOKUP(D1349,作業シート!$F$2:$G$100,2)","v":"医療業"},835,{"$f":"VLOOKUP(F1349,作業シート!$I$2:$J$531,2)","v":"療術業"},8359,"その他の療術業","P-83-835-8359","サービス業"]
[null,"P",{"$f":"VLOOKUP(日本標準産業分類!B1350,作業シート!$C$2:$D$21,2)","v":"医療，福祉"},83,{"$f":"VLOOKUP(D1350,作業シート!$F$2:$G$100,2)","v":"医療業"},836,{"$f":"VLOOKUP(F1350,作業シート!$I$2:$J$531,2)","v":"医療に附帯するサービス業"},8361,"歯科技工所","P-83-836-8361","サービス業"]
[null,"P",{"$f":"VLOOKUP(日本標準産業分類!B1351,作業シート!$C$2:$D$21,2)","v":"医療，福祉"},83,{"$f":"VLOOKUP(D1351,作業シート!$F$2:$G$100,2)","v":"医療業"},836,{"$f":"VLOOKUP(F1351,作業シート!$I$2:$J$531,2)","v":"医療に附帯するサービス業"},8369,"その他の医療に附帯するサービス業",{"$f":"CONCATENATE(B1351,\"-\",D1351,\"-\",F1351,\"-\",H1351)","v":"P-83-836-8369"},"サービス業"]
[null,"P",{"$f":"VLOOKUP(日本標準産業分類!B1352,作業シート!$C$2:$D$21,2)","v":"医療，福祉"},84,{"$f":"VLOOKUP(D1352,作業シート!$F$2:$G$100,2)","v":"保健衛生"},840,{"$f":"VLOOKUP(F1352,作業シート!$I$2:$J$531,2)","v":"管理，補助的経済活動を行う事業所（84保健衛生）"},8400,"主として管理事務を行う本社等","P-84-840-8400","サービス業"]
[null,"P",{"$f":"VLOOKUP(日本標準産業分類!B1353,作業シート!$C$2:$D$21,2)","v":"医療，福祉"},84,{"$f":"VLOOKUP(D1353,作業シート!$F$2:$G$100,2)","v":"保健衛生"},840,{"$f":"VLOOKUP(F1353,作業シート!$I$2:$J$531,2)","v":"管理，補助的経済活動を行う事業所（84保健衛生）"},8409,"その他の管理，補助的経済活動を行う事業所","P-84-840-8409","サービス業"]
[null,"P",{"$f":"VLOOKUP(日本標準産業分類!B1354,作業シート!$C$2:$D$21,2)","v":"医療，福祉"},84,{"$f":"VLOOKUP(D1354,作業シート!$F$2:$G$100,2)","v":"保健衛生"},841,{"$f":"VLOOKUP(F1354,作業シート!$I$2:$J$531,2)","v":"保健所"},8411,"保健所","P-84-841-8411","サービス業"]
[null,"P",{"$f":"VLOOKUP(日本標準産業分類!B1355,作業シート!$C$2:$D$21,2)","v":"医療，福祉"},84,{"$f":"VLOOKUP(D1355,作業シート!$F$2:$G$100,2)","v":"保健衛生"},842,{"$f":"VLOOKUP(F1355,作業シート!$I$2:$J$531,2)","v":"健康相談施設"},8421,"結核健康相談施設","P-84-842-8421","サービス業"]
[null,"P",{"$f":"VLOOKUP(日本標準産業分類!B1356,作業シート!$C$2:$D$21,2)","v":"医療，福祉"},84,{"$f":"VLOOKUP(D1356,作業シート!$F$2:$G$100,2)","v":"保健衛生"},842,{"$f":"VLOOKUP(F1356,作業シート!$I$2:$J$531,2)","v":"健康相談施設"},8422,"精神保健相談施設","P-84-842-8422","サービス業"]
[null,"P",{"$f":"VLOOKUP(日本標準産業分類!B1357,作業シート!$C$2:$D$21,2)","v":"医療，福祉"},84,{"$f":"VLOOKUP(D1357,作業シート!$F$2:$G$100,2)","v":"保健衛生"},842,{"$f":"VLOOKUP(F1357,作業シート!$I$2:$J$531,2)","v":"健康相談施設"},8423,"母子健康相談施設","P-84-842-8423","サービス業"]
[null,"P",{"$f":"VLOOKUP(日本標準産業分類!B1358,作業シート!$C$2:$D$21,2)","v":"医療，福祉"},84,{"$f":"VLOOKUP(D1358,作業シート!$F$2:$G$100,2)","v":"保健衛生"},842,{"$f":"VLOOKUP(F1358,作業シート!$I$2:$J$531,2)","v":"健康相談施設"},8429,"その他の健康相談施設","P-84-842-8429","サービス業"]
[null,"P",{"$f":"VLOOKUP(日本標準産業分類!B1359,作業シート!$C$2:$D$21,2)","v":"医療，福祉"},84,{"$f":"VLOOKUP(D1359,作業シート!$F$2:$G$100,2)","v":"保健衛生"},849,{"$f":"VLOOKUP(F1359,作業シート!$I$2:$J$531,2)","v":"その他の保健衛生"},8491,"検疫所（動物検疫所，植物防疫所を除く）","P-84-849-8491","サービス業"]
[null,"P",{"$f":"VLOOKUP(日本標準産業分類!B1360,作業シート!$C$2:$D$21,2)","v":"医療，福祉"},84,{"$f":"VLOOKUP(D1360,作業シート!$F$2:$G$100,2)","v":"保健衛生"},849,{"$f":"VLOOKUP(F1360,作業シート!$I$2:$J$531,2)","v":"その他の保健衛生"},8492,"検査業","P-84-849-8492","サービス業"]
[null,"P",{"$f":"VLOOKUP(日本標準産業分類!B1361,作業シート!$C$2:$D$21,2)","v":"医療，福祉"},84,{"$f":"VLOOKUP(D1361,作業シート!$F$2:$G$100,2)","v":"保健衛生"},849,{"$f":"VLOOKUP(F1361,作業シート!$I$2:$J$531,2)","v":"その他の保健衛生"},8493,"消毒業","P-84-849-8493","サービス業"]
[null,"P",{"$f":"VLOOKUP(日本標準産業分類!B1362,作業シート!$C$2:$D$21,2)","v":"医療，福祉"},84,{"$f":"VLOOKUP(D1362,作業シート!$F$2:$G$100,2)","v":"保健衛生"},849,{"$f":"VLOOKUP(F1362,作業シート!$I$2:$J$531,2)","v":"その他の保健衛生"},8499,"他に分類されない保健衛生","P-84-849-8499","サービス業"]
[null,"P",{"$f":"VLOOKUP(日本標準産業分類!B1363,作業シート!$C$2:$D$21,2)","v":"医療，福祉"},85,{"$f":"VLOOKUP(D1363,作業シート!$F$2:$G$100,2)","v":"社会保険・社会福祉・介護事業"},850,{"$f":"VLOOKUP(F1363,作業シート!$I$2:$J$531,2)","v":"管理，補助的経済活動を行う事業所（85社会保険・社会福祉・介護事業）"},8500,"主として管理事務を行う本社等","P-85-850-8500","サービス業"]
[null,"P",{"$f":"VLOOKUP(日本標準産業分類!B1364,作業シート!$C$2:$D$21,2)","v":"医療，福祉"},85,{"$f":"VLOOKUP(D1364,作業シート!$F$2:$G$100,2)","v":"社会保険・社会福祉・介護事業"},850,{"$f":"VLOOKUP(F1364,作業シート!$I$2:$J$531,2)","v":"管理，補助的経済活動を行う事業所（85社会保険・社会福祉・介護事業）"},8509,"その他の管理，補助的経済活動を行う事業所","P-85-850-8509","サービス業"]
[null,"P",{"$f":"VLOOKUP(日本標準産業分類!B1365,作業シート!$C$2:$D$21,2)","v":"医療，福祉"},85,{"$f":"VLOOKUP(D1365,作業シート!$F$2:$G$100,2)","v":"社会保険・社会福祉・介護事業"},851,{"$f":"VLOOKUP(F1365,作業シート!$I$2:$J$531,2)","v":"社会保険事業団体"},8511,"社会保険事業団体","P-85-851-8511","サービス業"]
[null,"P",{"$f":"VLOOKUP(日本標準産業分類!B1366,作業シート!$C$2:$D$21,2)","v":"医療，福祉"},85,{"$f":"VLOOKUP(D1366,作業シート!$F$2:$G$100,2)","v":"社会保険・社会福祉・介護事業"},852,{"$f":"VLOOKUP(F1366,作業シート!$I$2:$J$531,2)","v":"福祉事務所"},8521,"福祉事務所","P-85-852-8521","サービス業"]
[null,"P",{"$f":"VLOOKUP(日本標準産業分類!B1367,作業シート!$C$2:$D$21,2)","v":"医療，福祉"},85,{"$f":"VLOOKUP(D1367,作業シート!$F$2:$G$100,2)","v":"社会保険・社会福祉・介護事業"},853,{"$f":"VLOOKUP(F1367,作業シート!$I$2:$J$531,2)","v":"児童福祉事業"},8531,"保育所","P-85-853-8531","サービス業"]
[null,"P",{"$f":"VLOOKUP(日本標準産業分類!B1368,作業シート!$C$2:$D$21,2)","v":"医療，福祉"},85,{"$f":"VLOOKUP(D1368,作業シート!$F$2:$G$100,2)","v":"社会保険・社会福祉・介護事業"},853,{"$f":"VLOOKUP(F1368,作業シート!$I$2:$J$531,2)","v":"児童福祉事業"},8539,"その他の児童福祉事業","P-85-853-8539","サービス業"]
[null,"P",{"$f":"VLOOKUP(日本標準産業分類!B1369,作業シート!$C$2:$D$21,2)","v":"医療，福祉"},85,{"$f":"VLOOKUP(D1369,作業シート!$F$2:$G$100,2)","v":"社会保険・社会福祉・介護事業"},854,{"$f":"VLOOKUP(F1369,作業シート!$I$2:$J$531,2)","v":"老人福祉・介護事業"},8541,"特別養護老人ホーム","P-85-854-8541","サービス業"]
[null,"P",{"$f":"VLOOKUP(日本標準産業分類!B1370,作業シート!$C$2:$D$21,2)","v":"医療，福祉"},85,{"$f":"VLOOKUP(D1370,作業シート!$F$2:$G$100,2)","v":"社会保険・社会福祉・介護事業"},854,{"$f":"VLOOKUP(F1370,作業シート!$I$2:$J$531,2)","v":"老人福祉・介護事業"},8542,"介護老人保健施設","P-85-854-8542","サービス業"]
[null,"P",{"$f":"VLOOKUP(日本標準産業分類!B1371,作業シート!$C$2:$D$21,2)","v":"医療，福祉"},85,{"$f":"VLOOKUP(D1371,作業シート!$F$2:$G$100,2)","v":"社会保険・社会福祉・介護事業"},854,{"$f":"VLOOKUP(F1371,作業シート!$I$2:$J$531,2)","v":"老人福祉・介護事業"},8543,"通所・短期入所介護事業","P-85-854-8543","サービス業"]
[null,"P",{"$f":"VLOOKUP(日本標準産業分類!B1372,作業シート!$C$2:$D$21,2)","v":"医療，福祉"},85,{"$f":"VLOOKUP(D1372,作業シート!$F$2:$G$100,2)","v":"社会保険・社会福祉・介護事業"},854,{"$f":"VLOOKUP(F1372,作業シート!$I$2:$J$531,2)","v":"老人福祉・介護事業"},8544,"訪問介護事業","P-85-854-8544","サービス業"]
[null,"P",{"$f":"VLOOKUP(日本標準産業分類!B1373,作業シート!$C$2:$D$21,2)","v":"医療，福祉"},85,{"$f":"VLOOKUP(D1373,作業シート!$F$2:$G$100,2)","v":"社会保険・社会福祉・介護事業"},854,{"$f":"VLOOKUP(F1373,作業シート!$I$2:$J$531,2)","v":"老人福祉・介護事業"},8545,"認知症老人グループホーム","P-85-854-8545","サービス業"]
[null,"P",{"$f":"VLOOKUP(日本標準産業分類!B1374,作業シート!$C$2:$D$21,2)","v":"医療，福祉"},85,{"$f":"VLOOKUP(D1374,作業シート!$F$2:$G$100,2)","v":"社会保険・社会福祉・介護事業"},854,{"$f":"VLOOKUP(F1374,作業シート!$I$2:$J$531,2)","v":"老人福祉・介護事業"},8546,"有料老人ホーム","P-85-854-8546","サービス業"]
[null,"P",{"$f":"VLOOKUP(日本標準産業分類!B1375,作業シート!$C$2:$D$21,2)","v":"医療，福祉"},85,{"$f":"VLOOKUP(D1375,作業シート!$F$2:$G$100,2)","v":"社会保険・社会福祉・介護事業"},854,{"$f":"VLOOKUP(F1375,作業シート!$I$2:$J$531,2)","v":"老人福祉・介護事業"},8549,"その他の老人福祉・介護事業","P-85-854-8549","サービス業"]
[null,"P",{"$f":"VLOOKUP(日本標準産業分類!B1376,作業シート!$C$2:$D$21,2)","v":"医療，福祉"},85,{"$f":"VLOOKUP(D1376,作業シート!$F$2:$G$100,2)","v":"社会保険・社会福祉・介護事業"},855,{"$f":"VLOOKUP(F1376,作業シート!$I$2:$J$531,2)","v":"障害者福祉事業"},8551,"居住支援事業","P-85-855-8551","サービス業"]
[null,"P",{"$f":"VLOOKUP(日本標準産業分類!B1377,作業シート!$C$2:$D$21,2)","v":"医療，福祉"},85,{"$f":"VLOOKUP(D1377,作業シート!$F$2:$G$100,2)","v":"社会保険・社会福祉・介護事業"},855,{"$f":"VLOOKUP(F1377,作業シート!$I$2:$J$531,2)","v":"障害者福祉事業"},8559,"その他の障害者福祉事業","P-85-855-8559","サービス業"]
[null,"P",{"$f":"VLOOKUP(日本標準産業分類!B1378,作業シート!$C$2:$D$21,2)","v":"医療，福祉"},85,{"$f":"VLOOKUP(D1378,作業シート!$F$2:$G$100,2)","v":"社会保険・社会福祉・介護事業"},859,{"$f":"VLOOKUP(F1378,作業シート!$I$2:$J$531,2)","v":"その他の社会保険・社会福祉・介護事業"},8591,"更生保護事業","P-85-859-8591","サービス業"]
[null,"P",{"$f":"VLOOKUP(日本標準産業分類!B1379,作業シート!$C$2:$D$21,2)","v":"医療，福祉"},85,{"$f":"VLOOKUP(D1379,作業シート!$F$2:$G$100,2)","v":"社会保険・社会福祉・介護事業"},859,{"$f":"VLOOKUP(F1379,作業シート!$I$2:$J$531,2)","v":"その他の社会保険・社会福祉・介護事業"},8599,"他に分類されない社会保険・社会福祉・介護事業","P-85-859-8599","サービス業"]
[null,"Q",{"$f":"VLOOKUP(日本標準産業分類!B1380,作業シート!$C$2:$D$21,2)","v":"複合サービス事業"},86,{"$f":"VLOOKUP(D1380,作業シート!$F$2:$G$100,2)","v":"郵便局"},860,{"$f":"VLOOKUP(F1380,作業シート!$I$2:$J$531,2)","v":"管理，補助的経済活動を行う事業所（86郵便局）"},8601,"管理，補助的経済活動を行う事業所","Q-86-860-8601","サービス業"]
[null,"Q",{"$f":"VLOOKUP(日本標準産業分類!B1381,作業シート!$C$2:$D$21,2)","v":"複合サービス事業"},86,{"$f":"VLOOKUP(D1381,作業シート!$F$2:$G$100,2)","v":"郵便局"},861,{"$f":"VLOOKUP(F1381,作業シート!$I$2:$J$531,2)","v":"郵便局"},8611,"郵便局","Q-86-861-8611","サービス業"]
[null,"Q",{"$f":"VLOOKUP(日本標準産業分類!B1382,作業シート!$C$2:$D$21,2)","v":"複合サービス事業"},86,{"$f":"VLOOKUP(D1382,作業シート!$F$2:$G$100,2)","v":"郵便局"},862,{"$f":"VLOOKUP(F1382,作業シート!$I$2:$J$531,2)","v":"郵便局受託業"},8621,"簡易郵便局","Q-86-862-8621","サービス業"]
[null,"Q",{"$f":"VLOOKUP(日本標準産業分類!B1383,作業シート!$C$2:$D$21,2)","v":"複合サービス事業"},86,{"$f":"VLOOKUP(D1383,作業シート!$F$2:$G$100,2)","v":"郵便局"},862,{"$f":"VLOOKUP(F1383,作業シート!$I$2:$J$531,2)","v":"郵便局受託業"},8629,"その他の郵便局受託業","Q-86-862-8629","サービス業"]
[null,"Q",{"$f":"VLOOKUP(日本標準産業分類!B1384,作業シート!$C$2:$D$21,2)","v":"複合サービス事業"},87,{"$f":"VLOOKUP(D1384,作業シート!$F$2:$G$100,2)","v":"協同組合（他に分類されないもの）"},870,{"$f":"VLOOKUP(F1384,作業シート!$I$2:$J$531,2)","v":"管理，補助的経済活動を行う事業所（87協同組合）"},8701,"管理，補助的経済活動を行う事業所","Q-87-870-8701","サービス業"]
[null,"Q",{"$f":"VLOOKUP(日本標準産業分類!B1385,作業シート!$C$2:$D$21,2)","v":"複合サービス事業"},87,{"$f":"VLOOKUP(D1385,作業シート!$F$2:$G$100,2)","v":"協同組合（他に分類されないもの）"},871,{"$f":"VLOOKUP(F1385,作業シート!$I$2:$J$531,2)","v":"農林水産業協同組合（他に分類されないもの）"},8711,"農業協同組合（他に分類されないもの）","Q-87-871-8711","サービス業"]
[null,"Q",{"$f":"VLOOKUP(日本標準産業分類!B1386,作業シート!$C$2:$D$21,2)","v":"複合サービス事業"},87,{"$f":"VLOOKUP(D1386,作業シート!$F$2:$G$100,2)","v":"協同組合（他に分類されないもの）"},871,{"$f":"VLOOKUP(F1386,作業シート!$I$2:$J$531,2)","v":"農林水産業協同組合（他に分類されないもの）"},8712,"漁業協同組合（他に分類されないもの）","Q-87-871-8712","サービス業"]
[null,"Q",{"$f":"VLOOKUP(日本標準産業分類!B1387,作業シート!$C$2:$D$21,2)","v":"複合サービス事業"},87,{"$f":"VLOOKUP(D1387,作業シート!$F$2:$G$100,2)","v":"協同組合（他に分類されないもの）"},871,{"$f":"VLOOKUP(F1387,作業シート!$I$2:$J$531,2)","v":"農林水産業協同組合（他に分類されないもの）"},8713,"水産加工業協同組合（他に分類されないもの）","Q-87-871-8713","サービス業"]
[null,"Q",{"$f":"VLOOKUP(日本標準産業分類!B1388,作業シート!$C$2:$D$21,2)","v":"複合サービス事業"},87,{"$f":"VLOOKUP(D1388,作業シート!$F$2:$G$100,2)","v":"協同組合（他に分類されないもの）"},871,{"$f":"VLOOKUP(F1388,作業シート!$I$2:$J$531,2)","v":"農林水産業協同組合（他に分類されないもの）"},8714,"森林組合（他に分類されないもの）","Q-87-871-8714","サービス業"]
[null,"Q",{"$f":"VLOOKUP(日本標準産業分類!B1389,作業シート!$C$2:$D$21,2)","v":"複合サービス事業"},87,{"$f":"VLOOKUP(D1389,作業シート!$F$2:$G$100,2)","v":"協同組合（他に分類されないもの）"},872,{"$f":"VLOOKUP(F1389,作業シート!$I$2:$J$531,2)","v":"事業協同組合（他に分類されないもの）"},8721,"事業協同組合（他に分類されないもの）","Q-87-872-8721","サービス業"]
[null,"R",{"$f":"VLOOKUP(日本標準産業分類!B1390,作業シート!$C$2:$D$21,2)","v":"サービス業（他に分類されないもの）"},88,{"$f":"VLOOKUP(D1390,作業シート!$F$2:$G$100,2)","v":"廃棄物処理業"},880,{"$f":"VLOOKUP(F1390,作業シート!$I$2:$J$531,2)","v":"管理，補助的経済活動を行う事業所（88廃棄物処理業）"},8800,"主として管理事務を行う本社等",{"$f":"CONCATENATE(B1390,\"-\",D1390,\"-\",F1390,\"-\",H1390)","v":"R-88-880-8800"},"サービス業"]
[null,"R",{"$f":"VLOOKUP(日本標準産業分類!B1391,作業シート!$C$2:$D$21,2)","v":"サービス業（他に分類されないもの）"},88,{"$f":"VLOOKUP(D1391,作業シート!$F$2:$G$100,2)","v":"廃棄物処理業"},880,{"$f":"VLOOKUP(F1391,作業シート!$I$2:$J$531,2)","v":"管理，補助的経済活動を行う事業所（88廃棄物処理業）"},8809,"その他の管理，補助的経済活動を行う事業所","R-88-880-8809","サービス業"]
[null,"R",{"$f":"VLOOKUP(日本標準産業分類!B1392,作業シート!$C$2:$D$21,2)","v":"サービス業（他に分類されないもの）"},88,{"$f":"VLOOKUP(D1392,作業シート!$F$2:$G$100,2)","v":"廃棄物処理業"},881,{"$f":"VLOOKUP(F1392,作業シート!$I$2:$J$531,2)","v":"一般廃棄物処理業"},8811,"し尿収集運搬業","R-88-881-8811","サービス業"]
[null,"R",{"$f":"VLOOKUP(日本標準産業分類!B1393,作業シート!$C$2:$D$21,2)","v":"サービス業（他に分類されないもの）"},88,{"$f":"VLOOKUP(D1393,作業シート!$F$2:$G$100,2)","v":"廃棄物処理業"},881,{"$f":"VLOOKUP(F1393,作業シート!$I$2:$J$531,2)","v":"一般廃棄物処理業"},8812,"し尿処分業","R-88-881-8812","サービス業"]
[null,"R",{"$f":"VLOOKUP(日本標準産業分類!B1394,作業シート!$C$2:$D$21,2)","v":"サービス業（他に分類されないもの）"},88,{"$f":"VLOOKUP(D1394,作業シート!$F$2:$G$100,2)","v":"廃棄物処理業"},881,{"$f":"VLOOKUP(F1394,作業シート!$I$2:$J$531,2)","v":"一般廃棄物処理業"},8813,"浄化槽清掃業","R-88-881-8813","サービス業"]
[null,"R",{"$f":"VLOOKUP(日本標準産業分類!B1395,作業シート!$C$2:$D$21,2)","v":"サービス業（他に分類されないもの）"},88,{"$f":"VLOOKUP(D1395,作業シート!$F$2:$G$100,2)","v":"廃棄物処理業"},881,{"$f":"VLOOKUP(F1395,作業シート!$I$2:$J$531,2)","v":"一般廃棄物処理業"},8814,"浄化槽保守点検業","R-88-881-8814","サービス業"]
[null,"R",{"$f":"VLOOKUP(日本標準産業分類!B1396,作業シート!$C$2:$D$21,2)","v":"サービス業（他に分類されないもの）"},88,{"$f":"VLOOKUP(D1396,作業シート!$F$2:$G$100,2)","v":"廃棄物処理業"},881,{"$f":"VLOOKUP(F1396,作業シート!$I$2:$J$531,2)","v":"一般廃棄物処理業"},8815,"ごみ収集運搬業","R-88-881-8815","サービス業"]
[null,"R",{"$f":"VLOOKUP(日本標準産業分類!B1397,作業シート!$C$2:$D$21,2)","v":"サービス業（他に分類されないもの）"},88,{"$f":"VLOOKUP(D1397,作業シート!$F$2:$G$100,2)","v":"廃棄物処理業"},881,{"$f":"VLOOKUP(F1397,作業シート!$I$2:$J$531,2)","v":"一般廃棄物処理業"},8816,"ごみ処分業","R-88-881-8816","サービス業"]
[null,"R",{"$f":"VLOOKUP(日本標準産業分類!B1398,作業シート!$C$2:$D$21,2)","v":"サービス業（他に分類されないもの）"},88,{"$f":"VLOOKUP(D1398,作業シート!$F$2:$G$100,2)","v":"廃棄物処理業"},881,{"$f":"VLOOKUP(F1398,作業シート!$I$2:$J$531,2)","v":"一般廃棄物処理業"},8817,"清掃事務所","R-88-881-8817","サービス業"]
[null,"R",{"$f":"VLOOKUP(日本標準産業分類!B1399,作業シート!$C$2:$D$21,2)","v":"サービス業（他に分類されないもの）"},88,{"$f":"VLOOKUP(D1399,作業シート!$F$2:$G$100,2)","v":"廃棄物処理業"},882,{"$f":"VLOOKUP(F1399,作業シート!$I$2:$J$531,2)","v":"産業廃棄物処理業"},8821,"産業廃棄物収集運搬業","R-88-882-8821","サービス業"]
[null,"R",{"$f":"VLOOKUP(日本標準産業分類!B1400,作業シート!$C$2:$D$21,2)","v":"サービス業（他に分類されないもの）"},88,{"$f":"VLOOKUP(D1400,作業シート!$F$2:$G$100,2)","v":"廃棄物処理業"},882,{"$f":"VLOOKUP(F1400,作業シート!$I$2:$J$531,2)","v":"産業廃棄物処理業"},8822,"産業廃棄物処分業","R-88-882-8822","サービス業"]
[null,"R",{"$f":"VLOOKUP(日本標準産業分類!B1401,作業シート!$C$2:$D$21,2)","v":"サービス業（他に分類されないもの）"},88,{"$f":"VLOOKUP(D1401,作業シート!$F$2:$G$100,2)","v":"廃棄物処理業"},882,{"$f":"VLOOKUP(F1401,作業シート!$I$2:$J$531,2)","v":"産業廃棄物処理業"},8823,"特別管理産業廃棄物収集運搬業","R-88-882-8823","サービス業"]
[null,"R",{"$f":"VLOOKUP(日本標準産業分類!B1402,作業シート!$C$2:$D$21,2)","v":"サービス業（他に分類されないもの）"},88,{"$f":"VLOOKUP(D1402,作業シート!$F$2:$G$100,2)","v":"廃棄物処理業"},882,{"$f":"VLOOKUP(F1402,作業シート!$I$2:$J$531,2)","v":"産業廃棄物処理業"},8824,"特別管理産業廃棄物処分業","R-88-882-8824","サービス業"]
[null,"R",{"$f":"VLOOKUP(日本標準産業分類!B1403,作業シート!$C$2:$D$21,2)","v":"サービス業（他に分類されないもの）"},88,{"$f":"VLOOKUP(D1403,作業シート!$F$2:$G$100,2)","v":"廃棄物処理業"},889,{"$f":"VLOOKUP(F1403,作業シート!$I$2:$J$531,2)","v":"その他の廃棄物処理業"},8891,"死亡獣畜取扱業","R-88-889-8891","サービス業"]
[null,"R",{"$f":"VLOOKUP(日本標準産業分類!B1404,作業シート!$C$2:$D$21,2)","v":"サービス業（他に分類されないもの）"},88,{"$f":"VLOOKUP(D1404,作業シート!$F$2:$G$100,2)","v":"廃棄物処理業"},889,{"$f":"VLOOKUP(F1404,作業シート!$I$2:$J$531,2)","v":"その他の廃棄物処理業"},8899,"他に分類されない廃棄物処理業","R-88-889-8899","サービス業"]
[null,"R",{"$f":"VLOOKUP(日本標準産業分類!B1405,作業シート!$C$2:$D$21,2)","v":"サービス業（他に分類されないもの）"},89,{"$f":"VLOOKUP(D1405,作業シート!$F$2:$G$100,2)","v":"自動車整備業"},890,{"$f":"VLOOKUP(F1405,作業シート!$I$2:$J$531,2)","v":"管理，補助的経済活動を行う事業所（89自動車整備業）"},8901,"管理，補助的経済活動を行う事業所","R-89-890-8901","サービス業"]
[null,"R",{"$f":"VLOOKUP(日本標準産業分類!B1406,作業シート!$C$2:$D$21,2)","v":"サービス業（他に分類されないもの）"},89,{"$f":"VLOOKUP(D1406,作業シート!$F$2:$G$100,2)","v":"自動車整備業"},891,{"$f":"VLOOKUP(F1406,作業シート!$I$2:$J$531,2)","v":"自動車整備業"},8911,"自動車一般整備業","R-89-891-8911","サービス業"]
[null,"R",{"$f":"VLOOKUP(日本標準産業分類!B1407,作業シート!$C$2:$D$21,2)","v":"サービス業（他に分類されないもの）"},89,{"$f":"VLOOKUP(D1407,作業シート!$F$2:$G$100,2)","v":"自動車整備業"},891,{"$f":"VLOOKUP(F1407,作業シート!$I$2:$J$531,2)","v":"自動車整備業"},8919,"その他の自動車整備業","R-89-891-8919","サービス業"]
[null,"R",{"$f":"VLOOKUP(日本標準産業分類!B1408,作業シート!$C$2:$D$21,2)","v":"サービス業（他に分類されないもの）"},90,{"$f":"VLOOKUP(D1408,作業シート!$F$2:$G$100,2)","v":"機械等修理業（別掲を除く）"},900,{"$f":"VLOOKUP(F1408,作業シート!$I$2:$J$531,2)","v":"管理，補助的経済活動を行う事業所（90機械等修理業）"},9000,"主として管理事務を行う本社等","R-90-900-9000","サービス業"]
[null,"R",{"$f":"VLOOKUP(日本標準産業分類!B1409,作業シート!$C$2:$D$21,2)","v":"サービス業（他に分類されないもの）"},90,{"$f":"VLOOKUP(D1409,作業シート!$F$2:$G$100,2)","v":"機械等修理業（別掲を除く）"},900,{"$f":"VLOOKUP(F1409,作業シート!$I$2:$J$531,2)","v":"管理，補助的経済活動を行う事業所（90機械等修理業）"},9009,"その他の管理，補助的経済活動を行う事業所","R-90-900-9009","サービス業"]
[null,"R",{"$f":"VLOOKUP(日本標準産業分類!B1410,作業シート!$C$2:$D$21,2)","v":"サービス業（他に分類されないもの）"},90,{"$f":"VLOOKUP(D1410,作業シート!$F$2:$G$100,2)","v":"機械等修理業（別掲を除く）"},901,{"$f":"VLOOKUP(F1410,作業シート!$I$2:$J$531,2)","v":"機械修理業（電気機械器具を除く）"},9011,"一般機械修理業（建設・鉱山機械を除く）","R-90-901-9011","サービス業"]
[null,"R",{"$f":"VLOOKUP(日本標準産業分類!B1411,作業シート!$C$2:$D$21,2)","v":"サービス業（他に分類されないもの）"},90,{"$f":"VLOOKUP(D1411,作業シート!$F$2:$G$100,2)","v":"機械等修理業（別掲を除く）"},901,{"$f":"VLOOKUP(F1411,作業シート!$I$2:$J$531,2)","v":"機械修理業（電気機械器具を除く）"},9012,"建設・鉱山機械整備業","R-90-901-9012","サービス業"]
[null,"R",{"$f":"VLOOKUP(日本標準産業分類!B1412,作業シート!$C$2:$D$21,2)","v":"サービス業（他に分類されないもの）"},90,{"$f":"VLOOKUP(D1412,作業シート!$F$2:$G$100,2)","v":"機械等修理業（別掲を除く）"},902,{"$f":"VLOOKUP(F1412,作業シート!$I$2:$J$531,2)","v":"電気機械器具修理業"},9021,"電気機械器具修理業","R-90-902-9021","サービス業"]
[null,"R",{"$f":"VLOOKUP(日本標準産業分類!B1413,作業シート!$C$2:$D$21,2)","v":"サービス業（他に分類されないもの）"},90,{"$f":"VLOOKUP(D1413,作業シート!$F$2:$G$100,2)","v":"機械等修理業（別掲を除く）"},903,{"$f":"VLOOKUP(F1413,作業シート!$I$2:$J$531,2)","v":"表具業"},9031,"表具業","R-90-903-9031","サービス業"]
[null,"R",{"$f":"VLOOKUP(日本標準産業分類!B1414,作業シート!$C$2:$D$21,2)","v":"サービス業（他に分類されないもの）"},90,{"$f":"VLOOKUP(D1414,作業シート!$F$2:$G$100,2)","v":"機械等修理業（別掲を除く）"},909,{"$f":"VLOOKUP(F1414,作業シート!$I$2:$J$531,2)","v":"その他の修理業"},9091,"家具修理業","R-90-909-9091","サービス業"]
[null,"R",{"$f":"VLOOKUP(日本標準産業分類!B1415,作業シート!$C$2:$D$21,2)","v":"サービス業（他に分類されないもの）"},90,{"$f":"VLOOKUP(D1415,作業シート!$F$2:$G$100,2)","v":"機械等修理業（別掲を除く）"},909,{"$f":"VLOOKUP(F1415,作業シート!$I$2:$J$531,2)","v":"その他の修理業"},9092,"時計修理業","R-90-909-9092","サービス業"]
[null,"R",{"$f":"VLOOKUP(日本標準産業分類!B1416,作業シート!$C$2:$D$21,2)","v":"サービス業（他に分類されないもの）"},90,{"$f":"VLOOKUP(D1416,作業シート!$F$2:$G$100,2)","v":"機械等修理業（別掲を除く）"},909,{"$f":"VLOOKUP(F1416,作業シート!$I$2:$J$531,2)","v":"その他の修理業"},9093,"履物修理業","R-90-909-9093","サービス業"]
[null,"R",{"$f":"VLOOKUP(日本標準産業分類!B1417,作業シート!$C$2:$D$21,2)","v":"サービス業（他に分類されないもの）"},90,{"$f":"VLOOKUP(D1417,作業シート!$F$2:$G$100,2)","v":"機械等修理業（別掲を除く）"},909,{"$f":"VLOOKUP(F1417,作業シート!$I$2:$J$531,2)","v":"その他の修理業"},9094,"かじ業","R-90-909-9094","サービス業"]
[null,"R",{"$f":"VLOOKUP(日本標準産業分類!B1418,作業シート!$C$2:$D$21,2)","v":"サービス業（他に分類されないもの）"},90,{"$f":"VLOOKUP(D1418,作業シート!$F$2:$G$100,2)","v":"機械等修理業（別掲を除く）"},909,{"$f":"VLOOKUP(F1418,作業シート!$I$2:$J$531,2)","v":"その他の修理業"},9099,"他に分類されない修理業","R-90-909-9099","サービス業"]
[null,"R",{"$f":"VLOOKUP(日本標準産業分類!B1419,作業シート!$C$2:$D$21,2)","v":"サービス業（他に分類されないもの）"},91,{"$f":"VLOOKUP(D1419,作業シート!$F$2:$G$100,2)","v":"職業紹介・労働者派遣業"},910,{"$f":"VLOOKUP(F1419,作業シート!$I$2:$J$531,2)","v":"管理，補助的経済活動を行う事業所（91職業紹介・労働者派遣業）"},9100,"主として管理事務を行う本社等","R-91-910-9100","サービス業"]
[null,"R",{"$f":"VLOOKUP(日本標準産業分類!B1420,作業シート!$C$2:$D$21,2)","v":"サービス業（他に分類されないもの）"},91,{"$f":"VLOOKUP(D1420,作業シート!$F$2:$G$100,2)","v":"職業紹介・労働者派遣業"},910,{"$f":"VLOOKUP(F1420,作業シート!$I$2:$J$531,2)","v":"管理，補助的経済活動を行う事業所（91職業紹介・労働者派遣業）"},9109,"その他の管理，補助的経済活動を行う事業所","R-91-910-9109","サービス業"]
[null,"R",{"$f":"VLOOKUP(日本標準産業分類!B1421,作業シート!$C$2:$D$21,2)","v":"サービス業（他に分類されないもの）"},91,{"$f":"VLOOKUP(D1421,作業シート!$F$2:$G$100,2)","v":"職業紹介・労働者派遣業"},911,{"$f":"VLOOKUP(F1421,作業シート!$I$2:$J$531,2)","v":"職業紹介業"},9111,"職業紹介業","R-91-911-9111","サービス業"]
[null,"R",{"$f":"VLOOKUP(日本標準産業分類!B1422,作業シート!$C$2:$D$21,2)","v":"サービス業（他に分類されないもの）"},91,{"$f":"VLOOKUP(D1422,作業シート!$F$2:$G$100,2)","v":"職業紹介・労働者派遣業"},912,{"$f":"VLOOKUP(F1422,作業シート!$I$2:$J$531,2)","v":"労働者派遣業"},9121,"労働者派遣業","R-91-912-9121","サービス業"]
[null,"R",{"$f":"VLOOKUP(日本標準産業分類!B1423,作業シート!$C$2:$D$21,2)","v":"サービス業（他に分類されないもの）"},92,{"$f":"VLOOKUP(D1423,作業シート!$F$2:$G$100,2)","v":"その他の事業サービス業"},920,{"$f":"VLOOKUP(F1423,作業シート!$I$2:$J$531,2)","v":"管理，補助的経済活動を行う事業所（92その他の事業サービス業）"},9200,"主として管理事務を行う本社等","R-92-920-9200","サービス業"]
[null,"R",{"$f":"VLOOKUP(日本標準産業分類!B1424,作業シート!$C$2:$D$21,2)","v":"サービス業（他に分類されないもの）"},92,{"$f":"VLOOKUP(D1424,作業シート!$F$2:$G$100,2)","v":"その他の事業サービス業"},920,{"$f":"VLOOKUP(F1424,作業シート!$I$2:$J$531,2)","v":"管理，補助的経済活動を行う事業所（92その他の事業サービス業）"},9209,"その他の管理，補助的経済活動を行う事業所","R-92-920-9209","サービス業"]
[null,"R",{"$f":"VLOOKUP(日本標準産業分類!B1425,作業シート!$C$2:$D$21,2)","v":"サービス業（他に分類されないもの）"},92,{"$f":"VLOOKUP(D1425,作業シート!$F$2:$G$100,2)","v":"その他の事業サービス業"},921,{"$f":"VLOOKUP(F1425,作業シート!$I$2:$J$531,2)","v":"速記・ワープロ入力・複写業"},9211,"速記・ワープロ入力業","R-92-921-9211","サービス業"]
[null,"R",{"$f":"VLOOKUP(日本標準産業分類!B1426,作業シート!$C$2:$D$21,2)","v":"サービス業（他に分類されないもの）"},92,{"$f":"VLOOKUP(D1426,作業シート!$F$2:$G$100,2)","v":"その他の事業サービス業"},921,{"$f":"VLOOKUP(F1426,作業シート!$I$2:$J$531,2)","v":"速記・ワープロ入力・複写業"},9212,"複写業","R-92-921-9212","サービス業"]
[null,"R",{"$f":"VLOOKUP(日本標準産業分類!B1427,作業シート!$C$2:$D$21,2)","v":"サービス業（他に分類されないもの）"},92,{"$f":"VLOOKUP(D1427,作業シート!$F$2:$G$100,2)","v":"その他の事業サービス業"},922,{"$f":"VLOOKUP(F1427,作業シート!$I$2:$J$531,2)","v":"建物サービス業"},9221,"ビルメンテナンス業","R-92-922-9221","サービス業"]
[null,"R",{"$f":"VLOOKUP(日本標準産業分類!B1428,作業シート!$C$2:$D$21,2)","v":"サービス業（他に分類されないもの）"},92,{"$f":"VLOOKUP(D1428,作業シート!$F$2:$G$100,2)","v":"その他の事業サービス業"},922,{"$f":"VLOOKUP(F1428,作業シート!$I$2:$J$531,2)","v":"建物サービス業"},9229,"その他の建物サービス業","R-92-922-9229","サービス業"]
[null,"R",{"$f":"VLOOKUP(日本標準産業分類!B1429,作業シート!$C$2:$D$21,2)","v":"サービス業（他に分類されないもの）"},92,{"$f":"VLOOKUP(D1429,作業シート!$F$2:$G$100,2)","v":"その他の事業サービス業"},923,{"$f":"VLOOKUP(F1429,作業シート!$I$2:$J$531,2)","v":"警備業"},9231,"警備業","R-92-923-9231","サービス業"]
[null,"R",{"$f":"VLOOKUP(日本標準産業分類!B1430,作業シート!$C$2:$D$21,2)","v":"サービス業（他に分類されないもの）"},92,{"$f":"VLOOKUP(D1430,作業シート!$F$2:$G$100,2)","v":"その他の事業サービス業"},929,{"$f":"VLOOKUP(F1430,作業シート!$I$2:$J$531,2)","v":"他に分類されない事業サービス業"},9291,"ディスプレイ業","R-92-929-9291","サービス業"]
[null,"R",{"$f":"VLOOKUP(日本標準産業分類!B1431,作業シート!$C$2:$D$21,2)","v":"サービス業（他に分類されないもの）"},92,{"$f":"VLOOKUP(D1431,作業シート!$F$2:$G$100,2)","v":"その他の事業サービス業"},929,{"$f":"VLOOKUP(F1431,作業シート!$I$2:$J$531,2)","v":"他に分類されない事業サービス業"},9292,"産業用設備洗浄業","R-92-929-9292","サービス業"]
[null,"R",{"$f":"VLOOKUP(日本標準産業分類!B1432,作業シート!$C$2:$D$21,2)","v":"サービス業（他に分類されないもの）"},92,{"$f":"VLOOKUP(D1432,作業シート!$F$2:$G$100,2)","v":"その他の事業サービス業"},929,{"$f":"VLOOKUP(F1432,作業シート!$I$2:$J$531,2)","v":"他に分類されない事業サービス業"},9293,"看板書き業",{"$f":"CONCATENATE(B1432,\"-\",D1432,\"-\",F1432,\"-\",H1432)","v":"R-92-929-9293"},"サービス業"]
[null,"R",{"$f":"VLOOKUP(日本標準産業分類!B1433,作業シート!$C$2:$D$21,2)","v":"サービス業（他に分類されないもの）"},92,{"$f":"VLOOKUP(D1433,作業シート!$F$2:$G$100,2)","v":"その他の事業サービス業"},929,{"$f":"VLOOKUP(F1433,作業シート!$I$2:$J$531,2)","v":"他に分類されない事業サービス業"},9294,"コールセンター業","R-92-929-9294","サービス業"]
[null,"R",{"$f":"VLOOKUP(日本標準産業分類!B1434,作業シート!$C$2:$D$21,2)","v":"サービス業（他に分類されないもの）"},92,{"$f":"VLOOKUP(D1434,作業シート!$F$2:$G$100,2)","v":"その他の事業サービス業"},929,{"$f":"VLOOKUP(F1434,作業シート!$I$2:$J$531,2)","v":"他に分類されない事業サービス業"},9299,"他に分類されないその他の事業サービス業","R-92-929-9299","サービス業"]
[null,"R",{"$f":"VLOOKUP(日本標準産業分類!B1435,作業シート!$C$2:$D$21,2)","v":"サービス業（他に分類されないもの）"},93,{"$f":"VLOOKUP(D1435,作業シート!$F$2:$G$100,2)","v":"政治・経済・文化団体"},931,{"$f":"VLOOKUP(F1435,作業シート!$I$2:$J$531,2)","v":"経済団体"},9311,"実業団体","R-93-931-9311","サービス業"]
[null,"R",{"$f":"VLOOKUP(日本標準産業分類!B1436,作業シート!$C$2:$D$21,2)","v":"サービス業（他に分類されないもの）"},93,{"$f":"VLOOKUP(D1436,作業シート!$F$2:$G$100,2)","v":"政治・経済・文化団体"},931,{"$f":"VLOOKUP(F1436,作業シート!$I$2:$J$531,2)","v":"経済団体"},9312,"同業団体","R-93-931-9312","サービス業"]
[null,"R",{"$f":"VLOOKUP(日本標準産業分類!B1437,作業シート!$C$2:$D$21,2)","v":"サービス業（他に分類されないもの）"},93,{"$f":"VLOOKUP(D1437,作業シート!$F$2:$G$100,2)","v":"政治・経済・文化団体"},932,{"$f":"VLOOKUP(F1437,作業シート!$I$2:$J$531,2)","v":"労働団体"},9321,"労働団体","R-93-932-9321","サービス業"]
[null,"R",{"$f":"VLOOKUP(日本標準産業分類!B1438,作業シート!$C$2:$D$21,2)","v":"サービス業（他に分類されないもの）"},93,{"$f":"VLOOKUP(D1438,作業シート!$F$2:$G$100,2)","v":"政治・経済・文化団体"},933,{"$f":"VLOOKUP(F1438,作業シート!$I$2:$J$531,2)","v":"学術・文化団体"},9331,"学術団体","R-93-933-9331","サービス業"]
[null,"R",{"$f":"VLOOKUP(日本標準産業分類!B1439,作業シート!$C$2:$D$21,2)","v":"サービス業（他に分類されないもの）"},93,{"$f":"VLOOKUP(D1439,作業シート!$F$2:$G$100,2)","v":"政治・経済・文化団体"},933,{"$f":"VLOOKUP(F1439,作業シート!$I$2:$J$531,2)","v":"学術・文化団体"},9332,"文化団体","R-93-933-9332","サービス業"]
[null,"R",{"$f":"VLOOKUP(日本標準産業分類!B1440,作業シート!$C$2:$D$21,2)","v":"サービス業（他に分類されないもの）"},93,{"$f":"VLOOKUP(D1440,作業シート!$F$2:$G$100,2)","v":"政治・経済・文化団体"},934,{"$f":"VLOOKUP(F1440,作業シート!$I$2:$J$531,2)","v":"政治団体"},9341,"政治団体","R-93-934-9341","サービス業"]
[null,"R",{"$f":"VLOOKUP(日本標準産業分類!B1441,作業シート!$C$2:$D$21,2)","v":"サービス業（他に分類されないもの）"},93,{"$f":"VLOOKUP(D1441,作業シート!$F$2:$G$100,2)","v":"政治・経済・文化団体"},939,{"$f":"VLOOKUP(F1441,作業シート!$I$2:$J$531,2)","v":"他に分類されない非営利的団体"},9399,"他に分類されない非営利的団体","R-93-939-9399","サービス業"]
[null,"R",{"$f":"VLOOKUP(日本標準産業分類!B1442,作業シート!$C$2:$D$21,2)","v":"サービス業（他に分類されないもの）"},94,{"$f":"VLOOKUP(D1442,作業シート!$F$2:$G$100,2)","v":"宗教"},941,{"$f":"VLOOKUP(F1442,作業シート!$I$2:$J$531,2)","v":"神道系宗教"},9411,"神社，神道教会","R-94-941-9411","サービス業"]
[null,"R",{"$f":"VLOOKUP(日本標準産業分類!B1443,作業シート!$C$2:$D$21,2)","v":"サービス業（他に分類されないもの）"},94,{"$f":"VLOOKUP(D1443,作業シート!$F$2:$G$100,2)","v":"宗教"},941,{"$f":"VLOOKUP(F1443,作業シート!$I$2:$J$531,2)","v":"神道系宗教"},9412,"教派事務所","R-94-941-9412","サービス業"]
[null,"R",{"$f":"VLOOKUP(日本標準産業分類!B1444,作業シート!$C$2:$D$21,2)","v":"サービス業（他に分類されないもの）"},94,{"$f":"VLOOKUP(D1444,作業シート!$F$2:$G$100,2)","v":"宗教"},942,{"$f":"VLOOKUP(F1444,作業シート!$I$2:$J$531,2)","v":"仏教系宗教"},9421,"寺院，仏教教会","R-94-942-9421","サービス業"]
[null,"R",{"$f":"VLOOKUP(日本標準産業分類!B1445,作業シート!$C$2:$D$21,2)","v":"サービス業（他に分類されないもの）"},94,{"$f":"VLOOKUP(D1445,作業シート!$F$2:$G$100,2)","v":"宗教"},942,{"$f":"VLOOKUP(F1445,作業シート!$I$2:$J$531,2)","v":"仏教系宗教"},9422,"宗派事務所","R-94-942-9422","サービス業"]
[null,"R",{"$f":"VLOOKUP(日本標準産業分類!B1446,作業シート!$C$2:$D$21,2)","v":"サービス業（他に分類されないもの）"},94,{"$f":"VLOOKUP(D1446,作業シート!$F$2:$G$100,2)","v":"宗教"},943,{"$f":"VLOOKUP(F1446,作業シート!$I$2:$J$531,2)","v":"キリスト教系宗教"},9431,"キリスト教教会，修道院","R-94-943-9431","サービス業"]
[null,"R",{"$f":"VLOOKUP(日本標準産業分類!B1447,作業シート!$C$2:$D$21,2)","v":"サービス業（他に分類されないもの）"},94,{"$f":"VLOOKUP(D1447,作業シート!$F$2:$G$100,2)","v":"宗教"},943,{"$f":"VLOOKUP(F1447,作業シート!$I$2:$J$531,2)","v":"キリスト教系宗教"},9432,"教団事務所","R-94-943-9432","サービス業"]
[null,"R",{"$f":"VLOOKUP(日本標準産業分類!B1448,作業シート!$C$2:$D$21,2)","v":"サービス業（他に分類されないもの）"},94,{"$f":"VLOOKUP(D1448,作業シート!$F$2:$G$100,2)","v":"宗教"},949,{"$f":"VLOOKUP(F1448,作業シート!$I$2:$J$531,2)","v":"その他の宗教"},9491,"その他の宗教の教会","R-94-949-9491","サービス業"]
[null,"R",{"$f":"VLOOKUP(日本標準産業分類!B1449,作業シート!$C$2:$D$21,2)","v":"サービス業（他に分類されないもの）"},94,{"$f":"VLOOKUP(D1449,作業シート!$F$2:$G$100,2)","v":"宗教"},949,{"$f":"VLOOKUP(F1449,作業シート!$I$2:$J$531,2)","v":"その他の宗教"},9499,"その他の宗教の教団事務所","R-94-949-9499","サービス業"]
[null,"R",{"$f":"VLOOKUP(日本標準産業分類!B1450,作業シート!$C$2:$D$21,2)","v":"サービス業（他に分類されないもの）"},95,{"$f":"VLOOKUP(D1450,作業シート!$F$2:$G$100,2)","v":"その他のサービス業"},950,{"$f":"VLOOKUP(F1450,作業シート!$I$2:$J$531,2)","v":"管理，補助的経済活動を行う事業所（95その他のサービス業）"},9501,"管理，補助的経済活動を行う事業所","R-95-950-9501","サービス業"]
[null,"R",{"$f":"VLOOKUP(日本標準産業分類!B1451,作業シート!$C$2:$D$21,2)","v":"サービス業（他に分類されないもの）"},95,{"$f":"VLOOKUP(D1451,作業シート!$F$2:$G$100,2)","v":"その他のサービス業"},951,{"$f":"VLOOKUP(F1451,作業シート!$I$2:$J$531,2)","v":"集会場"},9511,"集会場","R-95-951-9511","サービス業"]
[null,"R",{"$f":"VLOOKUP(日本標準産業分類!B1452,作業シート!$C$2:$D$21,2)","v":"サービス業（他に分類されないもの）"},95,{"$f":"VLOOKUP(D1452,作業シート!$F$2:$G$100,2)","v":"その他のサービス業"},952,{"$f":"VLOOKUP(F1452,作業シート!$I$2:$J$531,2)","v":"と畜場"},9521,"と畜場","R-95-952-9521","サービス業"]
[null,"R",{"$f":"VLOOKUP(日本標準産業分類!B1453,作業シート!$C$2:$D$21,2)","v":"サービス業（他に分類されないもの）"},95,{"$f":"VLOOKUP(D1453,作業シート!$F$2:$G$100,2)","v":"その他のサービス業"},959,{"$f":"VLOOKUP(F1453,作業シート!$I$2:$J$531,2)","v":"他に分類されないサービス業"},9599,"他に分類されないサービス業","R-95-959-9599","サービス業"]
[null,"R",{"$f":"VLOOKUP(日本標準産業分類!B1454,作業シート!$C$2:$D$21,2)","v":"サービス業（他に分類されないもの）"},96,{"$f":"VLOOKUP(D1454,作業シート!$F$2:$G$100,2)","v":"外国公務"},961,{"$f":"VLOOKUP(F1454,作業シート!$I$2:$J$531,2)","v":"外国公館"},9611,"外国公館","R-96-961-9611","サービス業"]
[null,"R",{"$f":"VLOOKUP(日本標準産業分類!B1455,作業シート!$C$2:$D$21,2)","v":"サービス業（他に分類されないもの）"},96,{"$f":"VLOOKUP(D1455,作業シート!$F$2:$G$100,2)","v":"外国公務"},969,{"$f":"VLOOKUP(F1455,作業シート!$I$2:$J$531,2)","v":"その他の外国公務"},9699,"その他の外国公務","R-96-969-9699","サービス業"]
[null,"S",{"$f":"VLOOKUP(日本標準産業分類!B1456,作業シート!$C$2:$D$21,2)","v":"公務（他に分類されるものを除く）"},97,{"$f":"VLOOKUP(D1456,作業シート!$F$2:$G$100,2)","v":"国家公務"},971,{"$f":"VLOOKUP(F1456,作業シート!$I$2:$J$531,2)","v":"立法機関"},9711,"立法機関","S-97-971-9711","製造業その他"]
[null,"S",{"$f":"VLOOKUP(日本標準産業分類!B1457,作業シート!$C$2:$D$21,2)","v":"公務（他に分類されるものを除く）"},97,{"$f":"VLOOKUP(D1457,作業シート!$F$2:$G$100,2)","v":"国家公務"},972,{"$f":"VLOOKUP(F1457,作業シート!$I$2:$J$531,2)","v":"司法機関"},9721,"司法機関","S-97-972-9721","製造業その他"]
[null,"S",{"$f":"VLOOKUP(日本標準産業分類!B1458,作業シート!$C$2:$D$21,2)","v":"公務（他に分類されるものを除く）"},97,{"$f":"VLOOKUP(D1458,作業シート!$F$2:$G$100,2)","v":"国家公務"},973,{"$f":"VLOOKUP(F1458,作業シート!$I$2:$J$531,2)","v":"行政機関"},9731,"行政機関","S-97-973-9731","製造業その他"]
[null,"S",{"$f":"VLOOKUP(日本標準産業分類!B1459,作業シート!$C$2:$D$21,2)","v":"公務（他に分類されるものを除く）"},98,{"$f":"VLOOKUP(D1459,作業シート!$F$2:$G$100,2)","v":"地方公務"},981,{"$f":"VLOOKUP(F1459,作業シート!$I$2:$J$531,2)","v":"都道府県機関"},9811,"都道府県機関","S-98-981-9811","製造業その他"]
[null,"S",{"$f":"VLOOKUP(日本標準産業分類!B1460,作業シート!$C$2:$D$21,2)","v":"公務（他に分類されるものを除く）"},98,{"$f":"VLOOKUP(D1460,作業シート!$F$2:$G$100,2)","v":"地方公務"},982,{"$f":"VLOOKUP(F1460,作業シート!$I$2:$J$531,2)","v":"市町村機関"},9821,"市町村機関","S-98-982-9821","製造業その他"]
[null,"T",{"$f":"VLOOKUP(日本標準産業分類!B1461,作業シート!$C$2:$D$21,2)","v":"分類不能の産業"},99,{"$f":"VLOOKUP(D1461,作業シート!$F$2:$G$100,2)","v":"分類不能の産業"},999,{"$f":"VLOOKUP(F1461,作業シート!$I$2:$J$531,2)","v":"分類不能の産業"},9999,"分類不能の産業","T-99-999-9999","製造業その他"]

{"sheet":"中小企業者（判定用）","index":6,"n_rows":11,"n_cols":7,"rows_kept":11,"cut":false,"hidden":true,"merged":[]}
[]
[null,"業種目","資本金","従業員数"]
[null,"製造業その他",300000000,300,null,{"$f":"IF(COUNTA(入力シート!T23:AG25)>0,\"\",IF(日本標準産業分類!$Q$2='中小企業者（判定用）'!B3,'中小企業者（判定用）'!C3,\"\"))","v":300000000},{"$f":"IF(COUNTA(入力シート!T23:AG25)>0,\"\",IF(日本標準産業分類!$Q$2='中小企業者（判定用）'!B3,'中小企業者（判定用）'!D3,\"\"))","v":300}]
[null,"製造業のうちゴム製品製造業（⾃動⾞⼜は航空機⽤タイヤ及びチューブ製造業並びに⼯業⽤ベルト製造業を除く）",300000000,900,null,{"$f":"IF(入力シート!T23=\"○\",'中小企業者（判定用）'!C4,\"\")","v":""},{"$f":"IF(入力シート!T23=\"○\",'中小企業者（判定用）'!D4,\"\")","v":""}]
[null,"卸売業",100000000,100,null,{"$f":"IF(COUNTA(入力シート!T23:AG25)>0,\"\",IF(日本標準産業分類!$Q$2='中小企業者（判定用）'!B5,'中小企業者（判定用）'!C5,\"\"))","v":""},{"$f":"IF(COUNTA(入力シート!T23:AG25)>0,\"\",IF(日本標準産業分類!$Q$2='中小企業者（判定用）'!B5,'中小企業者（判定用）'!D5,\"\"))","v":""}]
[null,"小売業",50000000,50,null,{"$f":"IF(COUNTA(入力シート!T23:AG25)>0,\"\",IF(日本標準産業分類!$Q$2='中小企業者（判定用）'!B6,'中小企業者（判定用）'!C6,\"\"))","v":""},{"$f":"IF(COUNTA(入力シート!T23:AG25)>0,\"\",IF(日本標準産業分類!$Q$2='中小企業者（判定用）'!B6,'中小企業者（判定用）'!D6,\"\"))","v":""}]
[null,"サービス業",50000000,100,null,{"$f":"IF(COUNTA(入力シート!T23:AG25)>0,\"\",IF(日本標準産業分類!$Q$2='中小企業者（判定用）'!B7,'中小企業者（判定用）'!C7,\"\"))","v":""},{"$f":"IF(COUNTA(入力シート!T23:AG25)>0,\"\",IF(日本標準産業分類!$Q$2='中小企業者（判定用）'!B7,'中小企業者（判定用）'!D7,\"\"))","v":""}]
[null,"サービス業のうちソフトウェア業⼜は情報処理サービス業",300000000,300,null,{"$f":"IF(入力シート!T24=\"○\",'中小企業者（判定用）'!C8,\"\")","v":""},{"$f":"IF(入力シート!T24=\"○\",'中小企業者（判定用）'!D8,\"\")","v":""}]
[null,"サービス業のうち旅館業",50000000,200,null,{"$f":"IF(入力シート!T25=\"○\",'中小企業者（判定用）'!C9,\"\")","v":""},{"$f":"IF(入力シート!T25=\"○\",'中小企業者（判定用）'!D9,\"\")","v":""}]
[null,null,null,null,null,{"$f":"IF(COUNT(F3:F9)>1,\"重複選択有\",\"\")","v":""},{"$f":"IF(COUNT(G3:G9)>1,\"重複選択有\",\"\")","v":""}]
[null,null,null,null,null,{"$f":"SUM(F3:F9)","v":300000000},{"$f":"SUM(G3:G9)","v":300}]

{"sheet":"作業シート","index":7,"n_rows":531,"n_cols":18,"rows_kept":531,"cut":false,"hidden":true,"merged":[]}
[]
[null,null,"A","農業，林業",null,1,"農業",null,10,"管理，補助的経済活動を行う事業所（01農業）",null,null,null,null,null,null,null,"製造業のうちゴム製品製造業（自動車又は航空機用タイヤ及びチューブ製造業並びに工業用ベルト製造業を除く）"]
[null,null,"B","漁業",null,2,"林業",null,11,"耕種農業",null,null,null,null,null,null,null,"サービス業のうちソフトウェア業又は情報処理サービス業"]
[null,null,"C","鉱業，採石業，砂利採取業",null,3,"漁業（水産養殖業を除く）",null,12,"畜産農業",null,null,null,null,null,null,null,"サービス業のうち旅館業"]
[null,null,"D","建設業",null,4,"水産養殖業",null,13,"農業サービス業（園芸サービス業を除く）"]
[null,null,"E","製造業",null,5,"鉱業，採石業，砂利採取業",null,14,"園芸サービス業"]
[null,null,"F","電気・ガス・熱供給・水道業",null,6,"総合工事業",null,20,"管理，補助的経済活動を行う事業所（02林業）"]
[null,null,"G","情報通信業",null,7,"職別工事業(設備工事業を除く)",null,21,"育林業"]
[null,null,"H","運輸業，郵便業",null,8,"設備工事業",null,22,"素材生産業"]
[null,null,"I","卸売業，小売業",null,9,"食料品製造業",null,23,"特用林産物生産業（きのこ類の栽培を除く）"]
[null,null,"J","金融業，保険業",null,10,"飲料・たばこ・飼料製造業",null,24,"林業サービス業"]
[null,null,"K","不動産業，物品賃貸業",null,11,"繊維工業",null,29,"その他の林業"]
[null,null,"L","学術研究，専門・技術サービス業",null,12,"木材・木製品製造業（家具を除く）",null,30,"管理，補助的経済活動を行う事業所（03漁業）"]
[null,null,"M","宿泊業，飲食サービス業",null,13,"家具・装備品製造業",null,31,"海面漁業"]
[null,null,"N","生活関連サービス業，娯楽業",null,14,"パルプ・紙・紙加工品製造業",null,32,"内水面漁業"]
[null,null,"O","教育，学習支援業",null,15,"印刷・同関連業",null,40,"管理，補助的経済活動を行う事業所（04水産養殖業）"]
[null,null,"P","医療，福祉",null,16,"化学工業",null,41,"海面養殖業"]
[null,null,"Q","複合サービス事業",null,17,"石油製品・石炭製品製造業",null,42,"内水面養殖業"]
[null,null,"R","サービス業（他に分類されないもの）",null,18,"プラスチック製品製造業（別掲を除く）",null,50,"管理，補助的経済活動を行う事業所（05鉱業，採石業，砂利採取業）"]
[null,null,"S","公務（他に分類されるものを除く）",null,19,"ゴム製品製造業",null,51,"金属鉱業"]
[null,null,"T","分類不能の産業",null,20,"なめし革・同製品・毛皮製造業",null,52,"石炭・亜炭鉱業"]
[null,null,null,null,null,21,"窯業・土石製品製造業",null,53,"原油・天然ガス鉱業"]
[null,null,null,null,null,22,"鉄鋼業",null,54,"採石業，砂・砂利・玉石採取業"]
[null,null,null,null,null,23,"非鉄金属製造業",null,55,"窯業原料用鉱物鉱業（耐火物・陶磁器・ガラス・セメント原料用に限る）"]
[null,null,null,null,null,24,"金属製品製造業",null,59,"その他の鉱業"]
[null,null,null,null,null,25,"はん用機械器具製造業",null,60,"管理，補助的経済活動を行う事業所（06総合工事業）"]
[null,null,null,null,null,26,"生産用機械器具製造業",null,61,"一般土木建築工事業"]
[null,null,null,null,null,27,"業務用機械器具製造業",null,62,"土木工事業（舗装工事業を除く）"]
[null,null,null,null,null,28,"電子部品・デバイス・電子回路製造業",null,63,"舗装工事業"]
[null,null,null,null,null,29,"電気機械器具製造業",null,64,"建築工事業(木造建築工事業を除く)"]
[null,null,null,null,null,30,"情報通信機械器具製造業",null,65,"木造建築工事業"]
[null,null,null,null,null,31,"輸送用機械器具製造業",null,66,"建築リフォーム工事業"]
[null,null,null,null,null,32,"その他の製造業",null,70,"管理，補助的経済活動を行う事業所（07職別工事業）"]
[null,null,null,null,null,33,"電気業",null,71,"大工工事業"]
[null,null,null,null,null,34,"ガス業",null,72,"とび・土工・コンクリート工事業"]
[null,null,null,null,null,35,"熱供給業",null,73,"鉄骨・鉄筋工事業"]
[null,null,null,null,null,36,"水道業",null,74,"石工・れんが・タイル・ブロック工事業"]
[null,null,null,null,null,37,"通信業",null,75,"左官工事業"]
[null,null,null,null,null,38,"放送業",null,76,"板金・金物工事業"]
[null,null,null,null,null,39,"情報サービス業",null,77,"塗装工事業"]
[null,null,null,null,null,40,"インターネット附随サービス業",null,78,"床・内装工事業"]
[null,null,null,null,null,41,"映像・音声・文字情報制作業",null,79,"その他の職別工事業"]
[null,null,null,null,null,42,"鉄道業",null,80,"管理，補助的経済活動を行う事業所（08設備工事業）"]
[null,null,null,null,null,43,"道路旅客運送業",null,81,"電気工事業"]
[null,null,null,null,null,44,"道路貨物運送業",null,82,"電気通信・信号装置工事業"]
[null,null,null,null,null,45,"水運業",null,83,"管工事業（さく井工事業を除く）"]
[null,null,null,null,null,46,"航空運輸業",null,84,"機械器具設置工事業"]
[null,null,null,null,null,47,"倉庫業",null,89,"その他の設備工事業"]
[null,null,null,null,null,48,"運輸に附帯するサービス業",null,90,"管理，補助的経済活動を行う事業所（09食料品製造業）"]
[null,null,null,null,null,49,"郵便業（信書便事業を含む）",null,91,"畜産食料品製造業"]
[null,null,null,null,null,50,"各種商品卸売業",null,92,"水産食料品製造業"]
[null,null,null,null,null,51,"繊維・衣服等卸売業",null,93,"野菜缶詰・果実缶詰・農産保存食料品製造業"]
[null,null,null,null,null,52,"飲食料品卸売業",null,94,"調味料製造業"]
[null,null,null,null,null,53,"建築材料，鉱物・金属材料等卸売業",null,95,"糖類製造業"]
[null,null,null,null,null,54,"機械器具卸売業",null,96,"精穀・製粉業"]
[null,null,null,null,null,55,"その他の卸売業",null,97,"パン・菓子製造業"]
[null,null,null,null,null,56,"各種商品小売業",null,98,"動植物油脂製造業"]
[null,null,null,null,null,57,"織物・衣服・身の回り品小売業",null,99,"その他の食料品製造業"]
[null,null,null,null,null,58,"飲食料品小売業",null,100,"管理，補助的経済活動を行う事業所（10飲料・たばこ・飼料製造業）"]
[null,null,null,null,null,59,"機械器具小売業",null,101,"清涼飲料製造業"]
[null,null,null,null,null,60,"その他の小売業",null,102,"酒類製造業"]
[null,null,null,null,null,61,"無店舗小売業",null,103,"茶・コーヒー製造業（清涼飲料を除く）"]
[null,null,null,null,null,62,"銀行業",null,104,"製氷業"]
[null,null,null,null,null,63,"協同組織金融業",null,105,"たばこ製造業"]
[null,null,null,null,null,64,"貸金業，クレジットカード業等非預金信用機関",null,106,"飼料・有機質肥料製造業"]
[null,null,null,null,null,65,"金融商品取引業，商品先物取引業",null,110,"管理，補助的経済活動を行う事業所（11繊維工業）"]
[null,null,null,null,null,66,"補助的金融業等",null,111,"製糸業，紡績業，化学繊維・ねん糸等製造業"]
[null,null,null,null,null,67,"保険業（保険媒介代理業，保険サービス業を含む）",null,112,"織物業"]
[null,null,null,null,null,68,"不動産取引業",null,113,"ニット生地製造業"]
[null,null,null,null,null,69,"不動産賃貸業・管理業",null,114,"染色整理業"]
[null,null,null,null,null,70,"物品賃貸業",null,115,"綱・網・レース・繊維粗製品製造業"]
[null,null,null,null,null,71,"学術・開発研究機関",null,116,"外衣・シャツ製造業（和式を除く）"]
[null,null,null,null,null,72,"専門サービス業（他に分類されないもの）",null,117,"下着類製造業"]
[null,null,null,null,null,73,"広告業",null,118,"和装製品・その他の衣服・繊維製身の回り品製造業"]
[null,null,null,null,null,74,"技術サービス業（他に分類されないもの）",null,119,"その他の繊維製品製造業"]
[null,null,null,null,null,75,"宿泊業",null,120,"管理，補助的経済活動を行う事業所（12木材・木製品製造業）"]
[null,null,null,null,null,76,"飲食店",null,121,"製材業，木製品製造業"]
[null,null,null,null,null,77,"持ち帰り・配達飲食サービス業",null,122,"造作材・合板・建築用組立材料製造業"]
[null,null,null,null,null,78,"洗濯・理容・美容・浴場業",null,123,"木製容器製造業（竹，とうを含む）"]
[null,null,null,null,null,79,"その他の生活関連サービス業",null,129,"その他の木製品製造業(竹，とうを含む)"]
[null,null,null,null,null,80,"娯楽業",null,130,"管理，補助的経済活動を行う事業所（13家具・装備品製造業）"]
[null,null,null,null,null,81,"学校教育",null,131,"家具製造業"]
[null,null,null,null,null,82,"その他の教育，学習支援業",null,132,"宗教用具製造業"]
[null,null,null,null,null,83,"医療業",null,133,"建具製造業"]
[null,null,null,null,null,84,"保健衛生",null,139,"その他の家具・装備品製造業"]
[null,null,null,null,null,85,"社会保険・社会福祉・介護事業",null,140,"管理，補助的経済活動を行う事業所（14パルプ・紙・紙加工品製造業）"]
[null,null,null,null,null,86,"郵便局",null,141,"パルプ製造業"]
[null,null,null,null,null,87,"協同組合（他に分類されないもの）",null,142,"紙製造業"]
[null,null,null,null,null,88,"廃棄物処理業",null,143,"加工紙製造業"]
[null,null,null,null,null,89,"自動車整備業",null,144,"紙製品製造業"]
[null,null,null,null,null,90,"機械等修理業（別掲を除く）",null,145,"紙製容器製造業"]
[null,null,null,null,null,91,"職業紹介・労働者派遣業",null,149,"その他のパルプ・紙・紙加工品製造業"]
[null,null,null,null,null,92,"その他の事業サービス業",null,150,"管理，補助的経済活動を行う事業所（15印刷・同関連業）"]
[null,null,null,null,null,93,"政治・経済・文化団体",null,151,"印刷業"]
[null,null,null,null,null,94,"宗教",null,152,"製版業"]
[null,null,null,null,null,95,"その他のサービス業",null,153,"製本業，印刷物加工業"]
[null,null,null,null,null,96,"外国公務",null,159,"印刷関連サービス業"]
[null,null,null,null,null,97,"国家公務",null,160,"管理，補助的経済活動を行う事業所（16化学工業）"]
[null,null,null,null,null,98,"地方公務",null,161,"化学肥料製造業"]
[null,null,null,null,null,99,"分類不能の産業",null,162,"無機化学工業製品製造業"]
[null,null,null,null,null,null,null,null,163,"有機化学工業製品製造業"]
[null,null,null,null,null,null,null,null,164,"油脂加工製品・石けん・合成洗剤・界面活性剤・塗料製造業"]
[null,null,null,null,null,null,null,null,165,"医薬品製造業"]
[null,null,null,null,null,null,null,null,166,"化粧品・歯磨・その他の化粧用調整品製造業"]
[null,null,null,null,null,null,null,null,169,"その他の化学工業"]
[null,null,null,null,null,null,null,null,170,"管理，補助的経済活動を行う事業所（17石油製品・石炭製品製造業）"]
[null,null,null,null,null,null,null,null,171,"石油精製業"]
[null,null,null,null,null,null,null,null,172,"潤滑油・グリース製造業（石油精製業によらないもの）"]
[null,null,null,null,null,null,null,null,173,"コークス製造業"]
[null,null,null,null,null,null,null,null,174,"舗装材料製造業"]
[null,null,null,null,null,null,null,null,179,"その他の石油製品・石炭製品製造業"]
[null,null,null,null,null,null,null,null,180,"管理，補助的経済活動を行う事業所（18プラスチック製品製造業）"]
[null,null,null,null,null,null,null,null,181,"プラスチック板・棒・管・継手・異形押出製品製造業"]
[null,null,null,null,null,null,null,null,182,"プラスチックフィルム・シート・床材・合成皮革製造業"]
[null,null,null,null,null,null,null,null,183,"工業用プラスチック製品製造業"]
[null,null,null,null,null,null,null,null,184,"発泡・強化プラスチック製品製造業"]
[null,null,null,null,null,null,null,null,185,"プラスチック成形材料製造業（廃プラスチックを含む）"]
[null,null,null,null,null,null,null,null,189,"その他のプラスチック製品製造業"]
[null,null,null,null,null,null,null,null,190,"管理，補助的経済活動を行う事業所（19ゴム製品製造業）"]
[null,null,null,null,null,null,null,null,191,"タイヤ・チューブ製造業"]
[null,null,null,null,null,null,null,null,192,"ゴム製・プラスチック製履物・同附属品製造業"]
[null,null,null,null,null,null,null,null,193,"ゴムベルト・ゴムホース・工業用ゴム製品製造業"]
[null,null,null,null,null,null,null,null,199,"その他のゴム製品製造業"]
[null,null,null,null,null,null,null,null,200,"管理，補助的経済活動を行う事業所（20なめし革・同製品・毛皮製造業）"]
[null,null,null,null,null,null,null,null,201,"なめし革製造業"]
[null,null,null,null,null,null,null,null,202,"工業用革製品製造業（手袋を除く）"]
[null,null,null,null,null,null,null,null,203,"革製履物用材料・同附属品製造業"]
[null,null,null,null,null,null,null,null,204,"革製履物製造業"]
[null,null,null,null,null,null,null,null,205,"革製手袋製造業"]
[null,null,null,null,null,null,null,null,206,"かばん製造業"]
[null,null,null,null,null,null,null,null,207,"袋物製造業"]
[null,null,null,null,null,null,null,null,208,"毛皮製造業"]
[null,null,null,null,null,null,null,null,209,"その他のなめし革製品製造業"]
[null,null,null,null,null,null,null,null,210,"管理，補助的経済活動を行う事業所（21窯業・土石製品製造業）"]
[null,null,null,null,null,null,null,null,211,"ガラス・同製品製造業"]
[null,null,null,null,null,null,null,null,212,"セメント・同製品製造業"]
[null,null,null,null,null,null,null,null,213,"建設用粘土製品製造業（陶磁器製を除く)"]
[null,null,null,null,null,null,null,null,214,"陶磁器・同関連製品製造業"]
[null,null,null,null,null,null,null,null,215,"耐火物製造業"]
[null,null,null,null,null,null,null,null,216,"炭素・黒鉛製品製造業"]
[null,null,null,null,null,null,null,null,217,"研磨材・同製品製造業"]
[null,null,null,null,null,null,null,null,218,"骨材・石工品等製造業"]
[null,null,null,null,null,null,null,null,219,"その他の窯業・土石製品製造業"]
[null,null,null,null,null,null,null,null,220,"管理，補助的経済活動を行う事業所（22鉄鋼業）"]
[null,null,null,null,null,null,null,null,221,"製鉄業"]
[null,null,null,null,null,null,null,null,222,"製鋼・製鋼圧延業"]
[null,null,null,null,null,null,null,null,223,"製鋼を行わない鋼材製造業（表面処理鋼材を除く）"]
[null,null,null,null,null,null,null,null,224,"表面処理鋼材製造業"]
[null,null,null,null,null,null,null,null,225,"鉄素形材製造業"]
[null,null,null,null,null,null,null,null,229,"その他の鉄鋼業"]
[null,null,null,null,null,null,null,null,230,"管理，補助的経済活動を行う事業所（23非鉄金属製造業）"]
[null,null,null,null,null,null,null,null,231,"非鉄金属第1次製錬・精製業"]
[null,null,null,null,null,null,null,null,232,"非鉄金属第2次製錬・精製業（非鉄金属合金製造業を含む）"]
[null,null,null,null,null,null,null,null,233,"非鉄金属・同合金圧延業（抽伸，押出しを含む）"]
[null,null,null,null,null,null,null,null,234,"電線・ケーブル製造業"]
[null,null,null,null,null,null,null,null,235,"非鉄金属素形材製造業"]
[null,null,null,null,null,null,null,null,239,"その他の非鉄金属製造業"]
[null,null,null,null,null,null,null,null,240,"管理，補助的経済活動を行う事業所（24金属製品製造業）"]
[null,null,null,null,null,null,null,null,241,"ブリキ缶・その他のめっき板等製品製造業"]
[null,null,null,null,null,null,null,null,242,"洋食器・刃物・手道具・金物類製造業"]
[null,null,null,null,null,null,null,null,243,"暖房・調理等装置,配管工事用附属品製造業"]
[null,null,null,null,null,null,null,null,244,"建設用・建築用金属製品製造業（製缶板金業を含む)"]
[null,null,null,null,null,null,null,null,245,"金属素形材製品製造業"]
[null,null,null,null,null,null,null,null,246,"金属被覆・彫刻業，熱処理業（ほうろう鉄器を除く）"]
[null,null,null,null,null,null,null,null,247,"金属線製品製造業（ねじ類を除く)"]
[null,null,null,null,null,null,null,null,248,"ボルト・ナット・リベット・小ねじ・木ねじ等製造業"]
[null,null,null,null,null,null,null,null,249,"その他の金属製品製造業"]
[null,null,null,null,null,null,null,null,250,"管理，補助的経済活動を行う事業所（25はん用機械器具製造業）"]
[null,null,null,null,null,null,null,null,251,"ボイラ・原動機製造業"]
[null,null,null,null,null,null,null,null,252,"ポンプ・圧縮機器製造業"]
[null,null,null,null,null,null,null,null,253,"一般産業用機械・装置製造業"]
[null,null,null,null,null,null,null,null,259,"その他のはん用機械・同部分品製造業"]
[null,null,null,null,null,null,null,null,260,"管理，補助的経済活動を行う事業所（26生産用機械器具製造業）"]
[null,null,null,null,null,null,null,null,261,"農業用機械製造業（農業用器具を除く）"]
[null,null,null,null,null,null,null,null,262,"建設機械・鉱山機械製造業"]
[null,null,null,null,null,null,null,null,263,"繊維機械製造業"]
[null,null,null,null,null,null,null,null,264,"生活関連産業用機械製造業"]
[null,null,null,null,null,null,null,null,265,"基礎素材産業用機械製造業"]
[null,null,null,null,null,null,null,null,266,"金属加工機械製造業"]
[null,null,null,null,null,null,null,null,267,"半導体・フラットパネルディスプレイ製造装置製造業"]
[null,null,null,null,null,null,null,null,269,"その他の生産用機械・同部分品製造業"]
[null,null,null,null,null,null,null,null,270,"管理，補助的経済活動を行う事業所（27業務用機械器具製造業）"]
[null,null,null,null,null,null,null,null,271,"事務用機械器具製造業"]
[null,null,null,null,null,null,null,null,272,"サービス用・娯楽用機械器具製造業"]
[null,null,null,null,null,null,null,null,273,"計量器・測定器・分析機器・試験機・測量機械器具・理化学機械器具製造業"]
[null,null,null,null,null,null,null,null,274,"医療用機械器具・医療用品製造業"]
[null,null,null,null,null,null,null,null,275,"光学機械器具・レンズ製造業"]
[null,null,null,null,null,null,null,null,276,"武器製造業"]
[null,null,null,null,null,null,null,null,280,"管理，補助的経済活動を行う事業所（28電子部品・デバイス・電子回路製造業）"]
[null,null,null,null,null,null,null,null,281,"電子デバイス製造業"]
[null,null,null,null,null,null,null,null,282,"電子部品製造業"]
[null,null,null,null,null,null,null,null,283,"記録メディア製造業"]
[null,null,null,null,null,null,null,null,284,"電子回路製造業"]
[null,null,null,null,null,null,null,null,285,"ユニット部品製造業"]
[null,null,null,null,null,null,null,null,289,"その他の電子部品・デバイス・電子回路製造業"]
[null,null,null,null,null,null,null,null,290,"管理，補助的経済活動を行う事業所（29電気機械器具製造業）"]
[null,null,null,null,null,null,null,null,291,"発電用・送電用・配電用電気機械器具製造業"]
[null,null,null,null,null,null,null,null,292,"産業用電気機械器具製造業"]
[null,null,null,null,null,null,null,null,293,"民生用電気機械器具製造業"]
[null,null,null,null,null,null,null,null,294,"電球・電気照明器具製造業"]
[null,null,null,null,null,null,null,null,295,"電池製造業"]
[null,null,null,null,null,null,null,null,296,"電子応用装置製造業"]
[null,null,null,null,null,null,null,null,297,"電気計測器製造業"]
[null,null,null,null,null,null,null,null,299,"その他の電気機械器具製造業"]
[null,null,null,null,null,null,null,null,300,"管理，補助的経済活動を行う事業所（30情報通信機械器具製造業）"]
[null,null,null,null,null,null,null,null,301,"通信機械器具・同関連機械器具製造業"]
[null,null,null,null,null,null,null,null,302,"映像・音響機械器具製造業"]
[null,null,null,null,null,null,null,null,303,"電子計算機・同附属装置製造業"]
[null,null,null,null,null,null,null,null,310,"管理，補助的経済活動を行う事業所（31輸送用機械器具製造業）"]
[null,null,null,null,null,null,null,null,311,"自動車・同附属品製造業"]
[null,null,null,null,null,null,null,null,312,"鉄道車両・同部分品製造業"]
[null,null,null,null,null,null,null,null,313,"船舶製造・修理業，舶用機関製造業"]
[null,null,null,null,null,null,null,null,314,"航空機・同附属品製造業"]
[null,null,null,null,null,null,null,null,315,"産業用運搬車両・同部分品・附属品製造業"]
[null,null,null,null,null,null,null,null,319,"その他の輸送用機械器具製造業"]
[null,null,null,null,null,null,null,null,320,"管理，補助的経済活動を行う事業所（32その他の製造業）"]
[null,null,null,null,null,null,null,null,321,"貴金属・宝石製品製造業"]
[null,null,null,null,null,null,null,null,322,"装身具・装飾品・ボタン・同関連品製造業（貴金属・宝石製を除く）"]
[null,null,null,null,null,null,null,null,323,"時計・同部分品製造業"]
[null,null,null,null,null,null,null,null,324,"楽器製造業"]
[null,null,null,null,null,null,null,null,325,"がん具・運動用具製造業"]
[null,null,null,null,null,null,null,null,326,"ペン・鉛筆・絵画用品・その他の事務用品製造業"]
[null,null,null,null,null,null,null,null,327,"漆器製造業"]
[null,null,null,null,null,null,null,null,328,"畳等生活雑貨製品製造業"]
[null,null,null,null,null,null,null,null,329,"他に分類されない製造業"]
[null,null,null,null,null,null,null,null,330,"管理，補助的経済活動を行う事業所（33電気業）"]
[null,null,null,null,null,null,null,null,331,"電気業"]
[null,null,null,null,null,null,null,null,340,"管理，補助的経済活動を行う事業所（34ガス業）"]
[null,null,null,null,null,null,null,null,341,"ガス業"]
[null,null,null,null,null,null,null,null,350,"管理，補助的経済活動を行う事業所（35熱供給業）"]
[null,null,null,null,null,null,null,null,351,"熱供給業"]
[null,null,null,null,null,null,null,null,360,"管理，補助的経済活動を行う事業所（36水道業）"]
[null,null,null,null,null,null,null,null,361,"上水道業"]
[null,null,null,null,null,null,null,null,362,"工業用水道業"]
[null,null,null,null,null,null,null,null,363,"下水道業"]
[null,null,null,null,null,null,null,null,370,"管理，補助的経済活動を行う事業所（37通信業）"]
[null,null,null,null,null,null,null,null,371,"固定電気通信業"]
[null,null,null,null,null,null,null,null,372,"移動電気通信業"]
[null,null,null,null,null,null,null,null,373,"電気通信に附帯するサービス業"]
[null,null,null,null,null,null,null,null,380,"管理，補助的経済活動を行う事業所（38放送業）"]
[null,null,null,null,null,null,null,null,381,"公共放送業（有線放送業を除く）"]
[null,null,null,null,null,null,null,null,382,"民間放送業（有線放送業を除く）"]
[null,null,null,null,null,null,null,null,383,"有線放送業"]
[null,null,null,null,null,null,null,null,390,"管理，補助的経済活動を行う事業所（39情報サービス業）"]
[null,null,null,null,null,null,null,null,391,"ソフトウェア業"]
[null,null,null,null,null,null,null,null,392,"情報処理・提供サービス業"]
[null,null,null,null,null,null,null,null,400,"管理，補助的経済活動を行う事業所（40インターネット附随サービス業）"]
[null,null,null,null,null,null,null,null,401,"インターネット附随サービス業"]
[null,null,null,null,null,null,null,null,410,"管理，補助的経済活動を行う事業所（41映像・音声・文字情報制作業）"]
[null,null,null,null,null,null,null,null,411,"映像情報制作・配給業"]
[null,null,null,null,null,null,null,null,412,"音声情報制作業"]
[null,null,null,null,null,null,null,null,413,"新聞業"]
[null,null,null,null,null,null,null,null,414,"出版業"]
[null,null,null,null,null,null,null,null,415,"広告制作業"]
[null,null,null,null,null,null,null,null,416,"映像・音声・文字情報制作に附帯するサービス業"]
[null,null,null,null,null,null,null,null,420,"管理，補助的経済活動を行う事業所（42鉄道業）"]
[null,null,null,null,null,null,null,null,421,"鉄道業"]
[null,null,null,null,null,null,null,null,430,"管理，補助的経済活動を行う事業所（43道路旅客運送業）"]
[null,null,null,null,null,null,null,null,431,"一般乗合旅客自動車運送業"]
[null,null,null,null,null,null,null,null,432,"一般乗用旅客自動車運送業"]
[null,null,null,null,null,null,null,null,433,"一般貸切旅客自動車運送業"]
[null,null,null,null,null,null,null,null,439,"その他の道路旅客運送業"]
[null,null,null,null,null,null,null,null,440,"管理，補助的経済活動を行う事業所（44道路貨物運送業）"]
[null,null,null,null,null,null,null,null,441,"一般貨物自動車運送業"]
[null,null,null,null,null,null,null,null,442,"特定貨物自動車運送業"]
[null,null,null,null,null,null,null,null,443,"貨物軽自動車運送業"]
[null,null,null,null,null,null,null,null,444,"集配利用運送業"]
[null,null,null,null,null,null,null,null,449,"その他の道路貨物運送業"]
[null,null,null,null,null,null,null,null,450,"管理，補助的経済活動を行う事業所（45水運業）"]
[null,null,null,null,null,null,null,null,451,"外航海運業"]
[null,null,null,null,null,null,null,null,452,"沿海海運業"]
[null,null,null,null,null,null,null,null,453,"内陸水運業"]
[null,null,null,null,null,null,null,null,454,"船舶貸渡業"]
[null,null,null,null,null,null,null,null,460,"管理，補助的経済活動を行う事業所（46航空運輸業）"]
[null,null,null,null,null,null,null,null,461,"航空運送業"]
[null,null,null,null,null,null,null,null,462,"航空機使用業（航空運送業を除く）"]
[null,null,null,null,null,null,null,null,470,"管理，補助的経済活動を行う事業所（47倉庫業）"]
[null,null,null,null,null,null,null,null,471,"倉庫業（冷蔵倉庫業を除く）"]
[null,null,null,null,null,null,null,null,472,"冷蔵倉庫業"]
[null,null,null,null,null,null,null,null,480,"管理，補助的経済活動を行う事業所（48運輸に附帯するサービス業）"]
[null,null,null,null,null,null,null,null,481,"港湾運送業"]
[null,null,null,null,null,null,null,null,482,"貨物運送取扱業（集配利用運送業を除く）"]
[null,null,null,null,null,null,null,null,483,"運送代理店"]
[null,null,null,null,null,null,null,null,484,"こん包業"]
[null,null,null,null,null,null,null,null,485,"運輸施設提供業"]
[null,null,null,null,null,null,null,null,489,"その他の運輸に附帯するサービス業"]
[null,null,null,null,null,null,null,null,490,"管理，補助的経済活動を行う事業所（49郵便業）"]
[null,null,null,null,null,null,null,null,491,"郵便業（信書便事業を含む）"]
[null,null,null,null,null,null,null,null,500,"管理，補助的経済活動を行う事業所（50各種商品卸売業）"]
[null,null,null,null,null,null,null,null,501,"各種商品卸売業"]
[null,null,null,null,null,null,null,null,510,"管理，補助的経済活動を行う事業所（51繊維・衣服等卸売業）"]
[null,null,null,null,null,null,null,null,511,"繊維品卸売業（衣服，身の回り品を除く）"]
[null,null,null,null,null,null,null,null,512,"衣服卸売業"]
[null,null,null,null,null,null,null,null,513,"身の回り品卸売業"]
[null,null,null,null,null,null,null,null,520,"管理，補助的経済活動を行う事業所（52飲食料品卸売業）"]
[null,null,null,null,null,null,null,null,521,"農畜産物・水産物卸売業"]
[null,null,null,null,null,null,null,null,522,"食料・飲料卸売業"]
[null,null,null,null,null,null,null,null,530,"管理，補助的経済活動を行う事業所（53建築材料，鉱物・金属材料等卸売業）"]
[null,null,null,null,null,null,null,null,531,"建築材料卸売業"]
[null,null,null,null,null,null,null,null,532,"化学製品卸売業"]
[null,null,null,null,null,null,null,null,533,"石油・鉱物卸売業"]
[null,null,null,null,null,null,null,null,534,"鉄鋼製品卸売業"]
[null,null,null,null,null,null,null,null,535,"非鉄金属卸売業"]
[null,null,null,null,null,null,null,null,536,"再生資源卸売業"]
[null,null,null,null,null,null,null,null,540,"管理，補助的経済活動を行う事業所（54機械器具卸売業）"]
[null,null,null,null,null,null,null,null,541,"産業機械器具卸売業"]
[null,null,null,null,null,null,null,null,542,"自動車卸売業"]
[null,null,null,null,null,null,null,null,543,"電気機械器具卸売業"]
[null,null,null,null,null,null,null,null,549,"その他の機械器具卸売業"]
[null,null,null,null,null,null,null,null,550,"管理，補助的経済活動を行う事業所（55その他の卸売業）"]
[null,null,null,null,null,null,null,null,551,"家具・建具・じゅう器等卸売業"]
[null,null,null,null,null,null,null,null,552,"医薬品・化粧品等卸売業"]
[null,null,null,null,null,null,null,null,553,"紙・紙製品卸売業"]
[null,null,null,null,null,null,null,null,559,"他に分類されない卸売業"]
[null,null,null,null,null,null,null,null,560,"管理，補助的経済活動を行う事業所（56各種商品小売業）"]
[null,null,null,null,null,null,null,null,561,"百貨店，総合スーパー"]
[null,null,null,null,null,null,null,null,569,"その他の各種商品小売業（従業者が常時50人未満のもの）"]
[null,null,null,null,null,null,null,null,570,"管理，補助的経済活動を行う事業所（57織物・衣服・身の回り品小売業）"]
[null,null,null,null,null,null,null,null,571,"呉服・服地・寝具小売業"]
[null,null,null,null,null,null,null,null,572,"男子服小売業"]
[null,null,null,null,null,null,null,null,573,"婦人・子供服小売業"]
[null,null,null,null,null,null,null,null,574,"靴・履物小売業"]
[null,null,null,null,null,null,null,null,579,"その他の織物・衣服・身の回り品小売業"]
[null,null,null,null,null,null,null,null,580,"管理，補助的経済活動を行う事業所（58飲食料品小売業）"]
[null,null,null,null,null,null,null,null,581,"各種食料品小売業"]
[null,null,null,null,null,null,null,null,582,"野菜・果実小売業"]
[null,null,null,null,null,null,null,null,583,"食肉小売業"]
[null,null,null,null,null,null,null,null,584,"鮮魚小売業"]
[null,null,null,null,null,null,null,null,585,"酒小売業"]
[null,null,null,null,null,null,null,null,586,"菓子・パン小売業"]
[null,null,null,null,null,null,null,null,589,"その他の飲食料品小売業"]
[null,null,null,null,null,null,null,null,590,"管理，補助的経済活動を行う事業所（59機械器具小売業）"]
[null,null,null,null,null,null,null,null,591,"自動車小売業"]
[null,null,null,null,null,null,null,null,592,"自転車小売業"]
[null,null,null,null,null,null,null,null,593,"機械器具小売業（自動車，自転車を除く）"]
[null,null,null,null,null,null,null,null,600,"管理，補助的経済活動を行う事業所（60その他の小売業）"]
[null,null,null,null,null,null,null,null,601,"家具・建具・畳小売業"]
[null,null,null,null,null,null,null,null,602,"じゅう器小売業"]
[null,null,null,null,null,null,null,null,603,"医薬品・化粧品小売業"]
[null,null,null,null,null,null,null,null,604,"農耕用品小売業"]
[null,null,null,null,null,null,null,null,605,"燃料小売業"]
[null,null,null,null,null,null,null,null,606,"書籍・文房具小売業"]
[null,null,null,null,null,null,null,null,607,"スポーツ用品・がん具・娯楽用品・楽器小売業"]
[null,null,null,null,null,null,null,null,608,"写真機・時計・眼鏡小売業"]
[null,null,null,null,null,null,null,null,609,"他に分類されない小売業"]
[null,null,null,null,null,null,null,null,610,"管理，補助的経済活動を行う事業所（61無店舗小売業）"]
[null,null,null,null,null,null,null,null,611,"通信販売・訪問販売小売業"]
[null,null,null,null,null,null,null,null,612,"自動販売機による小売業"]
[null,null,null,null,null,null,null,null,619,"その他の無店舗小売業"]
[null,null,null,null,null,null,null,null,620,"管理，補助的経済活動を行う事業所（62銀行業）"]
[null,null,null,null,null,null,null,null,621,"中央銀行"]
[null,null,null,null,null,null,null,null,622,"銀行（中央銀行を除く）"]
[null,null,null,null,null,null,null,null,630,"管理，補助的経済活動を行う事業所（63協同組織金融業）"]
[null,null,null,null,null,null,null,null,631,"中小企業等金融業"]
[null,null,null,null,null,null,null,null,632,"農林水産金融業"]
[null,null,null,null,null,null,null,null,640,"管理，補助的経済活動を行う事業所（64貸金業，クレジットカード業等非預金信用機関）"]
[null,null,null,null,null,null,null,null,641,"貸金業"]
[null,null,null,null,null,null,null,null,642,"質屋"]
[null,null,null,null,null,null,null,null,643,"クレジットカード業，割賦金融業"]
[null,null,null,null,null,null,null,null,649,"その他の非預金信用機関"]
[null,null,null,null,null,null,null,null,650,"管理，補助的経済活動を行う事業所（65金融商品取引業，商品先物取引業）"]
[null,null,null,null,null,null,null,null,651,"金融商品取引業"]
[null,null,null,null,null,null,null,null,652,"商品先物取引業，商品投資顧問業"]
[null,null,null,null,null,null,null,null,660,"管理，補助的経済活動を行う事業所（66補助的金融業等）"]
[null,null,null,null,null,null,null,null,661,"補助的金融業，金融附帯業"]
[null,null,null,null,null,null,null,null,662,"信託業"]
[null,null,null,null,null,null,null,null,663,"金融代理業"]
[null,null,null,null,null,null,null,null,670,"管理，補助的経済活動を行う事業所（67保険業）"]
[null,null,null,null,null,null,null,null,671,"生命保険業"]
[null,null,null,null,null,null,null,null,672,"損害保険業"]
[null,null,null,null,null,null,null,null,673,"共済事業，少額短期保険業"]
[null,null,null,null,null,null,null,null,674,"保険媒介代理業"]
[null,null,null,null,null,null,null,null,675,"保険サービス業"]
[null,null,null,null,null,null,null,null,680,"管理，補助的経済活動を行う事業所（68不動産取引業）"]
[null,null,null,null,null,null,null,null,681,"建物売買業，土地売買業"]
[null,null,null,null,null,null,null,null,682,"不動産代理業・仲介業"]
[null,null,null,null,null,null,null,null,690,"管理，補助的経済活動を行う事業所（69不動産賃貸業・管理業）"]
[null,null,null,null,null,null,null,null,691,"不動産賃貸業（貸家業，貸間業を除く）"]
[null,null,null,null,null,null,null,null,692,"貸家業，貸間業"]
[null,null,null,null,null,null,null,null,693,"駐車場業"]
[null,null,null,null,null,null,null,null,694,"不動産管理業"]
[null,null,null,null,null,null,null,null,700,"管理，補助的経済活動を行う事業所（70物品賃貸業）"]
[null,null,null,null,null,null,null,null,701,"各種物品賃貸業"]
[null,null,null,null,null,null,null,null,702,"産業用機械器具賃貸業"]
[null,null,null,null,null,null,null,null,703,"事務用機械器具賃貸業"]
[null,null,null,null,null,null,null,null,704,"自動車賃貸業"]
[null,null,null,null,null,null,null,null,705,"スポーツ・娯楽用品賃貸業"]
[null,null,null,null,null,null,null,null,709,"その他の物品賃貸業"]
[null,null,null,null,null,null,null,null,710,"管理，補助的経済活動を行う事業所（71学術・開発研究機関）"]
[null,null,null,null,null,null,null,null,711,"自然科学研究所"]
[null,null,null,null,null,null,null,null,712,"人文・社会科学研究所"]
[null,null,null,null,null,null,null,null,720,"管理，補助的経済活動を行う事業所（72専門サービス業）"]
[null,null,null,null,null,null,null,null,721,"法律事務所，特許事務所"]
[null,null,null,null,null,null,null,null,722,"公証人役場，司法書士事務所，土地家屋調査士事務所"]
[null,null,null,null,null,null,null,null,723,"行政書士事務所"]
[null,null,null,null,null,null,null,null,724,"公認会計士事務所，税理士事務所"]
[null,null,null,null,null,null,null,null,725,"社会保険労務士事務所"]
[null,null,null,null,null,null,null,null,726,"デザイン業"]
[null,null,null,null,null,null,null,null,727,"著述・芸術家業"]
[null,null,null,null,null,null,null,null,728,"経営コンサルタント業，純粋持株会社"]
[null,null,null,null,null,null,null,null,729,"その他の専門サービス業"]
[null,null,null,null,null,null,null,null,730,"管理，補助的経済活動を行う事業所（73広告業）"]
[null,null,null,null,null,null,null,null,731,"広告業"]
[null,null,null,null,null,null,null,null,740,"管理，補助的経済活動を行う事業所（74技術サービス業）"]
[null,null,null,null,null,null,null,null,741,"獣医業"]
[null,null,null,null,null,null,null,null,742,"土木建築サービス業"]
[null,null,null,null,null,null,null,null,743,"機械設計業"]
[null,null,null,null,null,null,null,null,744,"商品・非破壊検査業"]
[null,null,null,null,null,null,null,null,745,"計量証明業"]
[null,null,null,null,null,null,null,null,746,"写真業"]
[null,null,null,null,null,null,null,null,749,"その他の技術サービス業"]
[null,null,null,null,null,null,null,null,750,"管理，補助的経済活動を行う事業所（75宿泊業）"]
[null,null,null,null,null,null,null,null,751,"旅館，ホテル"]
[null,null,null,null,null,null,null,null,752,"簡易宿所"]
[null,null,null,null,null,null,null,null,753,"下宿業"]
[null,null,null,null,null,null,null,null,759,"その他の宿泊業"]
[null,null,null,null,null,null,null,null,760,"管理，補助的経済活動を行う事業所（76飲食店）"]
[null,null,null,null,null,null,null,null,761,"食堂，レストラン（専門料理店を除く）"]
[null,null,null,null,null,null,null,null,762,"専門料理店"]
[null,null,null,null,null,null,null,null,763,"そば・うどん店"]
[null,null,null,null,null,null,null,null,764,"すし店"]
[null,null,null,null,null,null,null,null,765,"酒場，ビヤホール"]
[null,null,null,null,null,null,null,null,766,"バー，キャバレー，ナイトクラブ"]
[null,null,null,null,null,null,null,null,767,"喫茶店"]
[null,null,null,null,null,null,null,null,769,"その他の飲食店"]
[null,null,null,null,null,null,null,null,770,"管理，補助的経済活動を行う事業所（77持ち帰り・配達飲食サービス業）"]
[null,null,null,null,null,null,null,null,771,"持ち帰り飲食サービス業"]
[null,null,null,null,null,null,null,null,772,"配達飲食サービス業"]
[null,null,null,null,null,null,null,null,780,"管理，補助的経済活動を行う事業所（78洗濯・理容・美容・浴場業）"]
[null,null,null,null,null,null,null,null,781,"洗濯業"]
[null,null,null,null,null,null,null,null,782,"理容業"]
[null,null,null,null,null,null,null,null,783,"美容業"]
[null,null,null,null,null,null,null,null,784,"一般公衆浴場業"]
[null,null,null,null,null,null,null,null,785,"その他の公衆浴場業"]
[null,null,null,null,null,null,null,null,789,"その他の洗濯・理容・美容・浴場業"]
[null,null,null,null,null,null,null,null,790,"管理，補助的経済活動を行う事業所（79その他の生活関連サービス業）"]
[null,null,null,null,null,null,null,null,791,"旅行業"]
[null,null,null,null,null,null,null,null,792,"家事サービス業"]
[null,null,null,null,null,null,null,null,793,"衣服裁縫修理業"]
[null,null,null,null,null,null,null,null,794,"物品預り業"]
[null,null,null,null,null,null,null,null,795,"火葬・墓地管理業"]
[null,null,null,null,null,null,null,null,796,"冠婚葬祭業"]
[null,null,null,null,null,null,null,null,799,"他に分類されない生活関連サービス業"]
[null,null,null,null,null,null,null,null,800,"管理，補助的経済活動を行う事業所（80娯楽業）"]
[null,null,null,null,null,null,null,null,801,"映画館"]
[null,null,null,null,null,null,null,null,802,"興行場（別掲を除く），興行団"]
[null,null,null,null,null,null,null,null,803,"競輪・競馬等の競走場，競技団"]
[null,null,null,null,null,null,null,null,804,"スポーツ施設提供業"]
[null,null,null,null,null,null,null,null,805,"公園，遊園地"]
[null,null,null,null,null,null,null,null,806,"遊戯場"]
[null,null,null,null,null,null,null,null,809,"その他の娯楽業"]
[null,null,null,null,null,null,null,null,810,"管理，補助的経済活動を行う事業所（81学校教育）"]
[null,null,null,null,null,null,null,null,811,"幼稚園"]
[null,null,null,null,null,null,null,null,812,"小学校"]
[null,null,null,null,null,null,null,null,813,"中学校"]
[null,null,null,null,null,null,null,null,814,"高等学校，中等教育学校"]
[null,null,null,null,null,null,null,null,815,"特別支援学校"]
[null,null,null,null,null,null,null,null,816,"高等教育機関"]
[null,null,null,null,null,null,null,null,817,"専修学校，各種学校"]
[null,null,null,null,null,null,null,null,818,"学校教育支援機関"]
[null,null,null,null,null,null,null,null,819,"幼保連携型認定こども園"]
[null,null,null,null,null,null,null,null,820,"管理，補助的経済活動を行う事業所（82その他の教育，学習支援業）"]
[null,null,null,null,null,null,null,null,821,"社会教育"]
[null,null,null,null,null,null,null,null,822,"職業・教育支援施設"]
[null,null,null,null,null,null,null,null,823,"学習塾"]
[null,null,null,null,null,null,null,null,824,"教養・技能教授業"]
[null,null,null,null,null,null,null,null,829,"他に分類されない教育，学習支援業"]
[null,null,null,null,null,null,null,null,830,"管理，補助的経済活動を行う事業所（83医療業）"]
[null,null,null,null,null,null,null,null,831,"病院"]
[null,null,null,null,null,null,null,null,832,"一般診療所"]
[null,null,null,null,null,null,null,null,833,"歯科診療所"]
[null,null,null,null,null,null,null,null,834,"助産・看護業"]
[null,null,null,null,null,null,null,null,835,"療術業"]
[null,null,null,null,null,null,null,null,836,"医療に附帯するサービス業"]
[null,null,null,null,null,null,null,null,840,"管理，補助的経済活動を行う事業所（84保健衛生）"]
[null,null,null,null,null,null,null,null,841,"保健所"]
[null,null,null,null,null,null,null,null,842,"健康相談施設"]
[null,null,null,null,null,null,null,null,849,"その他の保健衛生"]
[null,null,null,null,null,null,null,null,850,"管理，補助的経済活動を行う事業所（85社会保険・社会福祉・介護事業）"]
[null,null,null,null,null,null,null,null,851,"社会保険事業団体"]
[null,null,null,null,null,null,null,null,852,"福祉事務所"]
[null,null,null,null,null,null,null,null,853,"児童福祉事業"]
[null,null,null,null,null,null,null,null,854,"老人福祉・介護事業"]
[null,null,null,null,null,null,null,null,855,"障害者福祉事業"]
[null,null,null,null,null,null,null,null,859,"その他の社会保険・社会福祉・介護事業"]
[null,null,null,null,null,null,null,null,860,"管理，補助的経済活動を行う事業所（86郵便局）"]
[null,null,null,null,null,null,null,null,861,"郵便局"]
[null,null,null,null,null,null,null,null,862,"郵便局受託業"]
[null,null,null,null,null,null,null,null,870,"管理，補助的経済活動を行う事業所（87協同組合）"]
[null,null,null,null,null,null,null,null,871,"農林水産業協同組合（他に分類されないもの）"]
[null,null,null,null,null,null,null,null,872,"事業協同組合（他に分類されないもの）"]
[null,null,null,null,null,null,null,null,880,"管理，補助的経済活動を行う事業所（88廃棄物処理業）"]
[null,null,null,null,null,null,null,null,881,"一般廃棄物処理業"]
[null,null,null,null,null,null,null,null,882,"産業廃棄物処理業"]
[null,null,null,null,null,null,null,null,889,"その他の廃棄物処理業"]
[null,null,null,null,null,null,null,null,890,"管理，補助的経済活動を行う事業所（89自動車整備業）"]
[null,null,null,null,null,null,null,null,891,"自動車整備業"]
[null,null,null,null,null,null,null,null,900,"管理，補助的経済活動を行う事業所（90機械等修理業）"]
[null,null,null,null,null,null,null,null,901,"機械修理業（電気機械器具を除く）"]
[null,null,null,null,null,null,null,null,902,"電気機械器具修理業"]
[null,null,null,null,null,null,null,null,903,"表具業"]
[null,null,null,null,null,null,null,null,909,"その他の修理業"]
[null,null,null,null,null,null,null,null,910,"管理，補助的経済活動を行う事業所（91職業紹介・労働者派遣業）"]
[null,null,null,null,null,null,null,null,911,"職業紹介業"]
[null,null,null,null,null,null,null,null,912,"労働者派遣業"]
[null,null,null,null,null,null,null,null,920,"管理，補助的経済活動を行う事業所（92その他の事業サービス業）"]
[null,null,null,null,null,null,null,null,921,"速記・ワープロ入力・複写業"]
[null,null,null,null,null,null,null,null,922,"建物サービス業"]
[null,null,null,null,null,null,null,null,923,"警備業"]
[null,null,null,null,null,null,null,null,929,"他に分類されない事業サービス業"]
[null,null,null,null,null,null,null,null,931,"経済団体"]
[null,null,null,null,null,null,null,null,932,"労働団体"]
[null,null,null,null,null,null,null,null,933,"学術・文化団体"]
[null,null,null,null,null,null,null,null,934,"政治団体"]
[null,null,null,null,null,null,null,null,939,"他に分類されない非営利的団体"]
[null,null,null,null,null,null,null,null,941,"神道系宗教"]
[null,null,null,null,null,null,null,null,942,"仏教系宗教"]
[null,null,null,null,null,null,null,null,943,"キリスト教系宗教"]
[null,null,null,null,null,null,null,null,949,"その他の宗教"]
[null,null,null,null,null,null,null,null,950,"管理，補助的経済活動を行う事業所（95その他のサービス業）"]
[null,null,null,null,null,null,null,null,951,"集会場"]
[null,null,null,null,null,null,null,null,952,"と畜場"]
[null,null,null,null,null,null,null,null,959,"他に分類されないサービス業"]
[null,null,null,null,null,null,null,null,961,"外国公館"]
[null,null,null,null,null,null,null,null,969,"その他の外国公務"]
[null,null,null,null,null,null,null,null,971,"立法機関"]
[null,null,null,null,null,null,null,null,972,"司法機関"]
[null,null,null,null,null,null,null,null,973,"行政機関"]
[null,null,null,null,null,null,null,null,981,"都道府県機関"]
[null,null,null,null,null,null,null,null,982,"市町村機関"]
[null,null,null,null,null,null,null,null,999,"分類不能の産業"]