Workbook

Sheet 補助対象施設の利用状況表
B2: 補助対象施設の利用状況表（交付申請用）
AH3: 用途区分
B4: 従前施設（被災当時の施設）の概要 | Q4: 新施設（補助事業実施後の見込）の概要 | AH4: 事業用 | AI4: ○
B5: 名称(氏名) | Q5: 名称(氏名) | AH5: 対象外 | AI5: ×
AI6: －
B7: 所在地 | Q7: 所在地
B9: 所有者 | Q9: 所有者
B11: 構造 | Q11: 構造
B13: 階数 | F13: 地上 | N13: 地下 | Q13: 階数 | U13: 地上 | AC13: 地下
B15: 用途 | Q15: 用途
B17: 延床面積 ① | Q17: 延床面積 ①' | AB17: 延床面積増減 ①'－①
B19: 事業用面積 ② | F19: =F49 -> 0 | J19: 対象外面積 ③ | M19: =J49 -> 0 | Q19: 事業用面積 ②' | U19: =U49 -> 0 | Y19: 対象外面積 ③' | AB19: =Y49 -> 0
B21: ※延床面積は、図面（求積図）又は登記など根拠資料から転記してください。使用面積は、契約書等使用面積が分かる資料から面積を記載してください。
B22: ※うす黄色のセルは、自動計算です。別シートも同様です。
B23: 従前施設（被災当時の施設）の利用状況 | Q23: 新施設（補助事業実施後の見込）の利用状況
B24: 階 | D24: 使用者名 事業所名 用 途 | I24: 使用面積 （㎡） | L24: 事業用／対象外 | Q24: 階 | S24: 使用者名 事業所名 用 途 | X24: 使用面積 （㎡） | AA24: 事業用／対象外
A26: =IF(AND(L26="事業用",#REF!="○",#REF!="×",#REF!="×"),"対象",IF(AND(L26="事業用",#REF!="○",#REF!="×",#REF!="×"),"事業用対象外",IF(OR(L26=""),"-","対象外"))) -> #REF! | AE26: =IF(AND(AA26="事業用",#REF!="○",#REF!="×",#REF!="×"),"対象",IF(AND(AA26="事業用",#REF!="○",#REF!="×",#REF!="×"),"事業用対象外",IF(OR(AA26=""),"-","対象外"))) -> #REF!
A27: =IF(AND(L27="事業用",#REF!="○",#REF!="×",#REF!="×"),"対象",IF(AND(L27="事業用",#REF!="○",#REF!="×",#REF!="×"),"事業用対象外",IF(OR(L27=""),"-","対象外"))) -> #REF! | AE27: =IF(AND(AA27="事業用",#REF!="○",#REF!="×",#REF!="×"),"対象",IF(AND(AA27="事業用",#REF!="○",#REF!="×",#REF!="×"),"事業用対象外",IF(OR(AA27=""),"-","対象外"))) -> #REF!
A28: =IF(AND(L28="事業用",#REF!="○",#REF!="×",#REF!="×"),"対象",IF(AND(L28="事業用",#REF!="○",#REF!="×",#REF!="×"),"事業用対象外",IF(OR(L28=""),"-","対象外"))) -> #REF! | AE28: =IF(AND(AA28="事業用",#REF!="○",#REF!="×",#REF!="×"),"対象",IF(AND(AA28="事業用",#REF!="○",#REF!="×",#REF!="×"),"事業用対象外",IF(OR(AA28=""),"-","対象外"))) -> #REF!
A29: =IF(AND(L29="事業用",#REF!="○",#REF!="×",#REF!="×"),"対象",IF(AND(L29="事業用",#REF!="○",#REF!="×",#REF!="×"),"事業用対象外",IF(OR(L29=""),"-","対象外"))) -> #REF! | AE29: =IF(AND(AA29="事業用",#REF!="○",#REF!="×",#REF!="×"),"対象",IF(AND(AA29="事業用",#REF!="○",#REF!="×",#REF!="×"),"事業用対象外",IF(OR(AA29=""),"-","対象外"))) -> #REF!
A30: =IF(AND(L30="事業用",#REF!="○",#REF!="×",#REF!="×"),"対象",IF(AND(L30="事業用",#REF!="○",#REF!="×",#REF!="×"),"事業用対象外",IF(OR(L30=""),"-","対象外"))) -> #REF! | AE30: =IF(AND(AA30="事業用",#REF!="○",#REF!="×",#REF!="×"),"対象",IF(AND(AA30="事業用",#REF!="○",#REF!="×",#REF!="×"),"事業用対象外",IF(OR(AA30=""),"-","対象外"))) -> #REF!
A31: =IF(AND(L31="事業用",#REF!="○",#REF!="×",#REF!="×"),"対象",IF(AND(L31="事業用",#REF!="○",#REF!="×",#REF!="×"),"事業用対象外",IF(OR(L31=""),"-","対象外"))) -> #REF! | AE31: =IF(AND(AA31="事業用",#REF!="○",#REF!="×",#REF!="×"),"対象",IF(AND(AA31="事業用",#REF!="○",#REF!="×",#REF!="×"),"事業用対象外",IF(OR(AA31=""),"-","対象外"))) -> #REF!
A32: =IF(AND(L32="事業用",#REF!="○",#REF!="×",#REF!="×"),"対象",IF(AND(L32="事業用",#REF!="○",#REF!="×",#REF!="×"),"事業用対象外",IF(OR(L32=""),"-","対象外"))) -> #REF! | AE32: =IF(AND(AA32="事業用",#REF!="○",#REF!="×",#REF!="×"),"対象",IF(AND(AA32="事業用",#REF!="○",#REF!="×",#REF!="×"),"事業用対象外",IF(OR(AA32=""),"-","対象外"))) -> #REF!
A33: =IF(AND(L33="事業用",#REF!="○",#REF!="×",#REF!="×"),"対象",IF(AND(L33="事業用",#REF!="○",#REF!="×",#REF!="×"),"事業用対象外",IF(OR(L33=""),"-","対象外"))) -> #REF! | AE33: =IF(AND(AA33="事業用",#REF!="○",#REF!="×",#REF!="×"),"対象",IF(AND(AA33="事業用",#REF!="○",#REF!="×",#REF!="×"),"事業用対象外",IF(OR(AA33=""),"-","対象外"))) -> #REF!
A34: =IF(AND(L34="事業用",#REF!="○",#REF!="×",#REF!="×"),"対象",IF(AND(L34="事業用",#REF!="○",#REF!="×",#REF!="×"),"事業用対象外",IF(OR(L34=""),"-","対象外"))) -> #REF! | AE34: =IF(AND(AA34="事業用",#REF!="○",#REF!="×",#REF!="×"),"対象",IF(AND(AA34="事業用",#REF!="○",#REF!="×",#REF!="×"),"事業用対象外",IF(OR(AA34=""),"-","対象外"))) -> #REF!
A35: =IF(AND(L35="事業用",#REF!="○",#REF!="×",#REF!="×"),"対象",IF(AND(L35="事業用",#REF!="○",#REF!="×",#REF!="×"),"事業用対象外",IF(OR(L35=""),"-","対象外"))) -> #REF! | AE35: =IF(AND(AA35="事業用",#REF!="○",#REF!="×",#REF!="×"),"対象",IF(AND(AA35="事業用",#REF!="○",#REF!="×",#REF!="×"),"事業用対象外",IF(OR(AA35=""),"-","対象外"))) -> #REF!
A36: =IF(AND(L36="事業用",#REF!="○",#REF!="×",#REF!="×"),"対象",IF(AND(L36="事業用",#REF!="○",#REF!="×",#REF!="×"),"事業用対象外",IF(OR(L36=""),"-","対象外"))) -> #REF! | AE36: =IF(AND(AA36="事業用",#REF!="○",#REF!="×",#REF!="×"),"対象",IF(AND(AA36="事業用",#REF!="○",#REF!="×",#REF!="×"),"事業用対象外",IF(OR(AA36=""),"-","対象外"))) -> #REF!
A37: =IF(AND(L37="事業用",#REF!="○",#REF!="×",#REF!="×"),"対象",IF(AND(L37="事業用",#REF!="○",#REF!="×",#REF!="×"),"事業用対象外",IF(OR(L37=""),"-","対象外"))) -> #REF! | AE37: =IF(AND(AA37="事業用",#REF!="○",#REF!="×",#REF!="×"),"対象",IF(AND(AA37="事業用",#REF!="○",#REF!="×",#REF!="×"),"事業用対象外",IF(OR(AA37=""),"-","対象外"))) -> #REF!
... A41: =IF(AND(L41="事業用",#REF!="○",#REF!="×",#REF!="×"),"対象",IF(AND(L41="事業用",#REF!="○",#REF!="×",#REF!="×"),"事業用対象外",IF(OR(L41=""),"-","対象外"))) -> #REF! | AE41: =IF(AND(AA41="事業用",#REF!="○",#REF!="×",#REF!="×"),"対象",IF(AND(AA41="事業用",#REF!="○",#REF!="×",#REF!="×"),"事業用対象外",IF(OR(AA41=""),"-","対象外"))) -> #REF!
B43: ※面積は、小数点以下第３位を切り捨てて入力してください。
B46: [従前施設] | Q46: [新施設]
B47: 延床面積 | F47: 事業用面積 | J47: 対象外面積 | N47: 共用面積 | Q47: 延床面積 | U47: 事業用面積 | Y47: 対象外面積 | AC47: 共用面積
B49: =F17 -> 0 | F49: =SUMIF(L26:O41,"事業用",I26:K41) -> 0 | J49: =SUMIF(L26:O41,"対象外",I26:K41) -> 0 | N49: =B49-(F49+J49) -> 0 | Q49: =U17 -> 0 | U49: =SUMIF(AA26:AD41,"事業用",X26:Z41) -> 0 | Y49: =SUMIF(AA26:AD41,"対象外",X26:Z41) -> 0 | AC49: =Q49-(U49+Y49) -> 0

Sheet 事業費等入力シート
B1: 事業費等入力シート
B4: ●原状回復費用の見積金額（税抜）
B5: （手順1）
B6: 従前施設（従前設備）の原状回復費用の見積金額（税抜）を事業用経費、対象外経費、全体影響事業費に区分する。
B7: 項 目 | F7: 事業用途のみの事業費（ア） | M7: 対象外経費（イ） | T7: 全体影響事業費（ウ） | AA7: 合計
B8: 施設費 | L8: 円 | S8: 円 | Z8: 円 | AA8: =SUM(F8,M8,T8) -> 0 | AG8: 円
B9: 設備費 | L9: 円 | S9: 円 | Z9: 円 | AA9: =SUM(F9,M9,T9) -> 0 | AG9: 円
B10: 合計 | F10: =SUM(F8:K9) -> 0 | L10: 円 | M10: =SUM(M8:R9) -> 0 | S10: 円 | T10: =SUM(T8:Y9) -> 0 | Z10: 円 | AA10: =SUM(AA8:AF9) -> 0 | AG10: 円
B15: ●実際に行う施設（設備）の工事費用の見積金額（税抜）
B16: （手順2）
B17: 実際に行う施設（設備）の工事費用の見積金額（税抜）を事業用経費、対象外経費、全体影響事業費に区分する。
B18: 項 目 | F18: 事業用途のみの事業費（ア） | M18: 対象外経費（イ） | T18: 全体影響事業費（ウ） | AA18: 合計
B19: 施設費 | L19: 円 | S19: 円 | Z19: 円 | AA19: =SUM(F19,M19,T19) -> 0 | AG19: 円
B20: 設備費 | L20: 円 | S20: 円 | Z20: 円 | AA20: =SUM(F20,M20,T20) -> 0 | AG20: 円
B21: 合計 | F21: =SUM(F19:K20) -> 0 | L21: 円 | M21: =SUM(M19:R20) -> 0 | S21: 円 | T21: =SUM(T19:Y20) -> 0 | Z21: 円 | AA21: =SUM(AA19:AF20) -> 0 | AG21: 円

Sheet 按分計算書2
A1: 按分計算書
A3: 《原状回復費用の補助対象経費の算出》
A4: （手順1）補助対象施設の利用状況表の従前施設の各面積から「事業用面積に占める補助対象面積割合」と「延床面積に占める補助対象面積割合」を算出する。
B6: 項 目 | H6: 面積
B7: 延床面積 | H7: =SUM(補助対象施設の利用状況表!B49) -> 0 | O7: ㎡ | P7: ・・・Ａ | Y7: R | Z7: 事業用面積に占める | AF7: （Ｂ－Ｃ）／Ｂ
B8: 事業用面積 | H8: =SUM(補助対象施設の利用状況表!F49) -> 0 | O8: ㎡ | P8: ・・・Ｂ | Z8: 補助対象面積割合 | AF8: ＝ | AG8: =IF(H9>0,(H8-H9)/H8,1) -> #REF!
C9: 事業用対象外面積 | H9: =SUM(補助対象施設の利用状況表!#REF!) -> #REF! | O9: ㎡ | P9: ・・・Ｃ | R9: （ＣはＢの内数） | Z9: ※標記の率は参考です。端数処理はしません。
B10: 対象外面積 | H10: =SUM(補助対象施設の利用状況表!J49) -> 0 | O10: ㎡ | P10: ・・・Ｄ | Y10: S | Z10: 延床面積に占める | AG10: （Ｂ＋Ｆ－Ｃ）／Ａ
B11: 共用面積 | H11: =H7-(H8+H10) -> 0 | O11: ㎡ | P11: ・・・Ｅ＝Ａ－（Ｂ＋Ｄ） | Z11: 補助対象面積割合 | AF11: ＝ | AG11: =IF(OR(H9>0,H10>0),(H8-H9+H12)/H7,1) -> #REF!
C12: 対象共用面積 | H12: =H11*H8/(H8+H10) -> #DIV/0! | O12: ㎡ | P12: ・・・Ｆ＝Ｅ×［Ｂ／（Ｂ＋Ｄ）］ | Z12: ※標記の率は参考です。端数処理はしません。
A14: （手順2）実際に行う施設（設備）の工事費用の見積金額（税抜）を事業用経費、対象外経費、全体影響事業費に区分する。
B16: 項 目 | F16: 事業用途のみの事業費（ア） | N16: 対象外経費（イ） | V16: 全体影響事業費（ウ） | AD16: 合計
B17: 施設費 | F17: =SUM(事業費等入力シート!F19) -> 0 | M17: 円 | N17: =SUM(事業費等入力シート!M19) -> 0 | U17: 円 | V17: =SUM(事業費等入力シート!T19) -> 0 | AC17: 円 | AD17: =SUM(F17,N17,V17) -> 0 | AK17: 円
B18: 設備費 | F18: =SUM(事業費等入力シート!F20) -> 0 | M18: 円 | N18: =SUM(事業費等入力シート!M20) -> 0 | U18: 円 | V18: =SUM(事業費等入力シート!T20) -> 0 | AC18: 円 | AD18: =SUM(F18,N18,V18) -> 0 | AK18: 円
B19: 合計 | F19: =SUM(F17:L18) -> 0 | M19: 円 | N19: =SUM(N17:T18) -> 0 | U19: 円 | V19: =SUM(V17:AB18) -> 0 | AC19: 円 | AD19: =SUM(AD17:AJ18) -> 0 | AK19: 円
A21: （手順3）各区分の事業費を延床面積で割戻し、原状回復費用を算出する。
B23: 各区分の原状回復費用（対象外経費除く） | H23: ＝ | I23: 各区分の事業費 × Ｔ（従前施設の延床面積／新施設の延床面積） ※円未満の端数は切捨て
O26: 施設費 | T26: 設備費
B27: 事業用途のみの事業費（ア）’ | N27: ＝ | O27: =IF(AND(AF29>0,F17>0),INT(F17*AF28/H44),0) -> 0 | S27: 円 | T27: =IF(AND(AF29>0,F18>0),INT(F18*AF28/H44),0) -> 0 | X27: 円 | Z27: 項 目 | AF27: 面 積
B28: 対象外経費（イ）’ | N28: ＝ | O28: =IF(AND(AF29>0,N17>0),INT(N17*AF28/H44),0) -> 0 | S28: 円 | T28: =IF(AND(AF29>0,N18>0),INT(N18*AF28/H44),0) -> 0 | X28: 円 | Z28: 従前施設の延床面積 | AF28: =SUM(補助対象施設の利用状況表!F17) -> 0 | AK28: ㎡
B29: 全体影響事業費（ウ）’ | N29: ＝ | O29: =IF(AND(AF29>0,V17>0),INT(V17*AF28/H44),0) -> 0 | S29: 円 | T29: =IF(AND(AF29>0,V18>0),INT(V18*AF28/H44),0) -> 0 | X29: 円 | Z29: 新施設の延床面積 | AF29: =SUM(補助対象施設の利用状況表!U17) -> 0 | AK29: ㎡
B30: 原状回復費用 | N30: ＝ | O30: =SUM(O27:R29) -> 0 | S30: 円 | T30: =SUM(T27:W29) -> 0 | X30: 円 | Z30: ★割戻の率（Ｔ） | AF30: =IF(AF29>0,(AF28/AF29),1) -> 1
Z31: ※標記の率は参考です。端数処理はしません。
A32: （手順4）次の算式により、按分計算を行い補助対象経費を算出する。
B34: 補助対象経費 | H34: ＝ | I34: （ア）’ × Ｒ | N34: ＋ | Q34: （ウ）’ × Ｓ | V34: ＝ | W34: =Z37+AH37 -> #REF! | AF34: 円
I36: ※ここで一度円未満切捨てます。 | W36: ※さらにもう一度円未満を切捨てます。
S37: ※上記内訳 | W37: 施設費 | Z37: =INT(INT(O27*AG8)+INT(O29*AG11)) -> #REF! | AE37: 設備費 | AH37: =INT(INT(T27*AG8)+INT(T29*AG11)) -> #REF!
A40: 《実際に行う工事の補助対象経費の算出》
A41: （手順５）補助対象施設の利用状況表の新施設の各面積から「事業用面積に占める補助対象面積割合」と「延床面積に占める補助対象面積割合」を算出する。
B43: 項 目 | H43: 面積
B44: 延床面積 | H44: =SUM(補助対象施設の利用状況表!Q49) -> 0 | O44: ㎡ | P44: ・・・ａ | Y44: R | Z44: 事業用面積に占める | AF44: （b－c）／b
B45: 事業用面積 | H45: =SUM(補助対象施設の利用状況表!U49) -> 0 | O45: ㎡ | P45: ・・・ｂ | Z45: 補助対象面積割合 | AF45: ＝ | AG45: =IF(H46>0,(H45-H46)/H45,1) -> #REF!
C46: 事業用対象外面積 | H46: =SUM(補助対象施設の利用状況表!#REF!) -> #REF! | O46: ㎡ | P46: ・・・ｃ | R46: （ｃはｂの内数） | Z46: ※標記の率は参考です。端数処理はしません。
B47: 対象外面積 | H47: =SUM(補助対象施設の利用状況表!Y49) -> 0 | O47: ㎡ | P47: ・・・ｄ | Y47: S | Z47: 延床面積に占める | AG47: （b＋f－c）／a
B48: 共用面積 | H48: =H44-(H45+H47) -> 0 | O48: ㎡ | P48: ・・・ｅ＝ａ－（ｂ＋ｄ） | Z48: 補助対象面積割合 | AF48: ＝ | AG48: =IF(OR(H46>0,H47>0),(H45-H46+H49)/H44,1) -> #REF!
C49: 対象共用面積 | H49: =H48*H45/(H45+H47) -> #DIV/0! | O49: ㎡ | P49: ・・・ｆ＝ｅ×［ｂ／（ｂ＋ｄ）］ | Z49: ※標記の率は参考です。端数処理はしません。
A51: （手順6）実際に行う施設（設備）の工事費用の見積金額（税抜）を事業用経費、対象外経費、全体影響事業費に区分する。
B53: 項 目 | F53: 事業用途のみの事業費（ア） | N53: 対象外経費（イ） | V53: 全体影響事業費（ウ） | AD53: 合計
B54: 施設費 | F54: =SUM(事業費等入力シート!F19) -> 0 | M54: 円 | N54: =SUM(事業費等入力シート!M19) -> 0 | U54: 円 | V54: =SUM(事業費等入力シート!T19) -> 0 | AC54: 円 | AD54: =SUM(F54,N54,V54) -> 0 | AK54: 円
B55: 設備費 | F55: =SUM(事業費等入力シート!F20) -> 0 | M55: 円 | N55: =SUM(事業費等入力シート!M20) -> 0 | U55: 円 | V55: =SUM(事業費等入力シート!T20) -> 0 | AC55: 円 | AD55: =SUM(F55,N55,V55) -> 0 | AK55: 円
...
