Workbook

Sheet list (大分類) 
A1: 1 | B1: 類番号 | C1: 2020年基準品目 | D1: ウエイト | E1: 2025年平均 | F1: 2025.1 | G1: 2025.2 | H1: 2025.3 | I1: 2025.4 | J1: 2025.5 | K1: 2025.6 | L1: 2025.7 | M1: 2025.8 | N1: 2025.9 | O1: 2025.10 | P1: 2025.11 | Q1: 2025.12 | R1: 2026.1 | S1: 2026.2 | T1: 2026.3 | U1: 2026.4 | V1: 2026.5 | W1: 2026.6 | X1: 2026.7 | Y1: 2026.8 | Z1: 2026.9
A2: 2 | B2: 1 | C2: 0001 総合 | D2: =HLOOKUP(D$1,list!$D$1:$Z$83,$A2,FALSE) -> 10000 | E2: =HLOOKUP(E$1,list!$D$1:$Z$83,$A2,FALSE) -> 100 | F2: =HLOOKUP(F$1,list!$F$1:$Z$83,$A2,FALSE) -> 99.2 | G2: =HLOOKUP(G$1,list!$F$1:$Z$83,$A2,FALSE) -> 98.8 | H2: =HLOOKUP(H$1,list!$F$1:$Z$83,$A2,FALSE) -> 99.2 | I2: =HLOOKUP(I$1,list!$F$1:$Z$83,$A2,FALSE) -> 99.4 | J2: =HLOOKUP(J$1,list!$F$1:$Z$83,$A2,FALSE) -> 99.8 | K2: =HLOOKUP(K$1,list!$F$1:$Z$83,$A2,FALSE) -> 101.4 | L2: =HLOOKUP(L$1,list!$F$1:$Z$83,$A2,FALSE) -> 100.1 | M2: =HLOOKUP(M$1,list!$F$1:$Z$83,$A2,FALSE) -> 100.4 | ... Z2: =HLOOKUP(Z$1,list!$F$1:$Z$83,$A2,FALSE) -> 101.7
A3: 3 | B3: 2 | C3: 0002 食料 | D3: =HLOOKUP(D$1,list!$D$1:$Z$83,$A3,FALSE) -> 2898 | E3: =HLOOKUP(E$1,list!$D$1:$Z$83,$A3,FALSE) -> 100 | F3: =HLOOKUP(F$1,list!$F$1:$Z$83,$A3,FALSE) -> 98.8 | G3: =HLOOKUP(G$1,list!$F$1:$Z$83,$A3,FALSE) -> 98.1 | H3: =HLOOKUP(H$1,list!$F$1:$Z$83,$A3,FALSE) -> 98.4 | I3: =HLOOKUP(I$1,list!$F$1:$Z$83,$A3,FALSE) -> 98.7 | J3: =HLOOKUP(J$1,list!$F$1:$Z$83,$A3,FALSE) -> 98.8 | K3: =HLOOKUP(K$1,list!$F$1:$Z$83,$A3,FALSE) -> 102.1 | L3: =HLOOKUP(L$1,list!$F$1:$Z$83,$A3,FALSE) -> 99.8 | M3: =HLOOKUP(M$1,list!$F$1:$Z$83,$A3,FALSE) -> 101.1 | ... Z3: =HLOOKUP(Z$1,list!$F$1:$Z$83,$A3,FALSE) -> 103.7
A4: 19 | B4: 45 | C4: 0045 住居 | D4: =HLOOKUP(D$1,list!$D$1:$Z$83,$A4,FALSE) -> 1915 | E4: =HLOOKUP(E$1,list!$D$1:$Z$83,$A4,FALSE) -> 100 | F4: =HLOOKUP(F$1,list!$F$1:$Z$83,$A4,FALSE) -> 99.9 | G4: =HLOOKUP(G$1,list!$F$1:$Z$83,$A4,FALSE) -> 100 | H4: =HLOOKUP(H$1,list!$F$1:$Z$83,$A4,FALSE) -> 100.1 | I4: =HLOOKUP(I$1,list!$F$1:$Z$83,$A4,FALSE) -> 100.1 | J4: =HLOOKUP(J$1,list!$F$1:$Z$83,$A4,FALSE) -> 99.9 | K4: =HLOOKUP(K$1,list!$F$1:$Z$83,$A4,FALSE) -> 100.3 | L4: =HLOOKUP(L$1,list!$F$1:$Z$83,$A4,FALSE) -> 100 | M4: =HLOOKUP(M$1,list!$F$1:$Z$83,$A4,FALSE) -> 99.7 | ... Z4: =HLOOKUP(Z$1,list!$F$1:$Z$83,$A4,FALSE) -> 100.8
A5: 22 | B5: 54 | C5: 0054 光熱・水道 | D5: =HLOOKUP(D$1,list!$D$1:$Z$83,$A5,FALSE) -> 670 | E5: =HLOOKUP(E$1,list!$D$1:$Z$83,$A5,FALSE) -> 100 | F5: =HLOOKUP(F$1,list!$F$1:$Z$83,$A5,FALSE) -> 102.3 | G5: =HLOOKUP(G$1,list!$F$1:$Z$83,$A5,FALSE) -> 97.4 | H5: =HLOOKUP(H$1,list!$F$1:$Z$83,$A5,FALSE) -> 97.6 | I5: =HLOOKUP(I$1,list!$F$1:$Z$83,$A5,FALSE) -> 100.2 | J5: =HLOOKUP(J$1,list!$F$1:$Z$83,$A5,FALSE) -> 103.4 | K5: =HLOOKUP(K$1,list!$F$1:$Z$83,$A5,FALSE) -> 102.7 | L5: =HLOOKUP(L$1,list!$F$1:$Z$83,$A5,FALSE) -> 102.4 | M5: =HLOOKUP(M$1,list!$F$1:$Z$83,$A5,FALSE) -> 97.9 | ... Z5: =HLOOKUP(Z$1,list!$F$1:$Z$83,$A5,FALSE) -> 90.1
A6: 27 | B6: 60 | C6: 0060 家具・家事用品 | D6: =HLOOKUP(D$1,list!$D$1:$Z$83,$A6,FALSE) -> 381 | E6: =HLOOKUP(E$1,list!$D$1:$Z$83,$A6,FALSE) -> 100 | F6: =HLOOKUP(F$1,list!$F$1:$Z$83,$A6,FALSE) -> 96.7 | G6: =HLOOKUP(G$1,list!$F$1:$Z$83,$A6,FALSE) -> 97.7 | H6: =HLOOKUP(H$1,list!$F$1:$Z$83,$A6,FALSE) -> 99.5 | I6: =HLOOKUP(I$1,list!$F$1:$Z$83,$A6,FALSE) -> 98.4 | J6: =HLOOKUP(J$1,list!$F$1:$Z$83,$A6,FALSE) -> 101.7 | K6: =HLOOKUP(K$1,list!$F$1:$Z$83,$A6,FALSE) -> 102.5 | L6: =HLOOKUP(L$1,list!$F$1:$Z$83,$A6,FALSE) -> 99.4 | M6: =HLOOKUP(M$1,list!$F$1:$Z$83,$A6,FALSE) -> 102.2 | ... Z6: =HLOOKUP(Z$1,list!$F$1:$Z$83,$A6,FALSE) -> 107.2
A7: 34 | B7: 82 | C7: 0082 被服及び履物 | D7: =HLOOKUP(D$1,list!$D$1:$Z$83,$A7,FALSE) -> 353 | E7: =HLOOKUP(E$1,list!$D$1:$Z$83,$A7,FALSE) -> 100 | F7: =HLOOKUP(F$1,list!$F$1:$Z$83,$A7,FALSE) -> 97.8 | G7: =HLOOKUP(G$1,list!$F$1:$Z$83,$A7,FALSE) -> 98.9 | H7: =HLOOKUP(H$1,list!$F$1:$Z$83,$A7,FALSE) -> 99.6 | I7: =HLOOKUP(I$1,list!$F$1:$Z$83,$A7,FALSE) -> 100.3 | J7: =HLOOKUP(J$1,list!$F$1:$Z$83,$A7,FALSE) -> 100.3 | K7: =HLOOKUP(K$1,list!$F$1:$Z$83,$A7,FALSE) -> 100.3 | L7: =HLOOKUP(L$1,list!$F$1:$Z$83,$A7,FALSE) -> 99.5 | M7: =HLOOKUP(M$1,list!$F$1:$Z$83,$A7,FALSE) -> 97.3 | ... Z7: =HLOOKUP(Z$1,list!$F$1:$Z$83,$A7,FALSE) -> 98.2
A8: 44 | B8: 107 | C8: 0107 保健医療 | D8: =HLOOKUP(D$1,list!$D$1:$Z$83,$A8,FALSE) -> 461 | E8: =HLOOKUP(E$1,list!$D$1:$Z$83,$A8,FALSE) -> 100 | F8: =HLOOKUP(F$1,list!$F$1:$Z$83,$A8,FALSE) -> 98.4 | G8: =HLOOKUP(G$1,list!$F$1:$Z$83,$A8,FALSE) -> 98.3 | H8: =HLOOKUP(H$1,list!$F$1:$Z$83,$A8,FALSE) -> 98.5 | I8: =HLOOKUP(I$1,list!$F$1:$Z$83,$A8,FALSE) -> 98.4 | J8: =HLOOKUP(J$1,list!$F$1:$Z$83,$A8,FALSE) -> 100.1 | K8: =HLOOKUP(K$1,list!$F$1:$Z$83,$A8,FALSE) -> 102.3 | L8: =HLOOKUP(L$1,list!$F$1:$Z$83,$A8,FALSE) -> 101 | M8: =HLOOKUP(M$1,list!$F$1:$Z$83,$A8,FALSE) -> 100.7 | ... Z8: =HLOOKUP(Z$1,list!$F$1:$Z$83,$A8,FALSE) -> 103.2
A9: 48 | B9: 111 | C9: 0111 交通・通信 | D9: =HLOOKUP(D$1,list!$D$1:$Z$83,$A9,FALSE) -> 1497 | E9: =HLOOKUP(E$1,list!$D$1:$Z$83,$A9,FALSE) -> 100 | F9: =HLOOKUP(F$1,list!$F$1:$Z$83,$A9,FALSE) -> 98.3 | G9: =HLOOKUP(G$1,list!$F$1:$Z$83,$A9,FALSE) -> 98.7 | H9: =HLOOKUP(H$1,list!$F$1:$Z$83,$A9,FALSE) -> 99.2 | I9: =HLOOKUP(I$1,list!$F$1:$Z$83,$A9,FALSE) -> 99.2 | J9: =HLOOKUP(J$1,list!$F$1:$Z$83,$A9,FALSE) -> 99 | K9: =HLOOKUP(K$1,list!$F$1:$Z$83,$A9,FALSE) -> 102.6 | L9: =HLOOKUP(L$1,list!$F$1:$Z$83,$A9,FALSE) -> 100.5 | M9: =HLOOKUP(M$1,list!$F$1:$Z$83,$A9,FALSE) -> 101.1 | ... Z9: =HLOOKUP(Z$1,list!$F$1:$Z$83,$A9,FALSE) -> 103.3
A10: 52 | B10: 118 | C10: 0118 教育 | D10: =HLOOKUP(D$1,list!$D$1:$Z$83,$A10,FALSE) -> 237 | E10: =HLOOKUP(E$1,list!$D$1:$Z$83,$A10,FALSE) -> 100 | F10: =HLOOKUP(F$1,list!$F$1:$Z$83,$A10,FALSE) -> 106.9 | G10: =HLOOKUP(G$1,list!$F$1:$Z$83,$A10,FALSE) -> 107.1 | H10: =HLOOKUP(H$1,list!$F$1:$Z$83,$A10,FALSE) -> 107.8 | I10: =HLOOKUP(I$1,list!$F$1:$Z$83,$A10,FALSE) -> 97.4 | J10: =HLOOKUP(J$1,list!$F$1:$Z$83,$A10,FALSE) -> 97.6 | K10: =HLOOKUP(K$1,list!$F$1:$Z$83,$A10,FALSE) -> 88.4 | L10: =HLOOKUP(L$1,list!$F$1:$Z$83,$A10,FALSE) -> 97.6 | M10: =HLOOKUP(M$1,list!$F$1:$Z$83,$A10,FALSE) -> 97.6 | ... Z10: =HLOOKUP(Z$1,list!$F$1:$Z$83,$A10,FALSE) -> 88.4
A11: 56 | B11: 122 | C11: 0122 教養娯楽 | D11: =HLOOKUP(D$1,list!$D$1:$Z$83,$A11,FALSE) -> 962 | E11: =HLOOKUP(E$1,list!$D$1:$Z$83,$A11,FALSE) -> 100 | F11: =HLOOKUP(F$1,list!$F$1:$Z$83,$A11,FALSE) -> 98 | G11: =HLOOKUP(G$1,list!$F$1:$Z$83,$A11,FALSE) -> 98.6 | H11: =HLOOKUP(H$1,list!$F$1:$Z$83,$A11,FALSE) -> 98.9 | I11: =HLOOKUP(I$1,list!$F$1:$Z$83,$A11,FALSE) -> 100.3 | J11: =HLOOKUP(J$1,list!$F$1:$Z$83,$A11,FALSE) -> 100.2 | K11: =HLOOKUP(K$1,list!$F$1:$Z$83,$A11,FALSE) -> 101.4 | L11: =HLOOKUP(L$1,list!$F$1:$Z$83,$A11,FALSE) -> 100 | M11: =HLOOKUP(M$1,list!$F$1:$Z$83,$A11,FALSE) -> 101.3 | ... Z11: =HLOOKUP(Z$1,list!$F$1:$Z$83,$A11,FALSE) -> 104.1
A12: 61 | B12: 145 | C12: 0145 諸雑費 | D12: =HLOOKUP(D$1,list!$D$1:$Z$83,$A12,FALSE) -> 625 | E12: =HLOOKUP(E$1,list!$D$1:$Z$83,$A12,FALSE) -> 100 | F12: =HLOOKUP(F$1,list!$F$1:$Z$83,$A12,FALSE) -> 99.2 | G12: =HLOOKUP(G$1,list!$F$1:$Z$83,$A12,FALSE) -> 98.9 | H12: =HLOOKUP(H$1,list!$F$1:$Z$83,$A12,FALSE) -> 99.3 | I12: =HLOOKUP(I$1,list!$F$1:$Z$83,$A12,FALSE) -> 99.8 | J12: =HLOOKUP(J$1,list!$F$1:$Z$83,$A12,FALSE) -> 99.6 | K12: =HLOOKUP(K$1,list!$F$1:$Z$83,$A12,FALSE) -> 102 | L12: =HLOOKUP(L$1,list!$F$1:$Z$83,$A12,FALSE) -> 100.2 | M12: =HLOOKUP(M$1,list!$F$1:$Z$83,$A12,FALSE) -> 100.2 | ... Z12: =HLOOKUP(Z$1,list!$F$1:$Z$83,$A12,FALSE) -> 102.5
A13: 67 | B13: 157 | C13: 0157 生鮮食品 | D13: =HLOOKUP(D$1,list!$D$1:$Z$83,$A13,FALSE) -> 360 | E13: =HLOOKUP(E$1,list!$D$1:$Z$83,$A13,FALSE) -> 100 | F13: =HLOOKUP(F$1,list!$F$1:$Z$83,$A13,FALSE) -> 112.8 | G13: =HLOOKUP(G$1,list!$F$1:$Z$83,$A13,FALSE) -> 105.4 | H13: =HLOOKUP(H$1,list!$F$1:$Z$83,$A13,FALSE) -> 101.2 | I13: =HLOOKUP(I$1,list!$F$1:$Z$83,$A13,FALSE) -> 95.4 | J13: =HLOOKUP(J$1,list!$F$1:$Z$83,$A13,FALSE) -> 91.9 | K13: =HLOOKUP(K$1,list!$F$1:$Z$83,$A13,FALSE) -> 98.6 | L13: =HLOOKUP(L$1,list!$F$1:$Z$83,$A13,FALSE) -> 96.1 | M13: =HLOOKUP(M$1,list!$F$1:$Z$83,$A13,FALSE) -> 100.5 | ... Z13: =HLOOKUP(Z$1,list!$F$1:$Z$83,$A13,FALSE) -> 105.8
... A28: 82 | B28: 169 | C28: 0169 情報通信関係費 | D28: =HLOOKUP(D$1,list!$D$1:$Z$83,$A28,FALSE) -> 455 | E28: =HLOOKUP(E$1,list!$D$1:$Z$83,$A28,FALSE) -> 100 | F28: =HLOOKUP(F$1,list!$F$1:$Z$83,$A28,FALSE) -> 96.6 | G28: =HLOOKUP(G$1,list!$F$1:$Z$83,$A28,FALSE) -> 96.6 | H28: =HLOOKUP(H$1,list!$F$1:$Z$83,$A28,FALSE) -> 96.6 | I28: =HLOOKUP(I$1,list!$F$1:$Z$83,$A28,FALSE) -> 96.6 | J28: =HLOOKUP(J$1,list!$F$1:$Z$83,$A28,FALSE) -> 96.6 | K28: =HLOOKUP(K$1,list!$F$1:$Z$83,$A28,FALSE) -> 104.7 | L28: =HLOOKUP(L$1,list!$F$1:$Z$83,$A28,FALSE) -> 101.7 | M28: =HLOOKUP(M$1,list!$F$1:$Z$83,$A28,FALSE) -> 102.3 | ... Z28: =HLOOKUP(Z$1,list!$F$1:$Z$83,$A28,FALSE) -> 103.5

Sheet list
A1: 1 | B1: 類番号 | C1: 2025年基準品目 | D1: ウエイト | E1: 2025年平均 | F1: 2025.1 | G1: 2025.2 | H1: 2025.3 | I1: 2025.4 | J1: 2025.5 | K1: 2025.6 | L1: 2025.7 | M1: 2025.8 | N1: 2025.9 | O1: 2025.10 | P1: 2025.11 | Q1: 2025.12 | R1: 2026.1 | S1: 2026.2 | T1: 2026.3 | U1: 2026.4 | V1: 2026.5 | W1: 2026.6 | X1: 2026.7 | Y1: 2026.8 | Z1: 2026.9 | AA1: 全期間（2025.1～） | AB1: 最大値 －最小値
A2: 2 | B2: 1 | C2: 0001 総合 | D2: 10000 | E2: 100 | F2: 99.2 | G2: 98.8 | H2: 99.2 | I2: 99.4 | J2: 99.8 | K2: 101.4 | L2: 100.1 | M2: 100.4 | N2: 100.3 | O2: 100.9 | P2: 101.1 | Q2: 100.9 | R2: 100.6 | S2: 100.2 | T2: 100.3 | U2: 100.7 | V2: 101.2 | W2: 101.4 | X2: 102 | Y2: 101.8 | Z2: 101.7 | AB2: =ROUND(MAX(F2:Z2)-MIN(F2:Z2),1) -> 3.2
A3: 3 | B3: 2 | C3: 0002 食料 | D3: 2898 | E3: 100 | F3: 98.8 | G3: 98.1 | H3: 98.4 | I3: 98.7 | J3: 98.8 | K3: 102.1 | L3: 99.8 | M3: 101.1 | N3: 101.4 | O3: 101.8 | P3: 101.6 | Q3: 101.9 | R3: 102.1 | S3: 102.5 | T3: 101.8 | U3: 101.3 | V3: 101.9 | W3: 102.1 | X3: 103.1 | Y3: 104 | Z3: 103.7 | AB3: =ROUND(MAX(F3:Z3)-MIN(F3:Z3),1) -> 5.9
A4: 4 | B4: 3 | C4: 0003 穀類 | D4: 259 | E4: 100 | F4: 92.1 | G4: 95.1 | H4: 98.9 | I4: 103.3 | J4: 102.4 | K4: 100.7 | L4: 101.5 | M4: 99.1 | N4: 100.3 | O4: 102.9 | P4: 101.6 | Q4: 101.4 | R4: 103.3 | S4: 106 | T4: 103.2 | U4: 103.7 | V4: 101.9 | W4: 100.7 | X4: 102 | Y4: 97.7 | Z4: 95.5 | AB4: =ROUND(MAX(F4:Z4)-MIN(F4:Z4),1) -> 13.9
A5: 5 | B5: 8 | C5: 0008 魚介類 | D5: 162 | E5: 100 | F5: 98.2 | G5: 99.1 | H5: 98.2 | I5: 100.5 | J5: 99.8 | K5: 104.7 | L5: 101.5 | M5: 100.5 | N5: 100.9 | O5: 100.7 | P5: 99.9 | Q5: 100.3 | R5: 102.8 | S5: 103.1 | T5: 102.9 | U5: 103.2 | V5: 102.9 | W5: 104.7 | X5: 103.2 | Y5: 104.1 | Z5: 106.8 | AB5: =ROUND(MAX(F5:Z5)-MIN(F5:Z5),1) -> 8.6
A6: 6 | B6: 9 | C6: 0009 生鮮魚介 | D6: 91 | E6: 100 | F6: 98.3 | G6: 100.4 | H6: 97.9 | I6: 101.6 | J6: 98.8 | K6: 107.2 | L6: 102.3 | M6: 99.7 | N6: 100.8 | O6: 99.4 | P6: 99.1 | Q6: 100.7 | R6: 105.1 | S6: 106.4 | T6: 105 | U6: 105.5 | V6: 106.4 | W6: 107.2 | X6: 105.9 | Y6: 108.1 | Z6: 111.3 | AB6: =ROUND(MAX(F6:Z6)-MIN(F6:Z6),1) -> 13.4
A7: 7 | B7: 13 | C7: 0013 肉類 | D7: 282 | E7: 100 | F7: 98.9 | G7: 96.7 | H7: 98 | I7: 97.8 | J7: 98.1 | K7: 98.9 | L7: 102 | M7: 102 | N7: 103.6 | O7: 100.5 | P7: 100.2 | Q7: 100.5 | R7: 101.1 | S7: 101.2 | T7: 98.7 | U7: 99.3 | V7: 99.2 | W7: 98.9 | X7: 101 | Y7: 102.2 | Z7: 103.5 | AB7: =ROUND(MAX(F7:Z7)-MIN(F7:Z7),1) -> 6.9
A8: 8 | B8: 16 | C8: 0016 乳卵類 | D8: 133 | E8: 100 | F8: 94.5 | G8: 94.7 | H8: 97.9 | I8: 98.2 | J8: 98.9 | K8: 108.4 | L8: 99.3 | M8: 103.3 | N8: 103.5 | O8: 104.3 | P8: 102.8 | Q8: 103.7 | R8: 105.5 | S8: 105.8 | T8: 106.4 | U8: 106.6 | V8: 106.6 | W8: 108.4 | X8: 107.9 | Y8: 109.8 | Z8: 109.1 | AB8: =ROUND(MAX(F8:Z8)-MIN(F8:Z8),1) -> 15.3
A9: 9 | B9: 21 | C9: 0021 野菜・海藻 | D9: 282 | E9: 100 | F9: 110.6 | G9: 102.6 | H9: 101 | I9: 94.7 | J9: 90.3 | K9: 100.4 | L9: 93.8 | M9: 99.2 | N9: 105 | O9: 106.3 | P9: 103 | Q9: 101.1 | R9: 100.8 | S9: 97.9 | T9: 95.3 | U9: 96.6 | V9: 99.9 | W9: 100.4 | X9: 107.8 | Y9: 111.8 | Z9: 109.6 | AB9: =ROUND(MAX(F9:Z9)-MIN(F9:Z9),1) -> 21.5
A10: 10 | B10: 22 | C10: 0022 生鮮野菜 | D10: 186 | E10: 100 | F10: 117.6 | G10: 104.7 | H10: 102.2 | I10: 92.2 | J10: 85.2 | K10: 95.1 | L10: 91.4 | M10: 98.7 | N10: 107.9 | O10: 109 | P10: 103.6 | Q10: 99.4 | R10: 97.7 | S10: 93.8 | T10: 89.4 | U10: 90.9 | V10: 95.2 | W10: 95.1 | X10: 104.7 | Y10: 110.8 | Z10: 107 | AB10: =ROUND(MAX(F10:Z10)-MIN(F10:Z10),1) -> 32.4
A11: 11 | B11: 27 | C11: 0027 果物 | D11: 93 | E11: 100 | F11: 116.1 | G11: 111.2 | H11: 102.4 | I11: 96.1 | J11: 99.4 | K11: 97.3 | L11: 99.7 | M11: 105 | N11: 98.2 | O11: 93.1 | P11: 89 | Q11: 90.7 | R11: 95.6 | S11: 93.9 | T11: 92.6 | U11: 89.1 | V11: 97.6 | W11: 97.3 | X11: 100.3 | Y11: 107.9 | Z11: 97.9 | AB11: =ROUND(MAX(F11:Z11)-MIN(F11:Z11),1) -> 27.1
A12: 12 | B12: 28 | C12: 0028 生鮮果物 | D12: 83 | E12: 100 | F12: 117.8 | G12: 112.5 | H12: 102.7 | I12: 95.8 | J12: 99.3 | K12: 97 | L12: 99.9 | M12: 105.2 | N12: 98.2 | O12: 92.2 | P12: 87.7 | Q12: 89.6 | R12: 95 | S12: 93.3 | T12: 91.9 | U12: 88 | V12: 97.4 | W12: 97 | X12: 100.4 | Y12: 108.5 | Z12: 97.1 | AB12: =ROUND(MAX(F12:Z12)-MIN(F12:Z12),1) -> 30.1
A13: 13 | B13: 30 | C13: 0030 油脂・調味料 | D13: 129 | E13: 100 | F13: 98.8 | G13: 96.4 | H13: 97.1 | I13: 97.5 | J13: 99.4 | K13: 106.7 | L13: 101.1 | M13: 101.3 | N13: 99.9 | O13: 103.2 | P13: 101.5 | Q13: 104.2 | R13: 104.8 | S13: 102.8 | T13: 103.7 | U13: 102.4 | V13: 105.9 | W13: 106.7 | X13: 106.8 | Y13: 103.9 | Z13: 107.9 | AB13: =ROUND(MAX(F13:Z13)-MIN(F13:Z13),1) -> 11.5
... A82: 82 | B82: 169 | C82: 0169 情報通信関係費 | D82: 455 | E82: 100 | F82: 96.6 | G82: 96.6 | H82: 96.6 | I82: 96.6 | J82: 96.6 | K82: 104.7 | L82: 101.7 | M82: 102.3 | N82: 102.3 | O82: 103.1 | P82: 103.1 | Q82: 103.1 | R82: 103.1 | S82: 103.1 | T82: 103.1 | U82: 103.2 | V82: 103.2 | W82: 104.7 | X82: 104.7 | Y82: 103.5 | Z82: 103.5 | AB82: =ROUND(MAX(F82:Z82)-MIN(F82:Z82),1) -> 8.1

Sheet 前年同月比
A1: 1 | B1: 類番号 | C1: 2025年基準品目 | D1: ウエイト | E1: 2025年平均 | F1: 2025.1 | G1: 2025.2 | H1: 2025.3 | I1: 2025.4 | J1: 2025.5 | K1: 2025.6 | L1: 2025.7 | M1: 2025.8 | N1: 2025.9 | O1: 2025.10 | P1: 2025.11 | Q1: 2025.12 | R1: 2026.1 | S1: 2026.2 | T1: 2026.3 | U1: 2026.4 | V1: 2026.5 | W1: 2026.6 | X1: 2026.7 | Y1: 2026.8 | Z1: 2026.9
A2: 2 | B2: 1 | C2: 0001 総合 | D2: 10000 | E2: 100 | F2: 4.6 | G2: 4.2 | H2: 4.2 | I2: 3.6 | J2: 3.4 | K2: 3.4 | L2: 3.3 | M2: 2.8 | N2: 3 | O2: 3 | P2: 2.8 | Q2: 2 | R2: 1.4 | S2: 1.3 | T2: 1.1 | U2: 1.4 | V2: 1.5 | W2: 1.6 | X2: 1.9 | Y2: 1.4 | Z2: 1.3
A3: 3 | B3: 2 | C3: 0002 食料 | D3: 2898 | E3: 100 | F3: 9.9 | G3: 9.2 | H3: 8.7 | I3: 8.4 | J3: 7.2 | K3: 8.8 | L3: 8.5 | M3: 7.7 | N3: 7.3 | O3: 6.6 | P3: 5.7 | Q3: 5 | R3: 3.3 | S3: 4.4 | T3: 3.4 | U3: 2.6 | V3: 3.1 | W3: 2.8 | X3: 3.3 | Y3: 2.8 | Z3: 2.3
A4: 4 | B4: 3 | C4: 0003 穀類 | D4: 259 | E4: 100 | F4: 27.8 | G4: 30.8 | H4: 36.4 | I4: 35.2 | J4: 31.9 | K4: 32 | L4: 27.2 | M4: 20.3 | N4: 19.1 | O4: 16.6 | P4: 12.3 | Q4: 11.8 | R4: 12.2 | S4: 11.5 | T4: 4.4 | U4: 0.4 | V4: -0.5 | W4: -0.9 | X4: 0.5 | Y4: -1.4 | Z4: -4.7
A5: 5 | B5: 8 | C5: 0008 魚介類 | D5: 162 | E5: 100 | F5: 4.9 | G5: 4.9 | H5: 3.4 | I5: 6.6 | J5: 2.8 | K5: 4 | L5: 3.4 | M5: 1.8 | N5: 1.9 | O5: 2.3 | P5: 3.7 | Q5: 4 | R5: 4.7 | S5: 4 | T5: 4.7 | U5: 2.7 | V5: 3.1 | W5: 4.3 | X5: 1.6 | Y5: 3.6 | Z5: 5.9
A6: 6 | B6: 9 | C6: 0009 生鮮魚介 | D6: 91 | E6: 100 | F6: 6.6 | G6: 6.9 | H6: 4.9 | I6: 9.1 | J6: 1.7 | K6: 4 | L6: 5.2 | M6: 1 | N6: 0.7 | O6: 0.9 | P6: 3.3 | Q6: 5.4 | R6: 6.9 | S6: 5.9 | T6: 7.2 | U6: 3.9 | V6: 7.7 | W6: 6.2 | X6: 3.5 | Y6: 8.4 | Z6: 10.4
A7: 7 | B7: 13 | C7: 0013 肉類 | D7: 282 | E7: 100 | F7: 6 | G7: 5.1 | H7: 7.5 | I7: 11.3 | J7: 7.5 | K7: 10.7 | L7: 10.2 | M7: 10.6 | N7: 10.1 | O7: 5.9 | P7: 4.1 | Q7: 3.6 | R7: 2.2 | S7: 4.7 | T7: 0.6 | U7: 1.5 | V7: 1.1 | W7: -2.7 | X7: -0.9 | Y7: 0.2 | Z7: -0.1
A8: 8 | B8: 16 | C8: 0016 乳卵類 | D8: 133 | E8: 100 | F8: -1.5 | G8: -2.2 | H8: 2 | I8: 3.4 | J8: 6 | K8: 5.4 | L8: 7.6 | M8: 11.5 | N8: 11.9 | O8: 12.5 | P8: 10.6 | Q8: 12 | R8: 11.7 | S8: 11.8 | T8: 8.6 | U8: 8.6 | V8: 7.7 | W8: 9.6 | X8: 8.7 | Y8: 6.4 | Z8: 5.4
A9: 9 | B9: 21 | C9: 0021 野菜・海藻 | D9: 282 | E9: 100 | F9: 29.5 | G9: 24.4 | H9: 18.2 | I9: 1.8 | J9: -5.9 | K9: 3.9 | L9: 2.6 | M9: -0.6 | N9: 1.1 | O9: 4.2 | P9: 1.5 | Q9: -4.8 | R9: -8.8 | S9: -4.5 | T9: -5.7 | U9: 2.1 | V9: 10.7 | W9: 8.7 | X9: 14.9 | Y9: 12.7 | Z9: 4.4
A10: 10 | B10: 22 | C10: 0022 生鮮野菜 | D10: 186 | E10: 100 | F10: 41.4 | G10: 33.1 | H10: 22.8 | I10: -3.2 | J10: -13.7 | K10: 1.2 | L10: 0.5 | M10: -4.1 | N10: -1.3 | O10: 2.6 | P10: -1.3 | Q10: -11.1 | R10: -16.9 | S10: -10.4 | T10: -12.5 | U10: -1.5 | V10: 11.8 | W10: 7.8 | X10: 14.6 | Y10: 12.3 | Z10: -0.8
A11: 11 | B11: 27 | C11: 0027 果物 | D11: 93 | E11: 100 | F11: 26.1 | G11: 21.8 | H11: 5.4 | I11: 3.7 | J11: 0 | K11: 1.7 | L11: 3.1 | M11: 3.3 | N11: 6.3 | O11: -0.5 | P11: -12.2 | Q11: -10.8 | R11: -17.7 | S11: -15.6 | T11: -9.5 | U11: -7.3 | V11: -1.8 | W11: -1.7 | X11: 0.6 | Y11: 2.7 | Z11: -0.4
A12: 12 | B12: 28 | C12: 0028 生鮮果物 | D12: 83 | E12: 100 | F12: 27.9 | G12: 23.4 | H12: 5.6 | I12: 3.8 | J12: -0.3 | K12: 1.7 | L12: 3.2 | M12: 3.1 | N12: 6.8 | O12: -0.8 | P12: -13.2 | Q12: -11.7 | R12: -19.4 | S12: -17 | T12: -10.6 | U12: -8.2 | V12: -1.9 | W12: -2 | X12: 0.5 | Y12: 3.1 | Z12: -1.2
A13: 13 | B13: 30 | C13: 0030 油脂・調味料 | D13: 129 | E13: 100 | F13: 8.8 | G13: 2 | H13: 2.2 | I13: 2.6 | J13: 5.7 | K13: 6.1 | L13: 6.4 | M13: 6.8 | N13: 7.4 | O13: 10.2 | P13: 7.9 | Q13: 10 | R13: 6 | S13: 6.6 | T13: 6.9 | U13: 5.1 | V13: 6.6 | W13: 7 | X13: 5.6 | Y13: 2.6 | Z13: 8.1
... A82: 82 | B82: 169 | C82: 0169 情報通信関係費 | D82: 455 | E82: 100 | F82: 1.5 | G82: 1.5 | H82: 1.5 | I82: 1.5 | J82: 1.5 | K82: 5.8 | L82: 5.9 | M82: 6.6 | N82: 6.6 | O82: 7.2 | P82: 7.2 | Q82: 5.5 | R82: 6.7 | S82: 6.7 | T82: 6.8 | U82: 6.8 | V82: 6.8 | W82: 3 | X82: 3 | Y82: 1.1 | Z82: 1.2

Sheet 年平均
A1: 1 | B1: 類番号 | C1: 2025年基準品目 | D1: ウエイト | E1: 2025年平均 | F1: 2025年度平均
A2: 2 | B2: 1 | C2: 0001 総合 | D2: 10000 | E2: 100 | F2: 100.3
A3: 3 | B3: 2 | C3: 0002 食料 | D3: 2898 | E3: 100 | F3: 100.9
A4: 4 | B4: 3 | C4: 0003 穀類 | D4: 259 | E4: 100 | F4: 102.2
A5: 5 | B5: 8 | C5: 0008 魚介類 | D5: 162 | E5: 100 | F5: 101.1
A6: 6 | B6: 9 | C6: 0009 生鮮魚介 | D6: 91 | E6: 100 | F6: 101.7
A7: 7 | B7: 13 | C7: 0013 肉類 | D7: 282 | E7: 100 | F7: 100.6
A8: 8 | B8: 16 | C8: 0016 乳卵類 | D8: 133 | E8: 100 | F8: 102.6
A9: 9 | B9: 21 | C9: 0021 野菜・海藻 | D9: 282 | E9: 100 | F9: 98.3
A10: 10 | B10: 22 | C10: 0022 生鮮野菜 | D10: 186 | E10: 100 | F10: 96.4
A11: 11 | B11: 27 | C11: 0027 果物 | D11: 93 | E11: 100 | F11: 96
A12: 12 | B12: 28 | C12: 0028 生鮮果物 | D12: 83 | E12: 100 | F12: 95.6
A13: 13 | B13: 30 | C13: 0030 油脂・調味料 | D13: 129 | E13: 100 | F13: 101.6
... A82: 82 | B82: 169 | C82: 0169 情報通信関係費 | D82: 455 | E82: 100 | F82: 101.6

Sheet 中分類ウエイト
A1: 2025年基準消費者物価指数 中分類ウエイト
A2: ※2024年以前の指数(接続指数)の集計に用いた品目・ウエイトについては、各々の基準の「消費者物価指数の解説」等を参照
B3: 市町村符号 | C3: 実数ウエイト | E3: 43100 | F3: １万分比 | H3: 43100
A4: 類符号 | B4: 中 分 類 | C4: 全国 | D4: 九州地方 | E4: 熊本市 | F4: 全国 | G4: 九州地方 | H4: 熊本市
A5: 0001 | B5: 総合 | C5: 3543757090 | D5: 309201302 | E5: 18834660 | F5: 10000 | G5: 10000 | H5: 10000
A6: 0161 | B6: 生鮮食品を除く総合 | C6: 3409504328 | D6: 297350026 | E6: 18156273 | F6: 9621 | G6: 9617 | H6: 9640
A7: 0163 | B7: 持家の帰属家賃を除く総合 | C7: 2964685470 | D7: 264620934 | E7: 16488390 | F7: 8366 | G7: 8558 | H7: 8754
A8: 0166 | B8: 持家の帰属家賃及び生鮮食品を除く総合 | C8: 2830432708 | D8: 252769658 | E8: 15810003 | F8: 7987 | G8: 8175 | H8: 8394
A9: 0178 | B9: 生鮮食品及びエネルギーを除く総合 | C9: 3144158123 | D9: 272858025 | E9: 16720312 | F9: 8872 | G9: 8825 | H9: 8877
A10: 0168 | B10: 食料（酒類を除く）及びエネルギーを除く総合 | C10: 2341950403 | D10: 200303082 | E10: 12160375 | F10: 6609 | G10: 6478 | H10: 6456
A11: 0002 | B11: 食料 | C11: 975803165 | D11: 88133570 | E11: 5458355 | F11: 2754 | G11: 2850 | H11: 2898
A12: 0157 | B12: 生鮮食品 | C12: 134252762 | D12: 11851276 | E12: 678387 | F12: 379 | G12: 383 | H12: 360
A13: 0172 | B13: 生鮮食品を除く食料 | C13: 841550403 | D13: 76282294 | E13: 4779968 | F13: 2375 | G13: 2467 | H13: 2538
A14: 0003 | B14: 穀類 | C14: 89417743 | D14: 8439105 | E14: 487785 | F14: 252 | G14: 273 | H14: 259
A15: 0008 | B15: 魚介類 | C15: 63331028 | D15: 5658912 | E15: 305405 | F15: 179 | G15: 183 | H15: 162
A16: 0158 | B16: （うち）生鮮魚介 | C16: 34438066 | D16: 3161146 | E16: 170839 | F16: 97 | G16: 102 | H16: 91
... A82: 0169 | B82: （別掲）情報通信関係費 | C82: 151648778 | D82: 14162465 | E82: 857322 | F82: 428 | G82: 458 | H82: 455
